Workbook

Sheet HARCAMA BİRİMLERİ ÖMK LİSTELERİ
D2: HARCAMA BİRİMLERİ ÖN MALİ KONTROL LİSTESİ
B6: EK NO
B7: 1 | C7: =HYPERLINK("#'EK-1'!A1","Memur Maaş Ödemeleri Ön Mali Kontrol Listesi") -> Memur Maaş Ödemeleri Ön Mali Kontrol Listesi
B8: 2 | C8: =HYPERLINK("#'EK-2'!A1","Sözleşmeli Personel Maaş Ödemeleri Ön Mali Kontrol Listesi") -> Sözleşmeli Personel Maaş Ödemeleri Ön Mali Kontrol Listesi
B9: 3 | C9: =HYPERLINK("#'EK-3'!A1","Sürekli İşçi Maaş Ödemelerine İlişkin Ön Mali Kontrol Listesi") -> Sürekli İşçi Maaş Ödemelerine İlişkin Ön Mali Kontrol Listesi
B10: 4 | C10: =HYPERLINK("#'EK-4'!A1","Kadrolu ve Sözleşmeli Personel Fark Maaş Ödemelerine İlişkin Ön Mali Kontrol Listesi") -> Kadrolu ve Sözleşmeli Personel Fark Maaş Ödemelerine İlişkin Ön Mali Kontrol Listesi
B11: 5 | C11: =HYPERLINK("#'EK-5'!A1","Yabancı Uyruklu Personel Maaş Ödemelerine İlişkin Ön Mali Kontrol Listesi") -> Yabancı Uyruklu Personel Maaş Ödemelerine İlişkin Ön Mali Kontrol Listesi
B12: 6 | C12: =HYPERLINK("#'EK-6'!A1","İntörn Öğrenci Maaş Ödemelerine İlişkin Ön Mali Kontrol Listesi") -> İntörn Öğrenci Maaş Ödemelerine İlişkin Ön Mali Kontrol Listesi
B13: 7 | C13: =HYPERLINK("#'EK-7'!A1","Kısmi Zamanlı Öğrenci Ödemelerine İlişkin Ön Mali Kontrol Listesi") -> Kısmi Zamanlı Öğrenci Ödemelerine İlişkin Ön Mali Kontrol Listesi
B14: 8 | C14: =HYPERLINK("#'EK-8'!A1","İŞKUR Gençlik Programı Ödemelerine İlişkin Ön Mali Kontrol Listesi") -> İŞKUR Gençlik Programı Ödemelerine İlişkin Ön Mali Kontrol Listesi
B15: 9 | C15: =HYPERLINK("#'EK-9'!A1","Geriye Dönük Maaş Fark Ödemelerine İlişkin Ön Mali Kontrol Listesi") -> Geriye Dönük Maaş Fark Ödemelerine İlişkin Ön Mali Kontrol Listesi
B16: 10 | C16: =HYPERLINK("#'EK-10'!A1","Ek Karşılık Ödemelerine İlişkin Ön Mali Kontrol Listesi") -> Ek Karşılık Ödemelerine İlişkin Ön Mali Kontrol Listesi
B17: 11 | C17: =HYPERLINK("#'EK-11'!A1","Ölüm Yardımı Ödemelerine İlişkin Ön Mali Kontrol Listesi") -> Ölüm Yardımı Ödemelerine İlişkin Ön Mali Kontrol Listesi
B18: 12 | C18: =HYPERLINK("#'EK-12'!A1","Giyecek Yardımı Ödemelerine İlişkin Ön Mali Kontrol Listesi") -> Giyecek Yardımı Ödemelerine İlişkin Ön Mali Kontrol Listesi
B19: 13 | C19: =HYPERLINK("#'EK-13'!A1","Fazla Çalışma Ödemelerine İlişkin Ön Mali Kontrol Listesi") -> Fazla Çalışma Ödemelerine İlişkin Ön Mali Kontrol Listesi
B20: 14 | C20: =HYPERLINK("#'EK-14'!A1","Kıdem Tazminatı Ödemelerine İlişkin Ön Mali Kontrol Listesi") -> Kıdem Tazminatı Ödemelerine İlişkin Ön Mali Kontrol Listesi
B21: 15 | C21: =HYPERLINK("#'EK-15'!A1","Vekalet Ödemelerine İlişkin Ön Mali Kontrol Listesi") -> Vekalet Ödemelerine İlişkin Ön Mali Kontrol Listesi
B22: 16 | C22: =HYPERLINK("#'EK-16'!A1","Aylıklarla Birlikte Ödenmeyen Personel Ödemeleri Ön Mali Kontrol Listesi ") -> Aylıklarla Birlikte Ödenmeyen Personel Ödemeleri Ön Mali Kontrol Listesi
B23: 17 | C23: =HYPERLINK("#'EK-17'!A1","Ek Ders Ödemelerine İlişkin Ön Mali Kontrol Listesi") -> Ek Ders Ödemelerine İlişkin Ön Mali Kontrol Listesi
B24: 18 | C24: =HYPERLINK("#'EK-18'!A1","Final Sınav Ödemesi Ön Mali Kontrol Listesi") -> Final Sınav Ödemesi Ön Mali Kontrol Listesi
B25: 19 | C25: =HYPERLINK("#'EK-19'!A1","Ek Ders Unvan Farkı Ödemelerine İlişkin Ön Mali Kontrol Listesi ") -> Ek Ders Unvan Farkı Ödemelerine İlişkin Ön Mali Kontrol Listesi
B26: 20 | C26: =HYPERLINK("#'EK-20'!A1","Uzaktan Öğretim Ek Ders Ödemelerine İlişkin Ön Mali Kontrol Listesi") -> Uzaktan Öğretim Ek Ders Ödemelerine İlişkin Ön Mali Kontrol Listesi
B27: 21 | C27: =HYPERLINK("#'EK-21'!A1","İhale İle Yapılan Mal Alımlarının İlk Hakediş Ödemelerine İişkin Ön Mali Kontrol Listesi") -> İhale İle Yapılan Mal Alımlarının İlk Hakediş Ödemelerine İişkin Ön Mali Kontrol Listesi
B28: 22 | C28: =HYPERLINK("#'EK-22'!A1","İhale İle Yapılan Hizmet Alımlarının İlk Hakediş Ödemelerine İlişkin Ön Mali Kontrol Listesi") -> İhale İle Yapılan Hizmet Alımlarının İlk Hakediş Ödemelerine İlişkin Ön Mali Kontrol Listesi
B29: 23 | C29: =HYPERLINK("#'EK-23'!A1","İhale ile Yapılan Yapım İşlerinin İlk Hakediş Ödemelerine İlişkin Ön Mali Kontrol Listesi") -> İhale ile Yapılan Yapım İşlerinin İlk Hakediş Ödemelerine İlişkin Ön Mali Kontrol Listesi
B30: 24 | C30: =HYPERLINK("#'EK-24'!A1","İhale ile Yapılan Elektrik Ödemelerine İlişkin Ön Mali Kontrol Listesi") -> İhale ile Yapılan Elektrik Ödemelerine İlişkin Ön Mali Kontrol Listesi
B31: 25 | C31: =HYPERLINK("#'EK-25'!A1","Hizmet Alımı Hakediş Ödemelerine İlişkin Ön Mali Kontrol Listesi") -> Hizmet Alımı Hakediş Ödemelerine İlişkin Ön Mali Kontrol Listesi
B32: 26 | C32: =HYPERLINK("#'EK-26'!A1","Yapım İşleri Hakediş Ödemelerine İlişkin Ön Mali Kontrol Listesi") -> Yapım İşleri Hakediş Ödemelerine İlişkin Ön Mali Kontrol Listesi
B33: 27 | C33: =HYPERLINK("#'EK-27'!A1","4734 Sayılı Kanun 22/d Maddesi Geeğeince Yapılacak Yapım İşleri Ödemelerine İlişkin Ön Mali Kontrol Listesi") -> 4734 Sayılı Kanun 22/d Maddesi Geeğeince Yapılacak Yapım İşleri Ödemelerine İlişkin Ön Mali Kontrol Listesi
B34: 28 | C34: =HYPERLINK("#'EK-28'!A1","4734 Sayılı Kanun 22/d Kapsamında Yapılacak Hizmet Alımlarına İlişkin Ön Mali Kontrol Listesi") -> 4734 Sayılı Kanun 22/d Kapsamında Yapılacak Hizmet Alımlarına İlişkin Ön Mali Kontrol Listesi
B35: 29 | C35: =HYPERLINK("#'EK-29'!A1","4734 Sayılı Kanun 22/d Kapsamında Yapılacak Mal Alımlarına İlişkin Ön Mali Kontrol Listesi") -> 4734 Sayılı Kanun 22/d Kapsamında Yapılacak Mal Alımlarına İlişkin Ön Mali Kontrol Listesi
B36: 30 | C36: =HYPERLINK("#'EK-30'!A1","4734 Sayılı Kanun 22/a Maddesi Kapsamında Yapılacak Alımlara İlişkin Ön Mali Kontrol Listesi") -> 4734 Sayılı Kanun 22/a Maddesi Kapsamında Yapılacak Alımlara İlişkin Ön Mali Kontrol Listesi
B37: 31 | C37: =HYPERLINK("#'EK-31'!A1","4734 Sayılı Kanun 22/b Maddesi Kapsamında Yapılacak Alımlara İlişkin Ön Mali Kontrol Listesi") -> 4734 Sayılı Kanun 22/b Maddesi Kapsamında Yapılacak Alımlara İlişkin Ön Mali Kontrol Listesi
B38: 32 | C38: =HYPERLINK("#'EK-32'!A1","4734 Sayılı Kanun 22/c Maddesi Kapsamında Yapılacak Alımlara İlişkin Ön Mali Kontrol Listesi") -> 4734 Sayılı Kanun 22/c Maddesi Kapsamında Yapılacak Alımlara İlişkin Ön Mali Kontrol Listesi
B39: 33 | C39: =HYPERLINK("#'EK-33'!A1","4734 Sayılı Kanun 3.Madde Kapsamında DMO Üzerinden Yapılacak Akaryakıt Alımlarına İlişkin Ön Mali Kontrol Listesi") -> 4734 Sayılı Kanun 3.Madde Kapsamında DMO Üzerinden Yapılacak Akaryakıt Alımlarına İlişkin Ön Mali Kontrol Listesi
B40: 34 | C40: =HYPERLINK("#'EK-34'!A1","Yurt İçi Geçici Görev Yolluğu Ödemelerine İlişkin Ön Mali Kontrol Listesi") -> Yurt İçi Geçici Görev Yolluğu Ödemelerine İlişkin Ön Mali Kontrol Listesi
B41: 35 | C41: =HYPERLINK("#'EK-35'!A1","Yurt İçi Sürekli Görev Yolluğu Ödemelerine İlişkin Ön Mali Kontrol Listesi") -> Yurt İçi Sürekli Görev Yolluğu Ödemelerine İlişkin Ön Mali Kontrol Listesi
B42: 36 | C42: =HYPERLINK("#'EK-36'!A1","Yurt Dışı Geçici Görev Yolluğu Ödemelerine İlişkin Ön Mali Kontrol Listesi") -> Yurt Dışı Geçici Görev Yolluğu Ödemelerine İlişkin Ön Mali Kontrol Listesi
B43: 37 | C43: =HYPERLINK("#'EK-37'!A1","Emekli Yolluğu Ödemelerine İlişkin Ön Mali Kontrol Listesi") -> Emekli Yolluğu Ödemelerine İlişkin Ön Mali Kontrol Listesi
B44: 38 | C44: =HYPERLINK("#'EK-38'!A1","Telefon-Faks Aboneliği Ödemelerine İlişkin Ön Mali Kontrol Listesi") -> Telefon-Faks Aboneliği Ödemelerine İlişkin Ön Mali Kontrol Listesi
B45: 39 | C45: =HYPERLINK("#'EK-39'!A1","Elektrik Aboneliği Ödemelerine İlişkin Ön Mali Kontrol Listesi") -> Elektrik Aboneliği Ödemelerine İlişkin Ön Mali Kontrol Listesi
B46: 40 | C46: =HYPERLINK("#'EK-40'!A1","Doğal Gaz Aboneliği Ödemelerine İlişkin Ön Mali Kontrol Listesi") -> Doğal Gaz Aboneliği Ödemelerine İlişkin Ön Mali Kontrol Listesi
B47: 41 | C47: =HYPERLINK("#'EK-41'!A1","Su Abonelik Ödemelerine İlişkin Ön Mali Kontrol Listesi") -> Su Abonelik Ödemelerine İlişkin Ön Mali Kontrol Listesi
B48: 42 | C48: =HYPERLINK("#'EK-42'!A1","Avukat Vekalet Ücreti Ödemelerine İlişkin Ön Mali Kontrol Listesi") -> Avukat Vekalet Ücreti Ödemelerine İlişkin Ön Mali Kontrol Listesi
B49: 43 | C49: =HYPERLINK("#'EK-43'!A1","Temsil Ağırlama Giderlerine İlişkin Ön Mali Kontrol Listesi") -> Temsil Ağırlama Giderlerine İlişkin Ön Mali Kontrol Listesi
B50: 44 | C50: =HYPERLINK("#'EK44'!A1","Döner Sermayeden Aktarılan BAP paylarına İlişkin Ön Mali Kontrol Listesi") -> Döner Sermayeden Aktarılan BAP paylarına İlişkin Ön Mali Kontrol Listesi
B51: 45 | C51: =HYPERLINK("#'EK-45'!A1","Jüri Üyeliği Ödemelerine İlişkin Ön Mali Kontrol Listesi") -> Jüri Üyeliği Ödemelerine İlişkin Ön Mali Kontrol Listesi
B52: 46 | C52: =HYPERLINK("#'EK-46'!A1","YÖK Doktora Destek Bursu Ödemelerine İlişkin Ön Mali Kontrol Listesi") -> YÖK Doktora Destek Bursu Ödemelerine İlişkin Ön Mali Kontrol Listesi
B53: 47 | C53: =HYPERLINK("#'EK-47'!A1","YÖK Lisans Destek Bursu Ödemelerine İlişkin Ön Mali Kontrol Listesi") -> YÖK Lisans Destek Bursu Ödemelerine İlişkin Ön Mali Kontrol Listesi
B54: 48 | C54: =HYPERLINK("#'EK-48'!A1","Ret ve İade İşlemlerine İlişkin Ön Mali Kontrol Listesi") -> Ret ve İade İşlemlerine İlişkin Ön Mali Kontrol Listesi
B55: 49 | C55: =HYPERLINK("#'EK-49'!A1","Emanetlerden Yapılan İadelere İlişkin Ön Mali Kontrol Listesi") -> Emanetlerden Yapılan İadelere İlişkin Ön Mali Kontrol Listesi
B56: 50 | C56: =HYPERLINK("#'EK-50'!A1","Basın İlan Giderleri Ödemesine İlişkin Ön Mali Kontrol Listesi") -> Basın İlan Giderleri Ödemesine İlişkin Ön Mali Kontrol Listesi
B57: 51 | C57: =HYPERLINK("#'EK-51'!A1","Spor Organizasyonları Hakem-Sağlık Personeli Ücret Ödemelerine İlişkin Ön Mali Kontrol Listesi") -> Spor Organizasyonları Hakem-Sağlık Personeli Ücret Ödemelerine İlişkin Ön Mali Kontrol Listesi
B58: 52 | C58: =HYPERLINK("#'EK-52'!A1","Mahkeme ve Harç Giderleri Avans Açma ve Kapama Ön Mali Kontrol Listesi") -> Mahkeme ve Harç Giderleri Avans Açma ve Kapama Ön Mali Kontrol Listesi
B59: 53 | C59: =HYPERLINK("#'EK-53'!A1","İş Avansı ve Kredi Ön Ödemesine İlişkin Ön Mali Kontrol Listesi") -> İş Avansı ve Kredi Ön Ödemesine İlişkin Ön Mali Kontrol Listesi
B60: 54 | C60: =HYPERLINK("#'EK-54'!A1","İş Avans ve Kredi Kapatma Ödemelerine İlişkin Ön Mali Kontrol Listesi") -> İş Avans ve Kredi Kapatma Ödemelerine İlişkin Ön Mali Kontrol Listesi
B61: 55 | C61: =HYPERLINK("#'EK-55'!A1","Yolluk Avansı Ön Ödemelere İlişkin Ön Mali Kontrol Listesi") -> Yolluk Avansı Ön Ödemelere İlişkin Ön Mali Kontrol Listesi
B62: 56 | C62: =HYPERLINK("#'EK-56'!A1","Yolluk Avansı Kapatma Ödemelerine İlişkin Ön Mali Kontrol Listesi") -> Yolluk Avansı Kapatma Ödemelerine İlişkin Ön Mali Kontrol Listesi
B63: 57 | C63: =HYPERLINK("#'EK-57'!A1","BAP/TÜBİTAK/TÜSEB Burs Ödemesine İlişkin Ön Mali Kontrol Listesi") -> BAP/TÜBİTAK/TÜSEB Burs Ödemesine İlişkin Ön Mali Kontrol Listesi
B64: 58 | C64: =HYPERLINK("#'EK-58'!A1","TÜBİTAK/TÜSEB PTİ Ödeme İşlemlerine İlişkin Ön Mali Kontrol Listesi") -> TÜBİTAK/TÜSEB PTİ Ödeme İşlemlerine İlişkin Ön Mali Kontrol Listesi
B65: 59 | C65: =HYPERLINK("#'EK-59'!A1","AB Projeleri Kapsamında Çalışanlara Yapılacak Ödemelere İlişkin Ön Mali Kontrol Listesi") -> AB Projeleri Kapsamında Çalışanlara Yapılacak Ödemelere İlişkin Ön Mali Kontrol Listesi
B66: 60 | C66: =HYPERLINK("#'EK-60'!A1","AB Projeleri Ortaklara Pay Aktarımı Ödemelere İlişkin Ön Mali Kontrol Listesi") -> AB Projeleri Ortaklara Pay Aktarımı Ödemelere İlişkin Ön Mali Kontrol Listesi
B67: 61 | C67: =HYPERLINK("#'EK-61'!A1","BAP/AB/TÜBİTAK/TÜSEB Doğrudan Temin Alımlarına İlişkin(4734 sayılı Kamu İhale Kanunu'nun 3/f maddesi)") -> BAP/AB/TÜBİTAK/TÜSEB Doğrudan Temin Alımlarına İlişkin(4734 sayılı Kamu İhale Kanunu'nun 3/f maddesi)
B68: 62 | C68: =HYPERLINK("#'EK-62'!A1","BAP/AB/TÜBİTAK/TÜSEB Doğrudan Temin (22-a-b-c) Ön Mali Kontrol Listesi (4734 sayılı Kamu İhale Kanunu'nun 3/f maddesi) ") -> BAP/AB/TÜBİTAK/TÜSEB Doğrudan Temin (22-a-b-c) Ön Mali Kontrol Listesi (4734 sayılı Kamu İhale Kanunu'nun 3/f maddesi)
B69: 63 | C69: =HYPERLINK("#'EK-63'!A1","BAP/AB/TÜBİTAK/TÜSEB Doğrudan Temin (22-a-b-c) Ön Mali Kontrol Listesi (4734 sayılı Kamu İhale Kanunu'nun 3/f maddesi) ") -> BAP/AB/TÜBİTAK/TÜSEB Doğrudan Temin (22-a-b-c) Ön Mali Kontrol Listesi (4734 sayılı Kamu İhale Kanunu'nun 3/f maddesi)
B70: 64 | C70: =HYPERLINK("#'EK-64'!A1","BAP/AB/TÜBİTAK/TÜSEB/ERASMUS Avans Kapama Ödemelerine İlişkin Ön Mali Kontrol Listesi") -> BAP/AB/TÜBİTAK/TÜSEB/ERASMUS Avans Kapama Ödemelerine İlişkin Ön Mali Kontrol Listesi
B71: 65 | C71: =HYPERLINK("#'EK-65'!A1","Erasmus Hibe İşlemlerine İlişkin Ön Mali Kontrol Listesi") -> Erasmus Hibe İşlemlerine İlişkin Ön Mali Kontrol Listesi
B72: 66 | C72: =HYPERLINK("#'EK-66'!A1","Erasmus Vize ve Sigorta Hibe Desteğine İlişkin Ön Mali Kontrol Listesi") -> Erasmus Vize ve Sigorta Hibe Desteğine İlişkin Ön Mali Kontrol Listesi
B73: 67 | C73: =HYPERLINK("#'EK-67'!A1","Erasmus %20/30'luk Ödemelere İlişkin Ön Mali Kontrol Listesi") -> Erasmus %20/30'luk Ödemelere İlişkin Ön Mali Kontrol Listesi
B74: 68 | C74: =HYPERLINK("#'EK-68'!A1","4734 Sayılı Kamu İhale Kanununun 3 Üncü Maddesinin (E) Bendine Göre Alımlar Ön Mali Kontrol Listesi") -> 4734 Sayılı Kamu İhale Kanununun 3 Üncü Maddesinin (E) Bendine Göre Alımlar Ön Mali Kontrol Listesi
B75: 69 | C75: =HYPERLINK("#'EK-69'!A1","BAP Yurt İçi Geçici Görev Yolluğu Ödemelerine İlişkin Ön Mali Kontrol Listesi") -> BAP Yurt İçi Geçici Görev Yolluğu Ödemelerine İlişkin Ön Mali Kontrol Listesi
B76: 70 | C76: =HYPERLINK("#'EK-70'!A1","BAP Yurt Dışı Geçici Görev Yolluğu Ödemelerine İlişkin Ön Mali Kontrol Listesi") -> BAP Yurt Dışı Geçici Görev Yolluğu Ödemelerine İlişkin Ön Mali Kontrol Listesi
B77: 71 | C77: =HYPERLINK("#'EK-71'!A1","Resmî Kurumlara Ödenen Transfer Ödemeleri") -> Resmî Kurumlara Ödenen Transfer Ödemeleri
B78: 72 | C78: =HYPERLINK("#'EK-72'!A1","Geçici Teminat İadesine İlişkin Ön Mali Kontrol Listesi") -> Geçici Teminat İadesine İlişkin Ön Mali Kontrol Listesi
B79: 73 | C79: =HYPERLINK("#'EK-73'!A1","Kesin Teminat İadesine İlişkin Ön Mali Kontrol Listesi") -> Kesin Teminat İadesine İlişkin Ön Mali Kontrol Listesi
B80: 74 | C80: =HYPERLINK("#'EK-74'!A1","Yurtdışı sürekli görev yolluğu Ön Mali Kontrol Listesi") -> Yurtdışı sürekli görev yolluğu Ön Mali Kontrol Listesi
B81: 75 | C81: =HYPERLINK("#'EK-75'!A1","Stajyer Öğrencilerin SGK Prim Ödemesine İlişkin Ön Mali Kontrol Listesi") -> Stajyer Öğrencilerin SGK Prim Ödemesine İlişkin Ön Mali Kontrol Listesi
B82: 76 | C82: =HYPERLINK("#'EK-76'!A1","3308 Sayılı Mesleki Eğitim Kanununa Göre Aday, Çırak ve Çıraklar ile İşletmelerde Mesleki Eğitim Gören, Staj veya Tamamlayıcı Eğitime Devam Eden Öğrencilere Ödenecek Ücretlere Yönelik Devlet Katkısına İlişkin Ön Mali Kontrol Listesi") -> 3308 Sayılı Mesleki Eğitim Kanununa Göre Aday, Çırak ve Çıraklar ile İşletmelerde Mesleki Eğitim Gören, Staj veya Tamamlayıcı Eğitime Devam Eden Öğrencilere Ödenecek Ücretlere Yönelik Devlet Katkısına İlişkin Ön Mali Kontrol Listesi
B83: 77 | C83: =HYPERLINK("#'EK-77'!A1","Fiili Hizmet Süresi Zammı Bildirimi SGK Prim Ödemesine İlişkin Ön Mali Kontrol Listesi") -> Fiili Hizmet Süresi Zammı Bildirimi SGK Prim Ödemesine İlişkin Ön Mali Kontrol Listesi
B84: 78 | C84: =HYPERLINK("#'EK-78'!A1","Geliştirme Güçlüğü Ödeneği, İdari Görev Ödeneği ve Geriye Dönük Aile ve Çocuk Yardımı vb. Diğer Ödemelere İlişkin Ön Mali Kontrol Listesi") -> Geliştirme Güçlüğü Ödeneği, İdari Görev Ödeneği ve Geriye Dönük Aile ve Çocuk Yardımı vb. Diğer Ödemelere İlişkin Ön Mali Kontrol Listesi

Sheet EK-68
D2: 4734 SAYILI KAMU İHALE KANUNUNUN 3 ÜNCÜ MADDESİNİN (E) BENDİNE GÖRE ALIMLAR ÖN MALİ KONTROL LİSTESİ | M2: Ana Sayfa
B7: EK-68
B8: Bütçe Yılı:
B9: Harcama Birimi:
B10: İşin Adı:
B11: Sıra No | C11: Kontrol Edilecek Bilgi ve Belgeler | J11: Evet | K11: Hayır | L11: Açıklamalar
B12: 1 | C12: Onay belgesi
B13: 2 | C13: Yaklaşık Maliyet Hesap Cetveli (Alımın yapım işi olması durumunda)
B14: 3 | C14: Düzenlenmesi gereken hallerde sözleşme, protokol veya mutat sözleşme
B15: 4 | C15: Yapım işi ve Hizmet alımlarında Hizmet işleri Hakediş Raporu
B16: 5 | C16: Dizi Pusulası
B17: 6 | C17: Ağırlık Oranları Temsil Katsayıları (gerektiğinde)
B18: 6.1 | C18: a) Metraj İcmali (gerektiğinde)
B19: 6.2 | C19: b) Fiyat Farkı Hesap Tablosu (gerektiğinde)
B20: 6.3 | C20: c) İhracat Tespit Tutanağı (gerektiğinde)
B21: 6.4 | C21: d) Yıllara Sari İş İse Yıllık Ödenek Dilimleri
B22: 6.5 | C22: e) Yapılan İşler Listesi
B23: 6.6 | C23: f) Hakediş Özeti
B24: 6.7 | C24: g) Hakediş İcmali
... B35: 12.2 | C35: Yetki devri yapıldığına dair evrak eklendi mi? (Yıllık İzin Formu vb.)
B36: Kamu Ön Mali Kontrol Yönetmeliği'nin 6. maddesi gereğince hazırlanan bu kontrol listesinde yer alan bilgiler tarafımca kontrol edilmiş olup uygunluğu tasdik olunur. | J36: Gerçekleştirme Görevlisi Adı Soyadı Ünvanı İmza

Sheet EK-67
D2: Erasmus %20/30'luk Ödemelere İlişkin Ön Mali Kontrol Listesi | M2: Ana Sayfa
B7: EK-67
B8: Bütçe Yılı:
B9: Harcama Birimi:
B10: İşin Adı:
B11: Sıra No | C11: Kontrol Edilecek Bilgi ve Belgeler | J11: Evet | K11: Hayır | L11: Açıklamalar
B12: 1 | C12: Hibe sözleşmesi mevcut mu ?
B13: 1.1 | C13: Hibe sözleşmesindeki imzalar tam mı?
B14: 2 | C14: Katılım Sertifikası(Sertifika türkçeye çevrilmiş mi?) mevcut mu?
B15: 2.1 | C15: Katılım Sertifikası'nda belirtilen bilgiler(tarih katılımcı adı vs) doğru mu?
B16: 3 | C16: Yurda giriş-çıkış belgesi mevcut mu ?
B17: 4 | C17: Döviz gönderme emri belgesi mevcut mu?
B18: 4.1 | C18: Döviz gönderme emri belgesi'ndeki veriler doğru mu?(İBAN, Banka şube adı vs.)
B19: 5 | C19: Ödeme Emri Belgesi'ndeki imzalar dönem başı bildirilen yetkili çizelgesine uygun mu?
B20: 6 | C20: Ödeme Emri Belgesi, yetki çizelgesinde belirtilmeyen personel tarafından imzalandı ise yetki devri yapılmış mı?
B21: 7 | C21: Yetki devri yapıldığına dair evrak eklendi mi? (Yıllık İzin Formu vb.)
B22: Kamu Ön Mali Kontrol Yönetmeliği'nin 6. maddesi gereğince hazırlanan bu kontrol listesinde yer alan bilgiler tarafımca kontrol edilmiş olup uygunluğu tasdik olunur. | J22: Gerçekleştirme Görevlisi Adı Soyadı Ünvanı İmza

Sheet EK-66
D2: Erasmus Vize ve Sigorta Hibe Desteğine İlişkin Ön Mali Kontrol Listesi | M2: Ana Sayfa
B7: EK-66
B8: Bütçe Yılı:
B9: Harcama Birimi:
B10: İşin Adı:
B11: Sıra No | C11: Kontrol Edilecek Bilgi ve Belgeler | J11: Evet | K11: Hayır | L11: Açıklamalar
B12: 1 | C12: Harcama Talimatı Onay Belgesi mevcut mu?
B13: 1.2 | C13: Harcama talimatının hukuki dayanağı ve gerekçesi mahiyetine (Erasmus El Kitabı) uygun mu?
B14: 1.3 | C14: Gerçekleştirme Usulü mahiyetine uygun mu?
B15: 1.4 | C15: Harcamanın türüne uygun mu?
B16: 2 | C16: Rektörlük oluru mevcut mu?
B17: 3 | C17: Sigorta Poliçesi mevcut mu?
B18: 4 | C18: Vize belgesi mevcut mu?
B19: 5 | C19: Hibe Sözleşmesi eklendi mi? (Yürütücü tarafından onaylanmış Türkçe çevirileri.)
B20: 6 | C20: Döviz gönderme belgesi mevcut mu?
B21: 7 | C21: İlgili tarihte yapılan harcamanın kur bilgisi mevcut mu?
B22: 8 | C22: Ödeme Emri Belgesi'ndeki imzalar dönem başı bildirilen yetkili çizelgesine uygun mu?
B23: 8.1 | C23: Ödeme Emri Belgesi, yetki çizelgesinde belirtilmeyen personel tarafından imzalandı ise yetki devri yapılmış mı?
B24: 8.2 | C24: Yetki devri yapıldığına dair evrak eklendi mi? (Yıllık İzin Formu vb.)
B25: Kamu Ön Mali Kontrol Yönetmeliği'nin 6. maddesi gereğince hazırlanan bu kontrol listesinde yer alan bilgiler tarafımca kontrol edilmiş olup uygunluğu tasdik olunur. | J25: Gerçekleştirme Görevlisi Adı Soyadı Ünvanı İmza

Sheet EK-65
D2: Erasmus Hibe İşlemlerine İlişkin Ön Mali Kontrol Listesi | M2: Ana Sayfa
B7: EK-65
B8: Bütçe Yılı:
B9: Harcama Birimi:
B10: İşin Adı:
B11: Sıra No | C11: Kontrol Edilecek Bilgi ve Belgeler | J11: Evet | K11: Hayır | L11: Açıklamalar
B12: 1 | C12: Döviz hesabının bulunduğu bankanın güncel kur bilgilerini gösterir belge eklenmiş mi?
B13: 1.1 | C13: Güncel kur ile ödeme yapılacak avro cinsinden miktarın çarpımı sonucu tutar doğru mu?
B14: 2 | C14: Ödeme yapılan kişi Akademik kadroda görevli mi?
B15: 3 | C15: Yönetim Kurulu Kararı alınmış mı?
B16: 4 | C16: Rektör Onaylı Görevlendirmesi (kadrolu ise) mevcut mu?
B17: 5 | C17: Hibe ödemesi yapılan personel/öğrenci yurt dışına mı gidiyor?
B18: 6 | C18: Erasmus El Kitabına göre süre ve hibe hesaplamaları başlıklı maddesi gereğince hibe ödemelerinde yurt dışına gidenler için %70/80 oranında ödeme yapılmış mı?
B19: 7 | C19: Yurt Dışına gidenler için Davet Mektubu mevcut mu?
B20: 7.1 | C20: Davet Mektubunun tercümesi yapılıp onaylanmış mı?
B21: 8 | C21: Hibe ödemesi yapılan personel/öğrenci yurt dışından dönüyor mu?
B22: 9 | C22: Erasmus El Kitabına göre süre ve hibe hesaplamaları başlıklı maddesi gereğince hibe ödemelerinde yurt dışından dönenler için %20/30 oranında ödeme yapılmış mı?
B23: 10 | C23: Yurt Dışından dönenler için Katılım sertifikası mevcut mu?
... B32: 16.3 | C32: Yetki devri yapıldığına dair evrak eklendi mi? (Yıllık İzin Formu vb.)
B33: Kamu Ön Mali Kontrol Yönetmeliği'nin 6. maddesi gereğince hazırlanan bu kontrol listesinde yer alan bilgiler tarafımca kontrol edilmiş olup uygunluğu tasdik olunur. | J33: Gerçekleştirme Görevlisi Adı Soyadı Ünvanı İmza

Sheet EK-64
D2: BAP/AB/TÜBİTAK/TÜSEB/ERASMUS Avans Kapama Ödemelerine İlişkin Ön Mali Kontrol Listesi | M2: Ana Sayfa
B7: EK-64
B8: Bütçe Yılı:
B9: Harcama Birimi:
B10: İşin Adı:
B11: Sıra No | C11: Kontrol Edilecek Bilgi ve Belgeler | J11: Evet | K11: Hayır | L11: Açıklamalar
B12: 1 | C12: Avans verilme evrakındaki Harcama Talimatı Onay Belgesi mevcut mu?
B13: 2 | C13: Mahsup /Kesin Hesap Formu mevcut mu ?
B14: 3 | C14: Mal/Hizmet Alımı mı?
B15: 3.1 | C15: Fatura mevcut mu?
B16: 3.2 | C16: Firma/Şahıs/Kurum tarafından kesilen fatura, faturada bulunması gereken şekil şartlarını taşıyor mu?
B17: 3.3 | C17: Faturada yer alan malzemelerin adedi ile birim fiyatlarının çarpımı doğru mu?
B18: 3.4 | C18: e-Arşiv Fatura ise ilgisi tarafından kaşe imza yapılmış mı?
B19: 3.5 | C19: e-Arşiv Fatura ise sorgulamayı yapan kişi tarafından kontrol edilerek kaşe imza yapılmış mı?
B20: 3.6 | C20: Hizmet alımlarına ait faturalarda KDV üzerinden kesilen tevkifat oranı ve tutarı doğru mu?
B21: 3.7 | C21: Muayene Kabul Komisyon Tutanağı mevcut mu?
B22: 3.8 | C22: Muayene Kabul Komisyon Tutanağı Üzerinde yer alan fatura tarihi, numarası, firma adı, onay tarihi ve numarası tutanakta yer alıyor mu?
B23: 3.9 | C23: Piyasa Fiyat Araştırma Tutanağı eklenmiş mi ?
B24: 3.10 | C24: KİK yasaklılık sorgusu yapılarak Teyit Belgesi eklendi mi?
... B37: 10 | C37: Stratejik Plan-Performans Programı-Bütçe-Harcama İlişkilendirme Tablosu mevcut mu? (01.01.2027 tarihi itibarıyla eklenecektir.)
B38: 11 | C38: Ödeme Emri Belgesi'ndeki imzalar bildirilen yetkili çizelgesine uygun mu?
B39: 11.1 | C39: Ödeme Emri Belgesi, yetki çizelgesinde belirtilmeyen personel tarafından imzalandı ise yetki devri yapılmış mı?
B40: 11.2 | C40: Yetki devri yapıldığına dair evrak eklendi mi? (Yıllık İzin Formu vb.)
B41: Kamu Ön Mali Kontrol Yönetmeliği'nin 6. maddesi gereğince hazırlanan bu kontrol listesinde yer alan bilgiler tarafımca kontrol edilmiş olup uygunluğu tasdik olunur. | J41: Gerçekleştirme Görevlisi Adı Soyadı Ünvanı İmza

Sheet EK-63
D2: BAP/AB/TÜBİTAK/TÜSEB/ERASMUS Avans İşlemlerine İlişkin Ön Mali Kontrol Listesi | M2: Ana Sayfa
B7: EK-63
B8: Bütçe Yılı:
B9: Harcama Birimi:
B10: İşin Adı:
B11: Sıra No | C11: Kontrol Edilecek Bilgi ve Belgeler | J11: Evet | K11: Hayır | L11: Açıklamalar
B12: 1 | C12: Harcama Talimatı Onay Belgesi mevcut mu?
B13: 1.1 | C13: Harcama Talimatının hukuki dayanağı ve gerekçesi mahiyetine uygun mu?
B14: 1.2 | C14: Gerçekleştirme usulü mahiyetine uygun mu?
B15: 1.3 | C15: Seçilen Bütçe Tertibi harcamanın türüne uygun mu?
B16: 1.4 | C16: Kullanılabilir Ödenek tutarı yeterli mi?
B17: 2 | C17: Bap birimine talep yazısı yazılmış mı?
B18: 3 | C18: Ön ödeme Talep Formu var mı ?
B19: 4 | C19: Yolluk avansı ise Rektörlük onayı var mı?
B20: 5 | C20: Yolluk avansı ise Birim Yönetim Kurulu Kararı var mı?
B21: 6 | C21: Yolluk avansı ise Kurum Dışı Personel için Görevlendirme Formu var mı?
B22: 7 | C22: Proje sözleşmesi eklenmiş mi?
B23: 8 | C23: Avans tutarı avans çekme limitini aşıyor mu?
B24: 9 | C24: Stratejik Plan-Performans Programı-Bütçe-Harcama İlişkilendirme Tablosu mevcut mu? (01.01.2027 tarihi itibarıyla eklenecektir.)
... B27: 10.2 | C27: Yetki devri yapıldığına dair evrak eklendi mi? (Yıllık İzin Formu vb.)
B28: Kamu Ön Mali Kontrol Yönetmeliği'nin 6. maddesi gereğince hazırlanan bu kontrol listesinde yer alan bilgiler tarafımca kontrol edilmiş olup uygunluğu tasdik olunur. | J28: Gerçekleştirme Görevlisi Adı Soyadı Ünvanı İmza

Sheet EK-62
D2: BAP/AB/TÜBİTAK/TÜSEB Doğrudan Temin (22-a-b-c) Ön Mali Kontrol Listesi (4734 sayılı Kamu İhale Kanunu'nun 3/f maddesi) | M2: Ana Sayfa
B7: EK-62
B8: Bütçe Yılı:
B9: Harcama Birimi:
B10: İşin Adı:
B11: Sıra No | C11: Kontrol Edilecek Bilgi ve Belgeler | J11: Evet | K11: Hayır | L11: Açıklamalar
B12: 1 | C12: Ödenek kontrolü yapıldı mı? Alım proje sözleşmesi hükümlerine uygun mu?
B13: 2 | C13: Parasal limitlere uyulmuş mu?
B14: 3 | C14: Yaklaşık Maliyet Tablosu oluşturulmuş mu? (Zorunlu değil.)
B15: 3.1 | C15: Yaklaşık Maliyet hesaplanırken KDV hariç mi hesaplanmış?
B16: 3.2 | C16: Yaklaşık Maliyet İcmal Tablosu mevcut mu?
B17: 3.3 | C17: Yaklaşık Maliyet hesaplanırken dayanakları mevcut mu?
B18: 4 | C18: Harcama Talimatı Onay Belgesi mevcut mu?
B19: 4.1 | C19: Harcama talimatının hukuki dayanağı ve gerekçesi mahiyetine uygun mu?
B20: 4.2 | C20: Gerçekleştirme Usulü mahiyetine uygun mu?
B21: 4.3 | C21: Seçilen Bütçe Tertibi harcamanın türüne uygun mu?
B22: 4.4 | C22: Doğrudan Temin Tek Kaynak Formu mevcut mu?
B23: ='EK-27'!B26 -> 5 | C23: İlgili formda Yaklaşık Maliyet kısmında tutar belirtilmişse icmal eklenmiş mi?
B24: ='EK-27'!B27 -> 5.1 | C24: İlgili formda Malın/Hizmetin yada yaptırılacak işin teslimat tarihi belirtilmişse Muayene Kabul Komisyon Tarihi ile aynı mı?
B25: ='EK-27'!B28 -> 5.2 | C25: İlgili formda Doğrudan Teminin türünü belirtilen (22-a-b-c) kutucuk işaretlenmiş mi ?
B26: ='EK-27'!B29 -> 5.3 | C26: İlgili formda açıklamalar kısmında alımın neden tek kaynaktan alındığına dair açıklama yapılmış mı?Dayanağı belgeler koyuldu mu?
B27: 6 | C27: Piyasa Fiyat Araştırma Tutanağı eklenmiş mi?(zorunlu değil)
B28: ='EK-27'!B38 -> 8 | C28: Mal veya Hizmet alımına ait sözleşme yapıldı mı?
B29: ='EK-27'!B39 -> 8.1 | C29: Sözleşme üzerinde yer alan bilgiler eksiksiz doldurulmuş mu ?
B30: ='EK-27'!B40 -> 8.2 | C30: Sözleşmenin her sayfası taraflar tarafından paraf, kaşe ve imza yapılmış mı?
B31: ='EK-27'!B41 -> 8.3 | C31: Sözleşmeye Ait Damga Vergisinin yatırıldığına dair Vergi Dairesi Alındısı mevcut mu?
B32: 9 | C32: Muayene Kabul Komisyon Tutanağı Tutanağı mevcut mu?
B33: 9.1 | C33: Muayene Kabul Komisyon Tutanağı üzerinde yer alan fatura tarihi, numarası, firma adı, onay tarihi,numarası ve imzalar tam mı?
B34: 10 | C34: Hizmet alımı ise Hak ediş raporu eklendi mi?
B35: 11 | C35: Fatura mevcut mu?
B36: 11.1 | C36: Firma/Şahıs/Kurum tarafından kesilen fatura, faturada bulunması gereken şekil şartlarını taşıyor mu?
B37: 11.2 | C37: Faturanın muhatabı doğru mu?
B38: 11.3 | C38: Faturada yer alan malzemelerin adedi ile birim fiyatlarının çarpımı doğru mu?
B39: 11.4 | C39: e-Arşiv Faturailgisi tarafından kaşe ve yapılmış mı?
B40: 11.5 | C40: Faturanın notlar kısmına IBAN bilgileri yazılmış mı? IBAN bilgileri yoksa IBAN dilekçesi alındı mı?
B41: 11.6 | C41: e-Arşiv Fatura ise sorgulamayı yapan kişi tarafından kontrol edilerek kaşe ve imza yapılmış mı?
B42: 11.7 | C42: Hizmet alımlarında Fatura üzerinde yer alan hesaplanan KDV üzerinden tevkifat kesildi mi? Tevkifat oranı doğru mu?
B43: 12 | C43: Mal alımlarında;
... B60: 18.2 | C60: Yetki devri yapıldığına dair evrak eklendi mi? (Yıllık İzin Formu vb.)
B61: Kamu Ön Mali Kontrol Yönetmeliği'nin 6. maddesi gereğince hazırlanan bu kontrol listesinde yer alan bilgiler tarafımca kontrol edilmiş olup uygunluğu tasdik olunur. | J61: Gerçekleştirme Görevlisi Adı Soyadı Ünvanı İmza

Sheet EK-61
D2: BAP/AB/TÜBİTAK/TÜSEB Doğrudan Temin Alımlarına İlişkin (4734 sayılı Kamu İhale Kanunu'nun 3/f maddesi) Ön Mali Kontrol Listesi | M2: Ana Sayfa
B7: EK-61
B8: Bütçe Yılı:
B9: Harcama Birimi:
B10: İşin Adı:
B11: Sıra No | C11: Kontrol Edilecek Bilgi ve Belgeler | J11: Evet | K11: Hayır | L11: Açıklamalar
B12: 1 | C12: Ödenek kontrolü yapıldı mı? Alım proje sözleşmesi hükümlerine uygun mu?
B13: 1.1 | C13: Parasal limitlere uyulmuş mu?
B14: 2 | C14: Onay Belgesi var mı?
B15: 3 | C15: Mal/ hizmet istek (ihtiyaç) belgesi var mı?
B16: 4 | C16: Teknik şartname (varsa) var mı?
B17: 5 | C17: Proforma/teklif formları var mı?
B18: 6 | C18: Piyasa fiyat araştırma tutanağı var mı?
B19: 6.1 | C19: Onay belgesinde yer alan görevlilerin imzası var mı?
B20: 6.2 | C20: Onay tarihi ve sayısı doğru girilmiş mi?
B21: 6.3 | C21: Piyasa araştırma tutanağında fiyatlar KDV hariç girilmiş mi?
B22: 6.4 | C22: Piyasa Fiyat Araştırma Tutanağının tarihi, Harcama Talimatı/Onay Belgesi tarihi ile aynı veya sonra mı?
B23: 6.5 | C23: Piyasa Fiyat Araştırma Tutanağının tarihi, teklif tarihinden sonra mı?
... B74: 19 | C74: Varsa ilgili mevzuat/proje sözleşmesi gereği eklenmesi gereken diğer ekler eklenmiş mi?
B75: Kamu Ön Mali Kontrol Yönetmeliği'nin 6. maddesi gereğince hazırlanan bu kontrol listesinde yer alan bilgiler tarafımca kontrol edilmiş olup uygunluğu tasdik olunur. | J75: Gerçekleştirme Görevlisi Adı Soyadı Ünvanı İmza

Sheet EK-60
D2: AB Projeleri Ortaklara Pay Aktarımı Ödemelere İlişkin Ön Mali Kontrol Listesi | M2: Ana Sayfa
B7: EK-60
B8: Bütçe Yılı:
B9: Harcama Birimi:
B10: İşin Adı:
B11: Sıra No | C11: Kontrol Edilecek Bilgi ve Belgeler | J11: Evet | K11: Hayır | L11: Açıklamalar
B12: 1 | C12: Harcama Talimatı mevcut mu?
B13: 2 | C13: Pay aktarım bilgileri tablosu mevcut mu?
B14: 3 | C14: Proje ortağının proje iş paketlerinde yer alan sorumluluğunu yerine getirdiğine ilişkin kanıtlayıcı belgeler mevcut mu?
B15: 4 | C15: Proje sözleşmesi eklendi mi? (Yürütücü tarafından onaylanmış Türkçe çevirileri.)
B16: 4.1 | C16: İç Ortaklık sözleşmesi eklendi mi? (Yürütücü tarafından onaylanmış Türkçe çevirileri.)
B17: 5 | C17: Stratejik Plan-Performans Programı-Bütçe-Harcama İlişkilendirme Tablosu mevcut mu? (01.01.2027 tarihi itibarıyla eklenecektir.)
B18: 6 | C18: Ödeme Emri Belgesi'ndeki imzalar bildirilen yetkili çizelgesine uygun mu?
B19: 6.1 | C19: Ödeme Emri Belgesi, yetki çizelgesinde belirtilmeyen personel tarafından imzalandı ise yetki devri yapılmış mı?
B20: 6.2 | C20: Yetki devri yapıldığına dair evrak eklendi mi? (Yıllık İzin Formu vb.)
B21: Kamu Ön Mali Kontrol Yönetmeliği'nin 6. maddesi gereğince hazırlanan bu kontrol listesinde yer alan bilgiler tarafımca kontrol edilmiş olup uygunluğu tasdik olunur. | J21: Gerçekleştirme Görevlisi Adı Soyadı Ünvanı İmza

Sheet EK-59
D2: AB Projeleri Kapsamında Çalışanlara Yapılacak Ödemelere İlişkin Ön Mali Kontrol Listesi | M2: Ana Sayfa
B7: EK-59
B8: Bütçe Yılı:
B9: Harcama Birimi:
B10: İşin Adı:
B11: Sıra No | C11: Kontrol Edilecek Bilgi ve Belgeler | J11: Evet | K11: Hayır | L11: Açıklamalar
B12: 1 | C12: Harcama Talimatı mevcut mu?
B13: 2 | C13: Zaman Çizelgesi eklendi mi?
B14: 2.1 | C14: Zaman çizelgelerinde belirtilen faaliyetlere ilişkin kanıtlar raporlanmış mı?
B15: 3 | C15: Proje çalışanı görevlendirme yazısı mevcut mu?
B16: 4 | C16: Ödeme alan personel maaş bordrosu eklendi mi?
B17: 4.1 | C17: Gelir vergisi ve damga vergisi kesintileri doğru hesaplanmış mı?
B18: 5 | C18: Proje sözleşmesi eklendi mi? (Yürütücü tarafından onaylanmış Türkçe çevirileri.)
B19: 6 | C19: Stratejik Plan-Performans Programı-Bütçe-Harcama İlişkilendirme Tablosu mevcut mu? (01.01.2027 tarihi itibarıyla eklenecektir.)
B20: 7 | C20: Ödeme Emri Belgesi'ndeki imzalar bildirilen yetkili çizelgesine uygun mu?
B21: 7.1 | C21: Ödeme Emri Belgesi, yetki çizelgesinde belirtilmeyen personel tarafından imzalandı ise yetki devri yapılmış mı?
B22: 7.2 | C22: Yetki devri yapıldığına dair evrak eklendi mi? (Yıllık İzin Formu vb.)
B23: Kamu Ön Mali Kontrol Yönetmeliği'nin 6. maddesi gereğince hazırlanan bu kontrol listesinde yer alan bilgiler tarafımca kontrol edilmiş olup uygunluğu tasdik olunur. | J23: Gerçekleştirme Görevlisi Adı Soyadı Ünvanı İmza

Sheet EK-58
D2: TÜBİTAK/TÜSEB PTİ Ödeme İşlemlerine İlişkin Ön Mali Kontrol Listesi | M2: Ana Sayfa
B7: EK-58
B8: Bütçe Yılı:
B9: Harcama Birimi:
B10: İşin Adı:
B11: Sıra No | C11: Kontrol Edilecek Bilgi ve Belgeler | J11: Evet | K11: Hayır | L11: Açıklamalar
B12: 1 | C12: Çeşitli Ödemeler Bordrosu eklendi mi?
B13: 2 | C13: TÜBİTAK/TÜSEB onay yazısı eklendi mi?
B14: 3 | C14: Proje Teşvik İkramiyesi Ödeme Tablosu eklendi mi?
B15: 4 | C15: Ödeme alan peronele ait (Sadece kurum içi personel için teslim edilecektir.) ilgili ay maaş bordrosu eklendi mi?
B16: 5 | C16: Kimlik fotokopisi eklendi mi?
B17: 6 | C17: Stratejik Plan-Performans Programı-Bütçe-Harcama İlişkilendirme Tablosu mevcut mu? (01.01.2027 tarihi itibarıyla eklenecektir.)
B18: 7 | C18: Ödeme Emri Belgesi'ndeki imzalar dönem başı bildirilen yetkili çizelgesine uygun mu?
B19: 7.1 | C19: Ödeme Emri Belgesi, yetki çizelgesinde belirtilmeyen personel tarafından imzalandı ise yetki devri yapılmış mı?
B20: 7.2 | C20: Yetki devri yapıldığına dair evrak eklendi mi? (Yıllık İzin Formu vb.)
B21: Kamu Ön Mali Kontrol Yönetmeliği'nin 6. maddesi gereğince hazırlanan bu kontrol listesinde yer alan bilgiler tarafımca kontrol edilmiş olup uygunluğu tasdik olunur. | J21: Gerçekleştirme Görevlisi Adı Soyadı Ünvanı İmza

Sheet EK-57
D2: BAP/TÜBİTAK/TÜSEB Burs Ödemesi Ön Mali Kontrol Listesi | M2: Ana Sayfa
B7: EK-57
B8: Bütçe Yılı:
B9: Harcama Birimi:
B10: İşin Adı:
B11: Sıra No | C11: Kontrol Edilecek Bilgi ve Belgeler | J11: Evet | K11: Hayır | L11: Açıklamalar
B12: 1 | C12: Ödenek kontrolü yapıldı mı?
B13: 2 | C13: Ödeme yapılacak öğrenciye ait Bursiyer Bilgi Formu eklendi mi? (Belgenin, ilgili ayın 25’inden sonra düzenlenmiş olması gerekmektedir.)
B14: 3 | C14: Bursiyer Bilgi Formu üzerindeki imzalar eksiksiz olarak tamamlandı mı?
B15: 3.1 | C15: Bursiyer Bilgi Formunda öğrencinin adı ve soyadı, T.C. kimlik numarası ve ödenecek burs tutarına ilişkin bilgiler yer almakta mıdır? Bu bilgiler yetkili tarafından kontrol edidil mi?
B16: 4 | C16: Öğrenci belgesi eklendi mi? (Belgenin, ilgili ayın 25’inden sonra düzenlenmiş olması gerekmektedir.)
B17: 4.1 | C17: Öğrenci belgesinde öğrencinin aktif öğrenci statüsünde olduğu görülmekte midir?
B18: 5 | C18: Öğrenciye ait T.C. kimlik kartı fotokopisi mevcut mudur?
B19: 6 | C19: Ödeme Emri Belgesi’nde yer alan IBAN bilgileri ile Bursiyer Bilgi Formunda yer alan IBAN bilgileri birbiriyle uyumlu mu?
B20: 7 | C20: Ödeme yapılacak IBAN bilgileri ilgili öğrenciye ait mi?
B21: 8 | C21: Sağlık Provizyon ve Aktivasyon Sistemi (SPAS) Müstehaklık Belgesi mevcut mu ?
B22: 9 | C22: Sigortalı hizmet listesi eklendi mi? (SGK Tahakkuk ödemesi yasal süresi içerisinde BAP birimi tarafından ilgili mevzuat hükümleri çerçevesinde ayrıca ödeme emri düzenlenerek yapılmalıdır.)
B23: 10 | C23: Ödeneğin bütçe tertibi olarak “Yurt İçi Burslar ve Harçlıklar” kodu seçilmiş midir?
B24: 11 | C24: Stratejik Plan-Performans Programı-Bütçe-Harcama İlişkilendirme Tablosu mevcut mu? (01.01.2027 tarihi itibarıyla eklenecektir.)
B25: 12 | C25: Ödeme Emri Belgesi üzerinde harcamaya ilişkin açıklamalara (proje numarası, hesap numarası vb.) yer verildi mi?
B26: 13 | C26: Ödeme Emri Belgesi üzerinde yer alan tutar ile Bursiyer Bilgi Formunda belirtilen tutar birbiriyle uyumlu mu?
B27: 14 | C27: Ödeme Emri Belgesi üzerindeki imzalar bildirilen yetki çizelgesine uygun mu?
B28: 14.1 | C28: Ödeme Emri Belgesi, yetki çizelgesinde yer almayan personel tarafından imzalanmış ise gerekli yetki devri yapılmış mı?
B29: Kamu Ön Mali Kontrol Yönetmeliği'nin 6. maddesi gereğince hazırlanan bu kontrol listesinde yer alan bilgiler tarafımca kontrol edilmiş olup uygunluğu tasdik olunur. | J29: Gerçekleştirme Görevlisi Adı Soyadı Ünvanı İmza

Sheet EK-56
D2: Yolluk Avansı Kapatma Ödemelerine İlişkin Ön Mali Kontrol Listesi | M2: Ana Sayfa
B7: EK-56
B8: Bütçe Yılı:
B9: Harcama Birimi:
B10: İşin Adı:
B11: Sıra No | C11: Kontrol Edilecek Bilgi ve Belgeler | J11: Evet | K11: Hayır | L11: Açıklamalar
B12: 1 | C12: Avans verilme evrakındaki Harcama Talimatı Onay Belgesi mevcut mu?
B13: 2 | C13: Avansın ne kadar çekildiğini gösteren Ödeme Emri Belgesi mevcut mu?
B14: 3 | C14: Fatura/Tahsilat makbuzu mevcut mu?
B15: 3.1 | C15: Firma/Şahıs/Kurum tarafından kesilen fatura, faturada bulunması gereken şekil şartlarını taşıyor mu?
B16: 3.2 | C16: Faturada yer alan malzemelerin adedi ile birim fiyatlarının çarpımı doğru mu?
B17: 3.3 | C17: e-Arşiv Fatura ise ilgisi tarafından kaşe imza yapılmış mı?
B18: 3.4 | C18: e-Arşiv Fatura ise sorgulamayı yapan kişi tarafından kontrol edilerek kaşe imza yapılmış mı?
B19: 3.5 | C19: Tahsilat makbuzu sorumlu kişilerce kontrol edilerek kaşe ve imza yapıldı mı?
B20: 4 | C20: Çekilen avans süresi içerisinde mahsup edildi mi?
B21: 4.1 | C21: Mutemet, işin tamamlanmasından sonra, mahsup süresinin bitimini mı? Harcama tarihini takip eden üç iş günü içinde ön ödeme artığını iade edip ve süresinde mahsubunu yaparak hesabını kapattı mı?
B22: 4.2 | C22: İlgili mutemet her halükârda harcadığı tutara ilişkin kanıtlayıcı belgeleri bir ay içerisinde ön ödeme artığını varsa iade edip ve süresinde mahsubunu yaparak hesabını kapattı mı?
B23: 4.3 | C23: Ön Ödeme süresi içeresinde kapatılmamışsa gecikme faizi hesaplanıp tutara ait dekont eklenmiş mi?
B24: 5 | C24: Yolluk Bildirimi mevcut mu?
B25: 5.1 | C25: Yolluk Bildirim Formunda Bütçe Yılı doğru seçilmiş mi?
B26: 5.2 | C26: Yolluk Bildirim Formunda yer alan gündelik tutarı ilgili mali yıl Bütçe Kanununda belirlenen Ek Gösterge gündelik tutarı ile uyumlu mu?
... B42: 7.1 | C42: Damga Vergisi doğru hesaplanmış mı?
B43: 8 | C43: Ödeme Emri Belgesi'ndeki imzalar dönem başı bildirilen yetkili çizelgesine uygun mu?
B44: 8.1 | C44: Ödeme Emri Belgesi, yetki çizelgesinde belirtilmeyen personel tarafından imzalandı ise yetki devri yapılmış mı?
B45: 8.2 | C45: Yetki devri yapıldığına dair evrak eklendi mi? (Yıllık İzin Formu vb.)
B46: Kamu Ön Mali Kontrol Yönetmeliği'nin 6. maddesi gereğince hazırlanan bu kontrol listesinde yer alan bilgiler tarafımca kontrol edilmiş olup uygunluğu tasdik olunur. | J46: Gerçekleştirme Görevlisi Adı Soyadı Ünvanı İmza

Sheet EK-55
D2: Yolluk Avansı Ön Ödemelere İlişkin Ön Mali Kontrol Listesi | M2: Ana Sayfa
B8: Bütçe Yılı:
B9: Harcama Birimi:
B10: İşin Adı:
B11: Sıra No | C11: Kontrol Edilecek Bilgi ve Belgeler | J11: Evet | K11: Hayır | L11: Açıklamalar
B12: 1 | C12: Harcama Talimatı Onay Belgesi mevcut mu?
B13: 1.1 | C13: Harcama talimatının hukuki dayanağı ve gerekçesi mahiyetine uygun mu?
B14: 1.2 | C14: Gerçekleştirme Usulü mahiyetine uygun mu?
B15: 1.3 | C15: Seçilen Bütçe Tertibi harcamanın türüne uygun mu?
B16: 1.4 | C16: Yolluk bildirimi H cetveline uygun düzenlenmiş mi?
B17: 2 | C17: Yolluk avansında, akademik görevlendirmeler için Yönetim Kurulu Kararı mevcut mu?
B18: 2.1 | C18: Akademik personel için Rektör Onayı İdari personel için birim amiri onayı mevcut mu?
B19: 2.2 | C19: Sağlık Kültür ve Spor Daire Başkanlığı tarafından yapılan takım görevlendirmelerdinde Öğrenci Topluluk Kararı mevcut mu?
B20: 2.2.1 | C20: Takım listesinde yer alan kişilere ait Rektörlük Makamından onaylı görevlendirmelerde mevcut mu?
B21: 2.2.2 | C21: Mutemet olarak belirlenen kişiye ait, bilgileri içeren Mutemet Dilekçeleri mevcut mu?
B22: 3 | C22: Ödeme Emri Belgesi üzerinden yolluk harcaması ise Harcırahlara Ait Damga Vergisi doğru olarak kesilmiş mi?
B23: 3.1 | C23: Ödeme Emri Belgesi Üzerinden mal alımı yapılmışsa Diğer Ödemelere Ait Damga Vergisi doğru olarak kesilmiş mi?
B24: 3.2 | C24: Damga Vergisi Detay Kodu doğru seçilmiş mi?
... B28: 7 | C28: Stratejik Plan-Performans Programı-Bütçe-Harcama İlişkilendirme Tablosu mevcut mu? (01.01.2027 tarihi itibarıyla eklenecektir.)
B29: 8 | C29: Ödeme Emri Belgesi'ndeki imzalar dönem başı bildirilen yetkili çizelgesine uygun mu?
B30: 8.1 | C30: Ödeme Emri Belgesi, yetki çizelgesinde belirtilmeyen personel tarafından imzalandı ise yetki devri yapılmış mı?
B31: 8.2 | C31: Yetki devri yapıldığına dair evrak eklendi mi? (Yıllık İzin Formu vb.)
B32: Kamu Ön Mali Kontrol Yönetmeliği'nin 6. maddesi gereğince hazırlanan bu kontrol listesinde yer alan bilgiler tarafımca kontrol edilmiş olup uygunluğu tasdik olunur. | J32: Gerçekleştirme Görevlisi Adı Soyadı Ünvanı İmza

Sheet EK-54
D2: İş Avans ve Kredi Kapatma Ödemelerine İlişkin Ön Mali Kontrol Listesi | M2: Ana Sayfa
B7: EK-54
B8: Bütçe Yılı:
B9: Harcama Birimi:
B10: İşin Adı:
B11: Sıra No | C11: Kontrol Edilecek Bilgi ve Belgeler | J11: Evet | K11: Hayır | L11: Açıklamalar
B12: 1 | C12: Avans ve Kredi verilme evrakındaki Harcama Talimatı Onay Belgesi mevcut mu?
B13: 2 | C13: Avansın ve Kredinin ne kadar çekildiğini gösteren Ödeme Emri Belgesi mevcut mu?
B14: 3 | C14: Fatura/Tahsilat Makbuzu mevcut mu?
B15: 3.1 | C15: Firma/Şahıs/Kurum tarafından kesilen fatura, faturada bulunması gereken şekil şartlarını taşıyor mu?
B16: 3.2 | C16: Faturada yer alan malzemelerin adedi ile birim fiyatlarının çarpımı doğru mu?
B17: 3.3 | C17: e-Arşiv Fatura ise ilgisi tarafından kaşe imza yapılmış mı?
B18: 3.4 | C18: e-Arşiv Fatura ise sorgulamayı yapan kişi tarafından kontrol edilerek kaşe imza yapılmış mı?
B19: 3.5 | C19: Hizmet alımlarına ait faturalarda KDV üzerinden kesilen tevkifat oranı ve tutarı doğru mu?
B20: 3.6 | C20: Tahsilat makbuzu sorumlu kişilerce kontrol edilerek kaşe imza yapıldı mı?
B21: 4 | C21: Muayene Kabul Komisyon Tutanağı mevcut mu?
B22: 4.1 | C22: Muayene Kabul Komisyon Tutanağı üzerinde yer alan fatura tarihi, numarası, firma adı, onay tarihi ve numarası tutanakta yer alıyor mu?
B23: 4.2 | C23: Alınan Mal-Malzemelerin birim adedi ve fiyat bilgileri fatura ile uyuşuyor mu?
B24: 4.3 | C24: Teslim edilen mal, yapılan iş veya sunulan hizmet Muayene Kabul Komisyonu Görevlileri tarafından kontrol edilerek mi teslim alındı?
B25: 4.4 | C25: Yapılan iş hizmet işi ise hizmet alımları Muayene Kabul Komisyon Tutanağı ilgili firma tarafından kaşelenip imzalanmış mı?
B26: 5 | C26: Mal alımlarında;
... B40: 10.1 | C40: Damga vergisi kesintisi doğru hesaplamış mı?
B41: 11 | C41: Ödeme Emri Belgesi'ndeki imzalar dönem başı bildirilen yetkili çizelgesine uygun mu?
B42: 11.1 | C42: Ödeme Emri Belgesi, yetki çizelgesinde belirtilmeyen personel tarafından imzalandı ise yetki devri yapılmış mı?
B43: 11.2 | C43: Yetki devri yapıldığına dair evrak eklendi mi? (Yıllık İzin Formu vb.)
B44: Kamu Ön Mali Kontrol Yönetmeliği'nin 6. maddesi gereğince hazırlanan bu kontrol listesinde yer alan bilgiler tarafımca kontrol edilmiş olup uygunluğu tasdik olunur. | J44: Gerçekleştirme Görevlisi Adı Soyadı Ünvanı İmza

Sheet EK-53
D2: İş Avansı ve Kredi Ön Ödemesine İlişkin Ön Mali Kontrol Listesi | M2: Ana Sayfa
B7: EK-53
B8: Bütçe Yılı:
B9: Harcama Birimi:
B10: İşin Adı:
B11: Sıra No | C11: Kontrol Edilecek Bilgi ve Belgeler | J11: Evet | K11: Hayır | L11: Açıklamalar
B12: 1 | C12: Harcama Talimatı Onay Belgesi mevcut mu?
B13: 1.1 | C13: Harcama talimatının hukuki dayanağı ve gerekçesi mahiyetine uygun mu?
B14: 1.2 | C14: Gerçekleştirme Usulü mahiyetine uygun mu?
B15: 1.3 | C15: Seçilen Bütçe Tertibi harcamanın türüne uygun mu?
B16: 2 | C16: Harcama Yetkilisi mutemet onayı alındı mı?
B17: 3 | C17: Ön Ödeme, Kredi şeklinde mi ödenecek ?
B18: 3.1 | C18: 55 Sıra Nolu Muhasebat Genel Müdürlüğü Ön Ödeme Usul ve Esasları Genel Tebliği Ek-2'de yer alan kurumlardan mı alım yapılmış?
B19: 3.2 | C19: Alınacak mal/malzeme isim listesi mevcut mu?
B20: 3.3 | C20: İlgili kurum Sayfasından alınan e-Satış Müşteri Sepet Listesi mevcut mu?
B21: 3.4 | C21: Alınacak Mal ve Malzeme Tasarruf Tedbirleri Genelgesi kapsamında üst yönetici onay/olur Mevcut mu?
B22: 4.1 | C22: Ödeme Emri Belgesi üzerinden Diğer Ödemelere Ait Damga Vergisi doğru olarak kesilmiş mi?
B23: 4.2 | C23: Damga Vergisi Detay Kodu doğru seçilmiş mi?
B24: 5 | C24: Ödeme Emri Belgesinde yer alan bütçe tertibi doğru olarak seçilmiş mi?
... B27: 8 | C27: Stratejik Plan-Performans Programı-Bütçe-Harcama İlişkilendirme Tablosu mevcut mu?(01.01.2027 tarihi itibarıyla eklenecektir.)
B28: 9 | C28: Ödeme Emri Belgesi'ndeki imzalar dönem başı bildirilen yetkili çizelgesine uygun mu?
B29: 9.1 | C29: Ödeme Emri Belgesi, yetki çizelgesinde belirtilmeyen personel tarafından imzalandı ise yetki devri yapılmış mı?
B30: 9.2 | C30: Yetki devri yapıldığına dair evrak eklendi mi? (Yıllık İzin Formu vb.)
B31: Kamu Ön Mali Kontrol Yönetmeliği'nin 6. maddesi gereğince hazırlanan bu kontrol listesinde yer alan bilgiler tarafımca kontrol edilmiş olup uygunluğu tasdik olunur. | J31: Gerçekleştirme Görevlisi Adı Soyadı Ünvanı İmza

Sheet EK-52
D2: Mahkeme ve Harç Giderleri Avans Açma ve Kapama Ön Mali Kontrol Listesi | M2: Ana Sayfa
B8: Bütçe Yılı:
B9: Harcama Birimi:
B10: İşin Adı:
B11: Sıra No | C11: Kontrol Edilecek Bilgi ve Belgeler | J11: Evet | K11: Hayır | L11: Açıklamalar
B12: 1 | C12: Avans ve Kredi verilme evrakındaki Harcama Talimatı Onay Belgesi mevcut mu?
B13: 2 | C13: Avansın ve Kredinin ne kadar çekildiğini gösteren Ödeme Emri Belgesi mevcut mu?
B14: 3 | C14: Tahsilat makbuzu sorumlu kişilerce kontrol edilerek kaşe imza yapıldı mı?
B15: 4 | C15: Çekilen avans süresi içerisinde mahsup edildi mi?
B16: 4.1 | C16: Mutemet, işin tamamlanmasından sonra, mahsup süresinin bitimini beklemeden son harcama tarihini takip eden üç iş günü içinde Ön Ödeme Artığını iade edip ve süresinde mahsubunu yaparak hesabını kapattı mı?
B17: 4.2 | C17: İlgili mutemet her halükârda harcadığı tutara ilişkin kanıtlayıcı belgeleri bir ay içerisinde ön ödeme artığını varsa iade edip ve süresinde mahsubunu yaparak hesabını kapattı mı?
B18: 4.3 | C18: Ön ödeme süresi içeresinde kapatılmamışsa gecikme faizi hesaplanıp tutara ait dekont eklenmiş mi?
B19: 5 | C19: Mahkeme, icra dairesi veya noterce düzenlenen alındı,
B20: 6 | C20: Alındı verilemeyen hallerde; davayı kovuşturan tarafından düzenlenip ilgili mahkeme veya dairelerce onaylanan Mahkeme Giderleri Listesi,
B21: 7 | C21: Ödemeye ilişkin Harcama Talimatı belgesi,
B22: 8 | C22: Ödemenin hangi Bütçe tertibinden harcanacağını gösterir yazı,
B23: 9 | C23: Hukuk Müşavirliği onay yazısı,
B24: 10 | C24: Ödemenin Ulusal Yargı Ağı Projesi (UYAP) ile ilişkili olarak elektronik ortamda gerçekleşmesi halinde; Ödemeyi yapan idare, başvuru yapılan mahkeme veya icra dairesi, dosya numarası, yapılan ödemenin çeşidi ve tutarı bilgilerini içeren UYAP Bilişim Sisteminden veya UYAP Bilişim Sisteminin altyapısının kurulu olduğu yurt içinde yerleşik bankadan alınacak onaylı liste.
B25: 11 | C25: Stratejik Plan-Performans Programı-Bütçe-Harcama İlişkilendirme Tablosu mevcut mu? (01.01.2027 tarihi itibarıyla eklenecektir.)
... B28: 12.2 | C28: Yetki devri yapıldığına dair evrak eklendi mi? (Yıllık İzin Formu vb.)
B29: Kamu Ön Mali Kontrol Yönetmeliği'nin 6. maddesi gereğince hazırlanan bu kontrol listesinde yer alan bilgiler tarafımca kontrol edilmiş olup uygunluğu tasdik olunur. | J29: Gerçekleştirme Görevlisi Adı Soyadı Ünvanı İmza

Sheet EK-51
D2: Spor Organizasyonları Hakem-Sağlık Personeli Ücret Ödemelerine İlişkin Ön Mali Kontrol Listesi | M2: Ana Sayfa
B7: EK-51
B8: Bütçe Yılı:
B9: Harcama Birimi:
B10: İşin Adı:
B11: Sıra No | C11: Kontrol Edilecek Bilgi ve Belgeler | J11: Evet | K11: Hayır | L11: Açıklamalar
B12: 1 | C12: Harcama Talimatı Onay Belgesi mevcut mu?
B13: 1.1 | C13: Harcama talimatının hukuki dayanağı ve gerekçesi mahiyetine uygun mu?
B14: 1.2 | C14: Gerçekleştirme Usulü mahiyetine uygun mu?
B15: 1.3 | C15: Seçilen Bütçe Tertibi harcamanın türüne uygun mu?
B16: 2 | C16: Organizasyon boyunca görev yapacak hakem ve sağlık personeline ödeme yapılabilmesi için rektörlük makamından olur alınmış mı?
B17: 3 | C17: Spor organizyonunun türüne göre değişen hakem ücretlerine ait katsayıları gösteren ücret tarifesi eklenmiş mi?
B18: 4 | C18: Çeşitli Ödemeler Bordrosu mevcut mu?
B19: 4.1 | C19: Çeşitli ödemeler bordrosunda yer alan memur maaş aylık katsayısı müsabakaların yapıldığı tarihde ki maaş katsayısı mı ?
B20: 4.2 | C20: Hakem yada sağlık personeline ait ücret gösterge sayısı ücret tarifesi kategorisinde belirlenen rakam ile uyumlu mu ?
B21: 4.3 | C21: Memur maaş aylık katsayısı * Ücret gösterge sayısı * görev sayısının çarpımları doğru hesaplanmış mı ?
B22: 4.4 | C22: Çeşitli Ödemeler Bordrosu ilgililerce imzalanmış mı?
B23: 4.5 | C23: Ücret ve Ücret Sayılanlardan Kesilen Damga Vergisi Doğru hesaplanmış mı?
... B32: 10.2 | C32: Yetki devri yapıldığına dair evrak eklendi mi? (Yıllık İzin Formu vb.)
B33: Kamu Ön Mali Kontrol Yönetmeliği'nin 6. maddesi gereğince hazırlanan bu kontrol listesinde yer alan bilgiler tarafımca kontrol edilmiş olup uygunluğu tasdik olunur. | J33: Gerçekleştirme Görevlisi Adı Soyadı Ünvanı İmza

Sheet EK-50
D2: Basın İlan Giderleri Ödemesine İlişkin Ön Mali Kontrol Listesi | M2: Ana Sayfa
B7: EK-50
B8: Bütçe Yılı:
B9: Harcama Birimi:
B10: İşin Adı:
B11: Sıra No | C11: Kontrol Edilecek Bilgi ve Belgeler | J11: Evet | K11: Hayır | L11: Açıklamalar
B12: 1 | C12: Harcama Talimatı Onay Belgesi mevcut mu?
B13: 1.1 | C13: Harcama talimatının hukuki dayanağı ve gerekçesi mahiyetine uygun mu?
B14: 1.2 | C14: Gerçekleştirme Usulü mahiyetine uygun mu?
B15: 1.3 | C15: Seçilen Bütçe Tertibi harcamanın türüne uygun mu?
B16: 2 | C16: 4734 Sayılı kanunun 13. maddesine istinaden yapılan ve yaklaşık maliyetin tutarına göre değişen ilanda kalma sürelerine uyulmuş mu?
B17: 2.1 | C17: 4734 Sayılı kanunun 13. maddesi gereği yerel gazetede yapılan ilan tutanağı mevcut mu?
B18: 3 | C18: 2886 sayılı kanunun 17. maddesi kapsamında yapılan ve yaklaşık maliyetin tutarına göre değişen ilanda kalma sürelerine uyulmuş mu?
B19: 3.1 | C19: 2886 sayılı kanuna göre yapılan ilanlarda ilan tutanağı mevcut mu?
B20: 4 | C20: Basın ilan kurumu ilan baskı doğrulaması mevcut mu ?
B21: 5 | C21: Stratejik Plan-Performans Programı-Bütçe-Harcama İlişkilendirme Tablosu mevcut mu? (01.01.2027 tarihi itibarıyla eklenecektir.)
B22: 6 | C22: Fatura üzerinde yer alan KDV’siz toplam tutar üzerinden Diğer Ödemelere Ait Damga Vergisi kesildi mi?
B23: 7 | C23: Ödeme Emri Belgesinde yer alan IBAN bilgileri fatura veya IBAN dilekçesi üzerinde yer alan bilgiler uyumlu mu?
B24: 7.1 | C24: Ödeme Emri Belgesinde yer alan Bütçe Tertibi doğru mu?
... B29: 9.2 | C29: Yetki devri yapıldığına dair evrak eklendi mi? (Yıllık İzin Formu vb.)
B30: Kamu Ön Mali Kontrol Yönetmeliği'nin 6. maddesi gereğince hazırlanan bu kontrol listesinde yer alan bilgiler tarafımca kontrol edilmiş olup uygunluğu tasdik olunur. | J30: Gerçekleştirme Görevlisi Adı Soyadı Ünvanı İmza

Sheet EK-49
D1: Emanetlerden Yapılan İadelere İlişkin Ön Mali Kontrol Listesi | M1: Ana Sayfa
B6: EK-49
B7: Bütçe Yılı:
B8: Harcama Birimi:
B9: İşin Adı:
B10: Sıra No | C10: Kontrol Edilecek Bilgi ve Belgeler | J10: Evet | K10: Hayır | L10: Açıklamalar
B11: 1 | C11: Yapılacak iade kişi emanetine alınan ödeme mi?
B12: 1.1 | C12: Kişiden alınan dilekçe (T.C.-Adı Soyadı-IBAN numarası) mevcut mu?
B13: 1.2 | C13: Dekont mevcut mu?
B14: 1.3 | C14: Sistem tarafından verilen kesinti listesi doğru mu?
B15: 1.4 | C15: Sistem tarafından verilen emanet ödemesi doğru mu?
B16: 2 | C16: Yapılacak iade 320 Cari Yıl Emanet Hesabına alınan ödeme mi?
B17: 2.1 | C17: Emanetten ödenecek tutara ait Ödeme Emri Belgesi mevcut mu?
B18: 2.2 | C18: Sistem tarafından verilen kesinti listesi doğru mu?
B19: 2.3 | C19: Sistem tarafından verilen emanet ödemesi doğru mu?
B20: 3 | C20: Yapılacak iade geçici teminat iadesi mi?
B21: 3.1 | C21: Ödendiğine ait dekont mevcut mu?
B22: 3.2 | C22: İlgili kişi- firmaya ait dilekçe mevcut mu?
B23: 4 | C23: Yapılacak iade kesin teminat iadesi mi?
... B33: 6.2 | C33: Yetki devri yapıldığına dair evrak eklendi mi? (Yıllık İzin Formu vb.)
B34: Kamu Ön Mali Kontrol Yönetmeliği'nin 6. maddesi gereğince hazırlanan bu kontrol listesinde yer alan bilgiler tarafımca kontrol edilmiş olup uygunluğu tasdik olunur. | J34: Gerçekleştirme Görevlisi Adı Soyadı Ünvanı İmza

Sheet EK-48
D2: Ret ve İade İşlemlerine İlişkin Ön Mali Kontrol Listesi | M2: Ana Sayfa
B7: EK-48
B8: Bütçe Yılı:
B9: Harcama Birimi:
B10: İşin Adı:
B11: Sıra No | C11: Kontrol Edilecek Bilgi ve Belgeler | J11: Evet | K11: Hayır | L11: Açıklamalar
B12: 1 | C12: Yapılacak İade Katkı Payı/Öğrenim Ücreti/Harç İadesi ödemesi mi?
B13: 1.1 | C13: Başvuru Formu (Katkı Payı/Öğrenim Ücreti İadesi Formu) mevcut mu?
B14: 1.3 | C14: Harç iade bordrosu düzenlenmiş mi? (Zorunlu)
B15: 1.4 | C15: Dekont ve Harç Durum Raporu mevcut mu?
B16: 1.5 | C16: İade talebi katkı payları ve öğrenim ücretlerinin tespiti hakkında verilen Cumhurbaşkanı Kararına uygun mu?
B17: 1.6 | C17: Ödeme Emri Belgesinde (Başvuru formu,harç durum raporu, dekont), iade talebine konu olan öğrenci veya kişi adına işlem yapılmışsa ilgili kişinin bilgileri açık ve anlaşılır bir şekilde yazılı mı?
B18: 2 | C18: Yapılacak İade SKS - Yemek Bedeli iadesi ödemesi mi?
B19: 2.1 | C19: Öğrenci ve Personel Para İadesi Talep Formu mevcut mu?
B20: 2.2 | C20: Ödeme Emri Belgesinde (Öğrenci ve Personel Para İadesi Talep Formu) iade talebine konu olan öğrenci veya kişi adına işlem yapılmışsa ilgili kişinin bilgileri açık ve anlaşılır bir şekilde yazılı mı?
B21: 3 | C21: Yapılacak İade Lojman Kira İadesi ödemesi mi?
B22: 3.1 | C22: İdari Mali İşler Daire Başkanlığından gelen kira kesintisine dair yazı mevcut mu?
B23: 3.2 | C23: Kamu Konutları Geri Alma Tutanağı mevcut mu?
B24: 3.3 | C24: Ödeme Emri Belgesinde (İdari Mali İşlerden Gelen Yaz-Lojman Teslim Tutanağı) iade talebine konu olan kişi adına işlem yapılmışsa ilgili kişinin bilgileri açık ve anlaşılır bir şekilde yazılı mı?
... B28: 5.2 | C28: Yetki devri yapıldığına dair evrak eklendi mi? (Yıllık İzin Formu vb.)
B29: Kamu Ön Mali Kontrol Yönetmeliği'nin 6. maddesi gereğince hazırlanan bu kontrol listesinde yer alan bilgiler tarafımca kontrol edilmiş olup uygunluğu tasdik olunur. | J29: Gerçekleştirme Görevlisi Adı Soyadı Ünvanı İmza

Sheet EK-47
A1: HARCAMA BİRİMLERİ ÖMK LİSTELERİ'!A1
D2: YÖK Lisans Destek Bursu Ödemelerine İlişkin Ön Mali Kontrol Listesi | M2: Ana Sayfa
B7: EK-47
B8: Bütçe Yılı:
B9: Harcama Birimi:
B10: İşin Adı:
B11: Sıra No | C11: Kontrol Edilecek Bilgi ve Belgeler | J11: Evet | K11: Hayır | L11: Açıklamalar
B12: 1 | C12: Harcama Talimatı Onay Belgesi mevcut mu?
B13: 1.1 | C13: Harcama Talimatının hukuki dayanağı ve gerekçesi mahiyetine uygun mu?
B14: 1.2 | C14: Gerçekleştirme Usulü mahiyetine uygun mu?
B15: 1.3 | C15: Ödeneğin Bütçe Tertibi olarak “Yurt İçi Burslar ve Harçlıklar” kodu mu seçilmiş?
B16: 1.4 | C16: Harcamaya ilişkin diğer açıklamalara yer verilmiş mi?
B17: 2 | C17: Ödeme yapılacak öğrencilerin başarı durum belgesi (transkript) var mı?
B18: 2.1 | C18: Ödeme yapılacak öğrencilerin transkript kontrol edilerek yetkili tarafından mühür ve imza yapıldı mı? (Başarı durumu hesaplanırken öğrencinin bitirdiği eğitim öğretim yılını takip eden Eylül ayında belirlenen ağırlıklı genel not ortalaması genel not ortalamasının yıllık olarak 2,50 veya 65 üzeri olmalıdır. Bu şartlar sağlanmadı takdirde bursu kesilir.)
B19: 2.2 | C19: Yükseköğretim Kurumları tarafından burs ödemeleri gerçekleştirilmeden önce bursiyerlerin burs şartlarını kaybetmesi halinde, burs miktarları bu durumun ortaya çıktığı günü takip eden en geç 1 ay içerisinde YÖK muhasebe birimi hesaplarına aktarılır ve buna ilişkin bilgi Yükseköğretim Proje Geliştirme ve Destekleme Dairesi Başkanlığına YÖK Bursları Takip Sistemi üzerinden ve ayrıca resmi yazı ile iletilir. Belirlenen sürede aktarılmayan tutarlar ilgili üniversite adına kişi borçları hesabına alınarak faiziyle birlikte tahsil edilir hükmü gereğince iade işlemi için gerekli mevzuata uyuldu mu?
B20: 3 | C20: YÖK Lisans Destek Bursu Giderler Bordrosu var mı?
B21: 3.1 | C21: YÖK Lisans Destek Bursu Giderler Bordrosunda ödeme yapılacak öğrencilerin adı soyadı-T.C. Kimlik Numaraları- Ödenecek Burs Miktarına İlişkin İcmal Tablosu yetkili tarafından kontrol edildi mı?
B22: 3.2 | C22: YÖK Lisans Destek Bursu Giderler Bordrosu sorumlu kişiler tarafından imzalandı mı?
B23: 4 | C23: YÖK Lisans Destek Bursu Banka Listesi eklendi mi?
B24: 4.1 | C24: YÖK Lisans Destek Bursu Banka Listesinde ödeme yapılan öğrencilerin ad soyadı- T.C. Kimlik Numaraları Doğru Mu?
... B33: 7.2 | C33: Yetki devri yapıldığına dair evrak eklendi mi? (Yıllık İzin Formu vb.)
B34: Kamu Ön Mali Kontrol Yönetmeliği'nin 6. maddesi gereğince hazırlanan bu kontrol listesinde yer alan bilgiler tarafımca kontrol edilmiş olup uygunluğu tasdik olunur. | J34: Gerçekleştirme Görevlisi Adı Soyadı Ünvanı İmza

Sheet EK-46
A1: E
D2: YÖK Doktora Destek Bursu Ödemelerine İlişkin Ön Mali Kontrol Listesi | M2: Ana Sayfa
B7: EK-46
B8: Bütçe Yılı:
B9: Harcama Birimi:
B10: İşin Adı:
B11: Sıra No | C11: Kontrol Edilecek Bilgi ve Belgeler | J11: Evet | K11: Hayır | L11: Açıklamalar
B12: 1 | C12: Harcama Talimatı Onay Belgesi mevcut mu?
B13: 1.1 | C13: Harcama Talimatının hukuki dayanağı ve gerekçesi mahiyetine uygun mu?
B14: 1.2 | C14: Gerçekleştirme Usulü mahiyetine uygun mu?
B15: 1.3 | C15: Ödeneğin Bütçe Tertibi olarak “Yurt İçi Burslar ve Harçlıklar” kodu mu seçilmiş?
B16: 1.4 | C16: Harcamaya ilişkin diğer açıklamalara yer verilmiş mi?
B17: 2 | C17: Ödeme yapılacak öğrencilerin güncel öğrenci belgesi, transkript ve disiplin cezası almadığına dair belgeleri var mı?
B18: 2.1 | C18: Ödeme yapılacak öğrencilerin transkript kontrol edilerek yetkili tarafından mühür ve imza yapıldı mı? (Başarı durumu hesaplanırken öğrencinin bitirdiği eğitim öğretim yılını takip eden Eylül ayında belirlenen ağırlıklı genel not ortalaması genel not ortalamasının yıllık olarak 2,50 veya 65 üzeri olmalıdır. Bu şartlar sağlanmadı takdirde bursu kesilir.)
B19: 2.2 | C19: Yükseköğretim Kurumları tarafından burs ödemeleri gerçekleştirilmeden önce bursiyerlerin burs şartlarını kaybetmesi halinde, burs miktarları bu durumun ortaya çıktığı günü takip eden en geç 1 ay içerisinde YÖK muhasebe birimi hesaplarına aktarılır ve buna ilişkin bilgi Yükseköğretim Proje Geliştirme ve Destekleme Dairesi Başkanlığına YÖK Bursları Takip Sistemi üzerinden ve ayrıca resmi yazı ile iletilir. Belirlenen sürede aktarılmayan tutarlar ilgili üniversite adına kişi borçları hesabına alınarak faiziyle birlikte tahsil edilir hükmü gereğince iade işlemi için gerekli mevzuata uyuldu mu?
B20: 3 | C20: YÖK Doktora Destek Bursu Giderler Bordrosu var mı?
B21: 3.1 | C21: YÖK Doktora Destek Bursu Giderler Bordrosunda ödeme yapılacak öğrencilerin adı soyadı-T.C. Kimlik Numaraları- Ödenecek Burs Miktarına İlişkin İcmal Tablosu yetkili tarafından kontrol edildi mı?
B22: 3.2 | C22: YÖK doktora destek bursu giderler bordrosunda sorumlu kişiler tarafından imzalandı mı?
B23: 4 | C23: YÖK Doktora Destek Bursu Banka Listesi eklendi mi?
B24: 4.1 | C24: YÖK Doktora Destek Bursu Banka Listesinde ödeme yapılan öğrencilerin ad soyadı- T.C. Kimlik Numaraları Doğru Mu?
B25: 4.1.1 | C25: Ödeme yapılacak öğrencilere ait IBAN Bilgileri ödemenin yapılacağı öğrenci ile aynı kişi mi?
B26: 4.2 | C26: Ödenecek aylık burs miktarı YÖK tarafından belirlenen aylık tutar ile uyumlu mu?
B27: 4.3 | C27: YÖK Doktora Destek Bursu Banka Listesi sorumlu kişilerce imzalandı mı?
B28: 5 | C28: Stratejik Plan-Performans Programı-Bütçe-Harcama İlişkilendirme Tablosu mevcut mu? (01.01.2027 tarihi itibarıyla eklenecektir.)
B29: 6 | C29: Ödeme Emri Belgesinde yer alan IBAN Bilgileri ile YÖK Doktora Destek Bursu Banka Listesinde yer alan IBAN bilgileri uyumlu mu?
B30: 6.1 | C30: Ödeme Emri Belgesinde yer alan Bütçe Tertibi ile Onay Belgesi Üzerinde yer alan Bütçe Tertibi uyumlu mu?
B31: 7 | C31: Ödeme Emri Belgesi'ndeki imzalar dönem başı bildirilen yetkili çizelgesine uygun mu?
B32: 7.1 | C32: Ödeme Emri Belgesi, yetki çizelgesinde belirtilmeyen personel tarafından imzalandı ise yetki devri yapılmış mı?
B33: 7.2 | C33: Yetki devri yapıldığına dair evrak eklendi mi? (Yıllık İzin Formu vb.)
B34: Kamu Ön Mali Kontrol Yönetmeliği'nin 6. maddesi gereğince hazırlanan bu kontrol listesinde yer alan bilgiler tarafımca kontrol edilmiş olup uygunluğu tasdik olunur. | J34: Gerçekleştirme Görevlisi Adı Soyadı Ünvanı İmza

Sheet EK-45
D2: Jüri Üyeliği Ödemelerine İlişkin Ön Mali Kontrol Listesi | M2: Ana Sayfa
B7: EK-45
B8: Bütçe Yılı:
B9: Harcama Birimi:
B10: İşin Adı:
B11: Sıra No | C11: Kontrol Edilecek Bilgi ve Belgeler | J11: Evet | K11: Hayır | L11: Açıklamalar
B12: 1 | C12: Jüri üyesi olarak seçilen kişinin Görevlendirme Yazısı ve Yönetim Kurulu Kararı mevcut mu?
B13: 2 | C13: İlgili kişiye ait Jüri Üyeliği Ücret Beyan Formları mevcut mu?
B14: 2.1 | C14: Beyanda ilgili kişiye ait imza mevcut mu?
B15: 2.2 | C15: Formda IBAN bilgisi mevcut mu?
B16: 2.3 | C16: Jüri Üyeliği Ücret Beyan Formundaki vergi matrahı güncel mi?
B17: 2.4 | C17: Bir yıl içindeki görevlendirme adeti 6 veya 6'dan az mı?
B18: 3 | C18: Çeşitli Ödemeler Bordrosu mevcut mu?
B19: 3.1 | C19: Jürilerde görev alan öğretim üyelerine her bir jüri üyeliği için 3000 gösterge rakamının memur aylık katsayısı ile çarpımı sonucu bulunacak tutardan mı hesaplanmış?
B20: 3.2 | C20: Çeşitli Ödemeler Bordrosu ilgililerce imzalanmış mı?
B21: 3.3 | C21: Gelir Vergisi matrahına göre Gelir Vergisi oranı doğru seçilmiş mi? (Kurum içi personel için güncel vergi matrahı kurum dışı personel için %15 üzerinden kesinti yapıldı mı?)
B22: 3.4 | C22: Ücret ve Ücret Sayılanlardan Kesilen Damga Vergisi Doğru hesaplanmış mı?
B23: 4 | C23: Stratejik Plan-Performans Programı-Bütçe-Harcama İlişkilendirme Tablosu mevcut mu? (01.01.2027 tarihi itibarıyla eklenecektir.)
B24: 5 | C24: Ödeme Emri Belgesinde yer alan IBAN bilgileri ile Ücret Beyan Formunda yer alan bilgiler uyumlu mu?
B25: 5.1 | C25: Stratejik Plan-Performans Programı-Bütçe-Harcama İlişkilendirme Tablosu mevcut mu? (01.01.2027 tarihi itibarıyla eklenecektir.)
... B30: 7.2 | C30: Yetki devri yapıldığına dair evrak eklendi mi? (Yıllık İzin Formu vb.)
B31: Kamu Ön Mali Kontrol Yönetmeliği'nin 6. maddesi gereğince hazırlanan bu kontrol listesinde yer alan bilgiler tarafımca kontrol edilmiş olup uygunluğu tasdik olunur. | J31: Gerçekleştirme Görevlisi Adı Soyadı Ünvanı İmza

Sheet EK44
D2: Döner Sermayeden Aktarılan BAP Paylarına İlişkin Ön Mali Kontrol Listesi | M2: Ana Sayfa
B7: EK-44
B8: Bütçe Yılı:
B9: Harcama Birimi:
B10: İşin Adı:
B11: Sıra No | C11: Kontrol Edilecek Bilgi ve Belgeler | J11: Evet | K11: Hayır | L11: Açıklamalar
B12: 1 | C12: Harcama Talimatı Onay Belgesi mevcut mu?
B13: 1.1 | C13: Harcama talimatının hukuki dayanağı ve gerekçesi mahiyetine uygun mu?
B14: 1.2 | C14: Gerçekleştirme Usulü mahiyetine uygun mu?
B15: 1.3 | C15: Seçilen Bütçe Tertibi harcamanın türüne uygun mu?
B16: 2 | C16: Taban Ödeme Cetveli mevcut mu?
B17: 2.1 | C17: Taban Ödeme Cetvelinde ilgili aya ait ödenecek tutar ile Ödeme Emrinde yer alan tutar aynı mı?
B18: 3 | C18: Ödenek Durum Belgesi Eklendi Mi ?
B19: 4 | C19: Ödeme Emri Belgesinde Yer Alan Bütçe Tertibi Doğru Mu?
B20: 5 | C20: Stratejik Plan-Performans Programı-Bütçe-Harcama İlişkilendirme Tablosu mevcut mu? (01.01.2027 tarihi itibarıyla eklenecektir.)
B21: 6 | C21: Ödeme Emri Belgesi'ndeki imzalar dönem başı bildirilen yetkili çizelgesine uygun mu?
B22: 6.1 | C22: Ödeme Emri Belgesi, yetki çizelgesinde belirtilmeyen personel tarafından imzalandı ise yetki devri yapılmış mı?
B23: 6.2 | C23: Yetki devri yapıldığına dair evrak eklendi mi? (Yıllık İzin Formu vb.)
B24: 7 | C24: Hangi hesaba ne kadar tutarda aktarılacağını belirten üst yazı eklenmiş mi?
B25: Kamu Ön Mali Kontrol Yönetmeliği'nin 6. maddesi gereğince hazırlanan bu kontrol listesinde yer alan bilgiler tarafımca kontrol edilmiş olup uygunluğu tasdik olunur. | J25: Gerçekleştirme Görevlisi Adı Soyadı Ünvanı İmza

Sheet EK-43
D2: Temsil Ağırlama Giderlerine İlişkin Ön Mali Kontrol Listesi | M2: Ana Sayfa
B7: EK-43
B8: Bütçe Yılı:
B9: Harcama Birimi:
B10: İşin Adı:
B11: Sıra No | C11: Kontrol Edilecek Bilgi ve Belgeler | J11: Evet | K11: Hayır | L11: Açıklamalar
B12: 1 | C12: Harcama Talimatı Onay Belgesi mevcut mu?
B13: 1.1 | C13: Harcama talimatının hukuki dayanağı ve gerekçesi mahiyetine uygun mu?
B14: 1.2 | C14: Gerçekleştirme Usulü mahiyetine uygun mu?
B15: 1.3 | C15: Seçilen Bütçe Tertibi harcamanın türüne uygun mu?
B16: 1.4 | C16: Harcama Talimatı üzerinde yaklaşık maliyet belirlenmişse Yaklaşık Maliyet Hesap Cetveli mevcut mu?
B17: 2 | C17: Mihmandar Hesap Cetveli eklenmiş mi?
B18: 2.1 | C18: Mihmandar Hesap Cetvelinde, alınan mal veya hizmet ayrıntılı ve açıklayıcı bir şekilde yazılmış mı?
B19: 2.2 | C19: Mihamandar Hesap Cetveli Yetkililer tarafından imzalanmış mı?
B20: 3 | C20: Piyasa Fiyat Araştırma Tutanağı eklenmiş mi?
B21: 3.1 | C21: Piyasa Fiyat Araştırma Tutanağında yer alan malzemelerin adet ve birim fiyatlarının çarpımı doğru hesaplanmış mı?
B22: 3.3 | C22: Piyasa Fiyat Araştırma Tutanağının tarihi, Harcama Talimatı/Onay Belgesi tarihi ile aynı veya sonra mı?
B23: 3.4 | C23: Piyasa Fiyat Araştırma Tutanağı, piyasa fiyat araştırması görevlileri tarafında imzalanmış mı?
... B48: 9 | C48: Alınan mal veya hizmet Tasarruf Tedbirleri Genelgesi ile uyumlu mu?
B49: 10 | C49: Ödeme Emri Belgesi'ndeki imzalar dönem başı bildirilen yetkili çizelgesine uygun mu?
B50: 10.1 | C50: Ödeme Emri Belgesi, yetki çizelgesinde belirtilmeyen personel tarafından imzalandı ise yetki devri yapılmış mı?
B51: 10.2 | C51: Yetki devri yapıldığına dair evrak eklendi mi? (Yıllık İzin Formu vb.)
B52: Kamu Ön Mali Kontrol Yönetmeliği'nin 6. maddesi gereğince hazırlanan bu kontrol listesinde yer alan bilgiler tarafımca kontrol edilmiş olup uygunluğu tasdik olunur. | J52: Gerçekleştirme Görevlisi Adı Soyadı Ünvanı İmza

Sheet EK-42
D2: Avukat Vekalet Ücreti Ödemelerine İlişkin Ön Mali Kontrol Listesi | M2: Ana Sayfa
B7: EK-42
B8: Bütçe Yılı:
B9: Harcama Birimi:
B10: İşin Adı:
B11: Sıra No | C11: Kontrol Edilecek Bilgi ve Belgeler | J11: Evet | K11: Hayır | L11: Açıklamalar
B12: 1 | C12: Harcama Talimatı Onay Belgesi mevcut mu?
B13: 1.1 | C13: Harcama talimatının hukuki dayanağı ve gerekçesi mahiyetine uygun mu?
B14: 1.2 | C14: Gerçekleştirme Usulü mahiyetine uygun mu?
B15: 1.3 | C15: Seçilen Bütçe Tertibi harcamanın türüne uygun mu?
B16: 2 | C16: Mahkeme Kararı, ilgili ödemeye eklendi mi?
B17: 3 | C17: Vekalet ücretinin ödenmesi için ilgili avukat tarafından Talep Dilekçesi alındı mı?
B18: 3.1 | C18: Talep dilekçesinde ödemenin yapılacağı IBAN numarası mevcut mu?
B19: 3.2 | C19: Talep dilekçesine Vekaletname eklenmiş mi?
B20: 4 | C20: e-Serbest Meslek Makbuzu eklenmiş mi?
B21: 4.1 | C21: e-Serbest Meslek Makbuzunda gelir vergisi stopaj oranı doğru kesilmiş mi?
B22: 4.2 | C22: e-Serbest Meslek Makbuzunda tevkifat tutarı doğru hesaplanmış mı?
B23: 4.3 | C23: e-Serbest Meslek Makbuzu sorgulamayı yapan görevli tarafından kontrol edilerek kaşelenip imzalandı mı?
B24: 5 | C24: Gelir İdaresi Başkanlığından alınan Vergi Borcu Sorgusu mevcut mu?
... B28: 6 | C28: Stratejik Plan-Performans Programı-Bütçe-Harcama İlişkilendirme Tablosu mevcut mu?(01.01.2027 tarihi itibarıyla eklenecektir.)
B29: 7 | C29: Ödeme Emri Belgesinde yer alan IBAN Bilgileri ile e-Serbest Meslek Makbuzu/Avukat Talep Dilekçesi üzerinde yer alan bilgiler uyumlu mu?
B30: 7.1 | C30: Ödeme Emri Belgesinde yer alan Bütçe Tertibi doğru mu?
B31: 7.2 | C31: Fatura üzerinde yer alan KDV’siz toplam tutar üzerinden Diğer Ödemelere Ait Damga Vergisi kesildi mi?
B32: 7.3 | C32: Tevkifata tabi işlemlerde Ödeme Emri Belgesi Üzerinden tevkifat tutarı doğru kesilmiş mi?
B33: 8 | C33: Damga Vergisi Detay Kodu doğru seçilmiş mi?
B34: 8.1 | C34: Damga vergii kesintisi doğru hesaplanmıs mı?
B35: 9 | C35: Ödeme Emri Belgesi'ndeki imzalar dönem başı bildirilen yetkili çizelgesine uygun mu?
B36: 9.1 | C36: Ödeme Emri Belgesi, yetki çizelgesinde belirtilmeyen personel tarafından imzalandı ise yetki devri yapılmış mı?
B37: 9.2 | C37: Yetki devri yapıldığına dair evrak eklendi mi? (Yıllık İzin Formu vb.)
B38: Kamu Ön Mali Kontrol Yönetmeliği'nin 6. maddesi gereğince hazırlanan bu kontrol listesinde yer alan bilgiler tarafımca kontrol edilmiş olup uygunluğu tasdik olunur. | J38: Gerçekleştirme Görevlisi Adı Soyadı Ünvanı İmza

Sheet EK-41
D2: Su Abonelik Ödemelerine İlişkin Ön Mali Kontrol Listesi | M2: Ana Sayfa
B7: EK-41
B8: Bütçe Yılı:
B9: Harcama Birimi:
B10: İşin Adı:
B11: Sıra No | C11: Kontrol Edilecek Bilgi ve Belgeler | J11: Evet | K11: Hayır | L11: Açıklamalar
B12: 1 | C12: Fatura veya alındı belgesi mevcut mu?
B13: 1.1 | C13: Fatura veya alındı belgesi muhatabı doğru mu?
B14: 1.2 | C14: Fatura veya alındı belgesi üzerinde yer alan su m³ ile birim fiyatlarının çarpımı doğru mu?
B15: 1.3 | C15: Fatura veya alındı belgesi notlar kısımına IBAN bilgileri yazılmış mı? IBAN Bilgileri yoksa IBAN dilekçesi alındı mı?
B16: 1.4 | C16: Gecikme cezası tutarı kümülatif toplamdan düşüldü mü?
B17: 2 | C17: Stratejik Plan-Performans Programı-Bütçe-Harcama İlişkilendirme Tablosu mevcut mu? (01.01.2027 tarihi itibarıyla eklenecektir.)
B18: 3 | C18: Ödeme Emri Belgesinde yer alan IBAN Bilgileri Fatura üzerinde yer alan bilgilerle uyumlu mu?
B19: 4 | C19: Ödeme Emri Belgesinde yer alan Bütçe Tertibi doğru mu?
B20: 5.1 | C20: Fatura üzerinde yer alan KDV'siz toplam tutar üzerinden Diğer Ödemelere Ait Damga Vergisi kesildi mi?
B21: 6 | C21: Ödeme Emri Belgesi'ndeki imzalar dönem başı bildirilen yetkili çizelgesine uygun mu?
B22: 6.1 | C22: Ödeme Emri Belgesi, yetki çizelgesinde belirtilmeyen personel tarafından imzalandı ise yetki devri yapılmış mı?
B23: 6.2 | C23: Yetki devri yapıldığına dair evrak eklendi mi? (Yıllık İzin Formu vb.)
B24: Kamu Ön Mali Kontrol Yönetmeliği'nin 6. maddesi gereğince hazırlanan bu kontrol listesinde yer alan bilgiler tarafımca kontrol edilmiş olup uygunluğu tasdik olunur. | J24: Gerçekleştirme Görevlisi Adı Soyadı Ünvanı İmza

Sheet EK-40
D2: Doğal Gaz Aboneliği Ödemelerine İlişkin Ön Mali Kontrol Listesi | M2: Ana Sayfa
B7: EK-40
B8: Bütçe Yılı:
B9: Harcama Birimi:
B10: İşin Adı:
B11: Sıra No | C11: Kontrol Edilecek Bilgi ve Belgeler | J11: Evet | K11: Hayır | L11: Açıklamalar
B12: 1 | C12: E-arşiv veya E-Fatura mevcut mu?
B13: 1.1 | C13: Faturanın muhatabı doğru mu?
B14: 1.2 | C14: E-Arşiv Fatura ise Harcama Yetkilisi tarafından kaşe ve imza yapılmış mı?
B15: 1.3 | C15: Faturanın notlar kısımına IBAN bilgileri yazılmış Mı? IBAN Bilgileri yoksa IBAN Dilekçesi alındı mı?
B16: 2 | C16: Daha önceki dönemlerden kaynaklı Gecikme Borcu Cezası faturaya yansıtılmış mı?
B17: 2.1 | C17: Gecikme cezası tutarı kümülatif toplamdan düşüldü mü?
B18: 3 | C18: Stratejik Plan-Performans Programı-Bütçe-Harcama İlişkilendirme Tablosu mevcut mu? (01.01.2027 tarihi itibarıyla eklenecektir.)
B19: 4 | C19: Ödeme Emri Belgesinde yer alan IBAN Bilgileri Fatura üzerinde yer alan bilgilerle uyumlu mu?
B20: 4.1 | C20: Ödeme Emri Belgesinde yer alan Bütçe Tertibi doğru mu?
B21: 4.2 | C21: Fatura üzerinde yer alan KDV'siz toplam tutar üzerinden Diğer Ödemelere Ait Damga Vergisi kesildi mi?
B22: 4.3 | C22: Damga Vergisi Detay Kodu doğru Seçilmiş mi ?
B23: 4.4 | C23: Damga vergii kesintisi doğru hesaplanmıs mı?
B24: 5 | C24: Ödeme Emri Belgesi'ndeki imzalar dönem başı bildirilen yetkili çizelgesine uygun mu?
B25: 5.1 | C25: Ödeme Emri Belgesi, yetki çizelgesinde belirtilmeyen personel tarafından imzalandı ise yetki devri yapılmış mı?
B26: 5.2 | C26: Yetki devri yapıldığına dair evrak eklendi mi? (Yıllık İzin Formu vb.)
B27: Kamu Ön Mali Kontrol Yönetmeliği'nin 6. maddesi gereğince hazırlanan bu kontrol listesinde yer alan bilgiler tarafımca kontrol edilmiş olup uygunluğu tasdik olunur. | J27: Gerçekleştirme Görevlisi Adı Soyadı Ünvanı İmza

Sheet EK-39
D2: Elektrik Aboneliği Ödemelerine İlişkin Ön Mali Kontrol Listesi | M2: Ana Sayfa
B7: EK-39
B8: Bütçe Yılı:
B9: Harcama Birimi:
B10: İşin Adı:
B11: Sıra No | C11: Kontrol Edilecek Bilgi ve Belgeler | J11: Evet | K11: Hayır | L11: Açıklamalar
B12: 1 | C12: E-Fatura veya E-Arşiv Fatura mevcut mu?
B13: 1.1 | C13: Faturanın muhatabı doğru mu?
B14: 1.2 | C14: e-Arşiv Fatura ise Harcama Yetkilisi tarafından kaşe ve imza yapılmış mı?
B15: 2 | C15: Elektrik faturası üzerinde yer alan "Reaktif Bedeli" satırı kontrol edildi mi?
B16: 2.1 | C16: Reaktif Bedeli varsa KDV eklenerek toplam tutardan düşüldü mü?
B17: 2.2 | C17: Daha önceki dönemlerden kaynaklı Gecikme Borcu Cezası faturaya yansıtılmış mı?
B18: 2.3 | C18: Gecikme cezası tutarı kümülatif toplamdan düşüldü mü?
B19: 3 | C19: Stratejik Plan-Performans Programı-Bütçe-Harcama İlişkilendirme Tablosu mevcut mu? (01.01.2027 tarihi itibarıyla eklenecektir.)
B20: 4 | C20: Ödeme Emri Belgesinde yer alan IBAN Bilgileri Fatura üzerinde yer alan bilgilerle uyumlu mu?
B21: 4.1 | C21: Ödeme Emri Belgesinde yer alan Bütçe Tertibi doğru mu?
B22: 4.2 | C22: Fatura üzerinde yer alan KDV'siz toplam tutar üzerinden Diğer Ödemelere Ait Damga Vergisi kesildi mi?
B23: 4.3 | C23: Damga Vergisi Detay Kodu doğru Seçilmiş mi ?
B24: 4.4 | C24: Damga vergisi kesintisi doğru hesaplanmış mı?
B25: 5 | C25: Ödeme Emri Belgesi'ndeki imzalar dönem başı bildirilen yetkili çizelgesine uygun mu?
B26: 5.1 | C26: Ödeme Emri Belgesi, yetki çizelgesinde belirtilmeyen personel tarafından imzalandı ise yetki devri yapılmış mı?
B27: 5.2 | C27: Yetki devri yapıldığına dair evrak eklendi mi? (Yıllık İzin Formu vb.)
B28: Kamu Ön Mali Kontrol Yönetmeliği'nin 6. maddesi gereğince hazırlanan bu kontrol listesinde yer alan bilgiler tarafımca kontrol edilmiş olup uygunluğu tasdik olunur. | J28: Gerçekleştirme Görevlisi Adı Soyadı Ünvanı İmza

Sheet EK-38
D2: Telefon-Faks Aboneliği Ödemelerine İlişkin Ön Mali Kontrol Listesi | M2: Ana Sayfa
B7: EK-38
B8: Bütçe Yılı:
B9: Harcama Birimi:
B10: İşin Adı:
B11: Sıra No | C11: Kontrol Edilecek Bilgi ve Belgeler | J11: Evet | K11: Hayır | L11: Açıklamalar
B12: 1 | C12: E-Fatura veya E-Arşiv Fatura(Harcama yetkilisi onaylı) mevcut mu?
B13: 1.1 | C13: Faturanın muhatabı doğru mu?
B14: 1.2 | C14: Gecikme cezası tutarı kümülatif toplamdan düşüldü mü?
B15: 2 | C15: Aynı harcama biriminin farklı telefon numarası varsa icmal yapılmış mı ?
B16: 2.1 | C16: Telefon faturasındaki numaralar ile icmal üzerine yazılan numaralar aynı mı?
B17: 2.2. | C17: Yapılan İcmal Listesinin üzerine "Görüşmeler resmidir." yazılıp Harcama Yetkilisince imzalanmış mı?
B18: 3 | C18: Cep telefonu ödemesi mi?
B19: 3.1 | C19: Rektörlük oluru var mı?
B20: 4 | C20: Stratejik Plan-Performans Programı-Bütçe-Harcama İlişkilendirme Tablosu mevcut mu? (01.01.2027 tarihi itibarıyla eklenecektir.)
B21: 5 | C21: Ödeme Emri Belgesinde yer alan IBAN Bilgileri Fatura üzerinde yer alan bilgilerle uyumlu mu?
B22: 5.1 | C22: Ödeme Emri Belgesinde yer alan Bütçe Tertibi doğru mu?
B23: 5.2 | C23: Fatura üzerinde yer alan KDV'siz toplam tutar üzerinden Diğer Ödemelere Ait Damga Vergisi kesildi mi?
B24: 5.3 | C24: Damga Vergisi Detay Kodu doğru Seçilmiş mi ?
B25: 6 | C25: Ödeme Emri Belgesi'ndeki imzalar dönem başı bildirilen yetkili çizelgesine uygun mu?
B26: 6.1 | C26: Ödeme Emri Belgesi, yetki çizelgesinde belirtilmeyen personel tarafından imzalandı ise yetki devri yapılmış mı?
B27: 6.2 | C27: Yetki devri yapıldığına dair evrak eklendi mi? (Yıllık İzin Formu vb.)
B28: Kamu Ön Mali Kontrol Yönetmeliği'nin 6. maddesi gereğince hazırlanan bu kontrol listesinde yer alan bilgiler tarafımca kontrol edilmiş olup uygunluğu tasdik olunur. | J28: Gerçekleştirme Görevlisi Adı Soyadı Ünvanı İmza

Sheet EK-37
D2: Emekli Yolluğu Ödemelerine İlişkin Ön Mali Kontrol Listesi | M2: Ana Sayfa
B7: EK-37
B8: Bütçe Yılı:
B9: Harcama Birimi:
B10: İşin Adı:
B11: Sıra No | C11: Kontrol Edilecek Bilgi ve Belgeler | J11: Evet | K11: Hayır | L11: Açıklamalar
B12: 1 | C12: Harcama Talimatı Onay Belgesi mevcut mu?
B13: 1.1 | C13: Harcama Talimatının hukuki dayanağı ve gerekçesi mahiyetine uygun mu?
B14: 1.2 | C14: Gerçekleştirme usulü mahiyetine uygun mu?
B15: 1.3 | C15: Seçilen Bütçe Tertibi harcamanın türüne uygun mu?
B16: 2 | C16: Emeklilik Talebi Olur Yazısı ile onaylanmış mı?
B17: 3 | C17: SGK İşten Ayrılış Bildirgesi mevcut mu?
B18: 4 | C18: Çeşitli Ödemeler Bordrosu eklenmiş mi?
B19: 4.1 | C19: Bordroda yer alan kişisel bilgiler doğru mu?
B20: 4.2 | C20: ilgili personelin dilekcesi var mı?(IBAN bilgisi için)
B21: 4.3 | C21: Gösterge rakamı (13.558) doğru yazılmış mı?
B22: 4.4 | C22: Memur katsayı oranı doğru yazılmış mı?
B23: 4.5 | C23: Gösterge Rakamı ile Maaş Katsayısı oranının çarpımı doğru hesaplanmış mı?
B24: 4.6 | C24: Brüt rakam üzerinden Damga Vergisi doğru hesaplanmış mı?
... B30: 8 | C30: Stratejik Plan-Performans Programı-Bütçe-Harcama İlişkilendirme Tablosu mevcut mu? (01.01.2027 tarihi itibarıyla eklenecektir.)
B31: 9 | C31: Ödeme Emri Belgesi'ndeki imzalar dönem başı bildirilen yetkili çizelgesine uygun mu?
B32: 9.1 | C32: Ödeme Emri Belgesi, yetki çizelgesinde belirtilmeyen personel tarafından imzalandı ise yetki devri yapılmış mı?
B33: 9.2 | C33: Yetki devri yapıldığına dair evrak eklendi mi? (Yıllık İzin Formu vb.)
B34: Kamu Ön Mali Kontrol Yönetmeliği'nin 6. maddesi gereğince hazırlanan bu kontrol listesinde yer alan bilgiler tarafımca kontrol edilmiş olup uygunluğu tasdik olunur. | J34: Gerçekleştirme Görevlisi Adı Soyadı Ünvanı İmza

Sheet EK-36
D2: Yurt Dışı Geçici Görev Yolluğu Ödemelerine İlişkin Ön Mali Kontrol Listesi | M2: Ana Sayfa
B7: EK-36
B8: Bütçe Yılı:
B9: Harcama Birimi:
B10: İşin Adı:
B11: Sıra No | C11: Kontrol Edilecek Bilgi ve Belgeler | J11: Evet | K11: Hayır | L11: Açıklamalar
B12: 1 | C12: Görevlendirme yazısı var mı? (Rektör imzalı)
B13: 2 | C13: Yönetim Kurulu Kararı var mı?
B14: 3 | C14: Görevlendirme yazısında, yolluk ve gündelik ödeyeceği konusunda gerekli açıklamalar var mı?
B15: 4 | C15: Yolluk Bildirim Formu var mı?(harcama belgeleri yönetmeliği ekinde yer alan örnek form)
B16: 5 | C16: Yolluk Bildirim Formu, görevlendirme yazısında belirtilen unsurlara uyumlu mu doldurulmuş?
B17: 6 | C17: Yolluk Bildirim Formunda maddi hata var mı?
B18: 7 | C18: Yolluk Bildirim Formunda bulunan imzalar tam mı?
B19: 8 | C19: Yolluk Bildirim Formunda kişisel bilgiler doğru mu?
B20: 9 | C20: Kurs veya toplantıya katılım yapılmışsa, iştirak edildiğine ilişkin belge var mı?
B21: 10 | C21: Yatacak yer temini için ödenen ücretlere ilişkin fatura veya fatura yerine geçen belge var mı?
B22: 11 | C22: Ulaşım için (Uçak, ara taşıt vs.) ödenen ücretlere ilişkin fatura veya fatura yerine geçen belge var mı?
B23: 12 | C23: Yabancı dilde kesilen faturaların onaylıTürkçe tercümesi var mı?
... B26: 15 | C26: Damga vergisi kesintisi ekonomik kodu doğru mu?
B27: 15.1 | C27: Damga vergisi kesintisi doğru hesaplanmş mı?
B28: 16 | C28: Stratejik Plan-Performans Programı-Bütçe-Harcama İlişkilendirme Tablosu mevcut mu? (01.01.2027 tarihi itibarıyla eklenecektir.)
B29: 17 | C29: Ödeme Emri Belgesi'ndeki imzalar dönem başı bildirilen yetkili çizelgesine uygun mu?
B30: 17.1 | C30: Ödeme Emri Belgesi, yetki çizelgesinde belirtilmeyen personel tarafından imzalandı ise yetki devri yapılmış mı?
B31: 17.2 | C31: Yetki devri yapıldığına dair evrak eklendi mi? (Yıllık İzin Formu vb.)
B32: Kamu Ön Mali Kontrol Yönetmeliği'nin 6. maddesi gereğince hazırlanan bu kontrol listesinde yer alan bilgiler tarafımca kontrol edilmiş olup uygunluğu tasdik olunur. | J32: Gerçekleştirme Görevlisi Adı Soyadı Ünvanı İmza

Sheet EK-35
D2: Yurt İçi Sürekli Görev Yolluğu Ödemelerine İlişkin Ön Mali Kontrol Listesi | M2: Ana Sayfa
B7: EK-35
B8: Bütçe Yılı:
B9: Harcama Birimi:
B10: İşin Adı:
B11: Sıra No | C11: Kontrol Edilecek Bilgi ve Belgeler | J11: Evet | K11: Hayır | L11: Açıklamalar
B12: 1 | C12: Atamalarda Atama Onayı, diğer hallerde Harcama Talimatı mevcut mu?
B13: 2 | C13: Personel Nakil Bildirim Formu var mı?
B14: 2.1 | C14: Nakil Bildirim Formunda ayrıldığı kurumdan yolluk alıp almadığı belirtilmiş mi?
B15: 3 | C15: Yurt İçi Sürekli Görev yolluğu talep dilekçesi var mı?
B16: 4 | C16: İlgili harcama birimi tarafından göreve başlama yazısı yazıldı mı?
B17: 5 | C17: Aile Yardım Bildirimi mevcut mu?
B18: 6 | C18: Yurtiçi Sürekli Görev Yolluğu Bildirimi mevcut mu?
B19: 6.1 | C19: Yolluk Bildirim Formunda yer alan kişisel bilgiler doğru mu?
B20: 6.2 | C20: Aylık Kadro Derecesi ve Ek Göstergesi doğru mu?
B21: 6.3 | C21: Yolluk Bildirim Formunda yer alan gündelik tutarı, ilgili mali yıl Bütçe Kanununda belirlenen Ek Gösterge gündelik tutarı ile uyumlu mu?
B22: 6.3.1 | C22: Harcıraha müstahak kişinin, atamasının yapıldığı mali yıldaki gündelik tutarı ile yolluk bildiriminde yer alan gündelik tutarı uyumlu mu?
B23: 6.4 | C23: Yolluk Bildirim Formunda bütçe yılı doğru seçilmiş mi?
... B30: 6.6.2.2 | C30: Eşlerden sadece birisinin memuriyet mahalli değişti mi?
C31: Eşlerin, farklı memuriyet mahallinden farklı farklı memuriyet mahallerine atanmaları, durumunda değişken unsur tam verildi mi?
C32: Harcıraha müstahak kişi eşi veya bakmakla yükümlü olduğu kişileri yanında götürdü mü?
C33: Aile fertleri için 1 günlük gündelik tutarı verildi mi?
B34: 6.7 | C34: Aile fertleri için mutat taşıt ücretine yolluk bildiriminde yer verildi mi?
B35: 6.7.1 | C35: Aile fertlerine sabit unsur ödenecekse en fazla dört kişi olmak üzere yurt içi gündeliğinin 10 katı verildi mi?
B36: 6.7.2 | C36: Sabit unsur her halükarda 60 katı geçmeyecek şekilde mi hesaplandı?
B37: 6.7.3 | C37: Ödeme Emri Belgesi üzerinden harcırahlara ait damga vergisi doğru olarak kesilmiş mi?
B38: 6.7.4 | C38: Ödeme Emri Belgesinde yer alan Bütçe Tertibi doğru olarak seçilmiş mi?
B39: 7 | C39: Harcama İlişkilendirme Tablosu eklenmiş mi?
B40: 8 | C40: Stratejik Plan-Performans Programı-Bütçe-Harcama İlişkilendirme Tablosu mevcut mu? (01.01.2027 tarihi itibarıyla eklenecektir.)
B41: 9 | C41: Ödeme Emri Belgesi'ndeki imzalar dönem başı bildirilen yetkili çizelgesine uygun mu?
B42: 9.1 | C42: Ödeme Emri Belgesi, yetki çizelgesinde belirtilmeyen personel tarafından imzalandı ise yetki devri yapılmış mı?
B43: 9.2 | C43: Yetki devri yapıldığına dair evrak eklendi mi? (Yıllık İzin Formu vb.)
B44: 10 | C44: Damga Vergisi Detay Kodu doğru seçilmiş mi?
B45: 10.1 | C45: Damga Vergisi Detay kesintisi doğru hesaplanmış mı?
B46: Kamu Ön Mali Kontrol Yönetmeliği'nin 6. maddesi gereğince hazırlanan bu kontrol listesinde yer alan bilgiler tarafımca kontrol edilmiş olup uygunluğu tasdik olunur. | J46: Gerçekleştirme Görevlisi Adı Soyadı Ünvanı İmza

Sheet EK-34
D2: Yurt İçi Geçici Görev Yolluğu Ödemelerine İlişkin Ön Mali Kontrol Listesi | M2: Ana Sayfa
B7: EK-34
B8: Bütçe Yılı:
B9: Harcama Birimi:
B10: İşin Adı:
B11: Sıra No | C11: Kontrol Edilecek Bilgi ve Belgeler | J11: Evet | K11: Hayır | L11: Açıklamalar
B12: 1 | C12: Görevlendirme yazısı var mı? (Akademik görevlendirmelerde Rektör imzalı/ İdari personelde birim amiri imzalı)
B13: 1.1 | C13: Akademik faaliyetler için Yönetim Kurulu Kararı var mı?
B14: 1.2 | C14: Yönetim Kurulu Kararında, yolluk, gündelik ve konaklama ödeyeceği konusunda gerekli açıklamalar var mı?
B15: 1.3 | C15: Görevlendirmede seyahatin uçakla yapılacağı belirtilmiş mi? (zorunlu)
B16: 1.4 | C16: Öğrenci Topluluklarının faaliyetleri için Öğrenci Toplulukları Denetim ve Koordinasyon Kurulu Toplantı Tutanağı mevcut mu?
B17: 1.5 | C17: Harcıraha konu Öğrenci Topluluğu faaliyetleriyle ilgili ödeme yapılması için Rektörlük makamından olur/onay alınmış mı?
B18: 1.6 | C18: Yıl içerisinde görevlendirilen şoförler için araç görevlendirme yetki yazısı var mı?
B19: 1.7 | C19: Görevlendirme yazısında, yolluk, gündelik ve konaklama ödeyeceği konusunda gerekli açıklamalar var mı?
B20: 2 | C20: Yurtiçi Geçici Görev Yolluk Bildirim Formu var mı?( harcama belgeleri yönetmeliği ekinde yer alan örnek form)
B21: 2.1 | C21: 24 saati aşmayan görevlendirmelerde gidiş-dönüş saatleri yolluk bildiriminde gösterildi mi?
B22: 2.2 | C22: Yolluk Bildirim Formunda Bütçe Yılı doğru seçilmiş mi?
B23: 2.3 | C23: Yolluk bildirim formunda yer alan gündelik tutarı ilgili mali yıl bütçe kanununda belirlenen ek gösterge gündelik tutarı ile uyumlu mu?
B24: 2.4 | C24: Memur veya hizmetli olmadıkları halde bu Kanuna tabi kurumlarca geçici bir görev ile görevlendirilenlere verilecek yol masrafı ve gündelik, 4’üncü dereceye kadar olan memurlardan herhangi birine verilen yol masrafı ve gündeliğe kıyasen ödeme yapılmış mı?
... B44: 9 | C44: Ödeme Emri Belgesi’nde yer alan Bütçe Tertibi doğru olarak seçilmiş mi?
B45: 10 | C45: Ödeme Emri Belgesi'ndeki imzalar dönem başı bildirilen yetkili çizelgesine uygun mu?
B46: 10.1 | C46: Ödeme Emri Belgesi, yetki çizelgesinde belirtilmeyen personel tarafından imzalandı ise yetki devri yapılmış mı?
B47: 10.2 | C47: Yetki devri yapıldığına dair evrak eklendi mi? (Yıllık İzin Formu vb.)
B48: 11 | C48: Yapılan görevlendirme Tasarruf Tedbirleri Genelgesi ile uyumlu mu?
B49: Kamu Ön Mali Kontrol Yönetmeliği'nin 6. maddesi gereğince hazırlanan bu kontrol listesinde yer alan bilgiler tarafımca kontrol edilmiş olup uygunluğu tasdik olunur. | J49: Gerçekleştirme Görevlisi Adı Soyadı Ünvanı İmza

Sheet EK-33
D2: 4734 Sayılı Kanun 3.Madde Kapsamında DMO Üzerinden Yapılacak Akaryakıt Alımlarına İlişkin Ön Mali Kontrol Listesi | M2: Ana Sayfa
B7: EK-33
B8: Bütçe Yılı:
B9: Harcama Birimi:
B10: İşin Adı:
B11: Sıra No | C11: Kontrol Edilecek Bilgi ve Belgeler | J11: Evet | K11: Hayır | L11: Açıklamalar
B12: 1 | C12: Harcama Talimatı Onay Belgesi mevcut mu?
B13: 1.1 | C13: Harcama talimatının hukuki dayanağı ve gerekçesi mahiyetine uygun mu?
B14: 1.2 | C14: Gerçekleştirme Usulü mahiyetine uygun mu?
B15: 1.3 | C15: Seçilen Bütçe Tertibi harcamanın türüne uygun mu?
B16: 2 | C16: İcmal listesi oluşturulmuş mu ?
B17: 2.1 | C17: Araçlara alınan benzin ve motorinler litre bazlı plakalara işlenmiş mi?
B18: 2.2 | C18: İcmalde yer alan litrelerin genel toplamı ile fatura genel toplamı tutuyor mu ?
B19: 3 | C19: Fatura mevcut mu?
B20: 3.1 | C20: Firma/Şahıs/Kurum tarafından kesilen fatura, faturada bulunması gereken şekil şartlarını taşıyor mu?
B21: 3.2 | C21: Faturanın muhatabı doğru mu?
B22: 3.3 | C22: Faturada yer alan malzemelerin adedi ile birim fiyatlarının çarpımı doğru mu?
B23: 3.4 | C23: e-Arşiv Fatura ise barkod veya ilgisi tarafından kaşe ve yapılmış mı?
... B25: 3.6 | C25: e-Arşiv Fatura ise sorgulamayı yapan kişi tarafından kontrol edilerek kaşe ve imza yapılmış mı?
B26: 4 | C26: Taşıt masraf cetveli belgesi eklenmiş mi ?
B27: 4.1 | C27: Taşıt masraf cetveline alınan akaryakıtlar plaka bazlı işlenmiş mi ?
B28: 4.2 | C28: Gelir İdaresi Başkanlığından alınan Vergi Borcu Sorgusu mevcut mu?
B29: 4.3 | C29: Alınan Vergi Borcu Sorgusu güncel mi? (Belge tanzim edildiği tarihten itibaren 15 gün geçerlidir)
B30: 4.4 | C30: Vergi Borcu Sorgusu, sorgulamayı yapan görevli tarafından kontrol edilerek kaşelenip imzalanmış mı?
B31: 4.5 | C31: Vergi Borcu Sorgusunda Kişi/Firma/Kuruma ait borç varsa ve borç limitini aşıyorsa vergi borcu, Ödeme Emri Belgesi üzerinden kesildi mi?
B32: 5 | C32: Stratejik Plan-Performans Programı-Bütçe-Harcama İlişkilendirme Tablosu mevcut mu? (01.01.2027 tarihi itibarıyla eklenecektir.)
B33: 5.1 | C33: Ödeme Emri Belgesinde yer alan IBAN bilgileri fatura veya IBAN dilekçesi üzerinde yer alan bilgiler uyumlu mu?
B34: 5.2 | C34: Ödeme Emri Belgesinde yer alan Bütçe Tertibi doğru mu?
B35: 5.3 | C35: Fatura üzerinde yer alan KDV’siz toplam tutar üzerinden Diğer Ödemelere Ait Damga Vergisi kesildi mi?
B36: 5.4 | C36: Damga Vergisi Detay Kodu doğru seçilmiş mi?
B37: 6 | C37: Ödeme Emri Belgesi'ndeki imzalar dönem başı bildirilen yetkili çizelgesine uygun mu? Ödeme Emri Belgesi, yetki çizelgesinde belirtilmeyen personel tarafından imzalandı ise yetki devri yapılmış mı? Yetki devri yapıldığına dair evrak eklendi mi? (Yıllık İzin Formu vb.)
B38: 7 | C38: Alınan mal Tasarruf Tedbirleri Genelgesi ile uyumlu mu?
... B40: 9 | C40: muayene kabul kamisyon tutanağı düzenlendi mi?
B41: Kamu Ön Mali Kontrol Yönetmeliği'nin 6. maddesi gereğince hazırlanan bu kontrol listesinde yer alan bilgiler tarafımca kontrol edilmiş olup uygunluğu tasdik olunur. | J41: Gerçekleştirme Görevlisi Adı Soyadı Ünvanı İmza

Sheet EK-32
D2: 4734 Sayılı Kanun 22/c Maddesi Kapsamında Yapılacak Alımlara İlişkin Ön Mali Kontrol Listesi | M2: Ana Sayfa
B7: EK-32
B8: Bütçe Yılı:
B9: Harcama Birimi:
B10: İşin Adı:
B11: Sıra No | C11: Kontrol Edilecek Bilgi ve Belgeler | J11: Evet | K11: Hayır | L11: Açıklamalar
B12: 1 | C12: Yaklaşık Maliyet Tablosu oluşturulmuş mu? (Zorunlu değil.)
B13: 1.1 | C13: Yaklaşık Maliyet hesaplanırken KDV hariç mi hesaplanmış?
B14: 1.2 | C14: Yaklaşık Maliyet İcmal Tablosu mevcut mu?
B15: 1.3 | C15: Yaklaşık Maliyet hesaplanırken dayanakları mevcut mu?
B16: 2 | C16: Harcama Talimatı Onay Belgesi mevcut mu?
B17: 2.1 | C17: Harcama talimatının hukuki dayanağı ve gerekçesi mahiyetine uygun mu?
B18: 2.2 | C18: Gerçekleştirme Usulü mahiyetine uygun mu?
B19: 2.3 | C19: Seçilen Bütçe Tertibi harcamanın türüne uygun mu?
B20: 3 | C20: Doğrudan Temin Tek Kaynak Formu mevcut mu?
B21: 3.1 | C21: İlgili formda Yaklaşık Maliyet kısmında tutar belirtilmişse icmal eklenmiş mi?
B22: 3.2 | C22: İlgili formda Malın/Hizmetin yada yaptırılacak işin teslimat tarihi belirtilmişse Muayene Kabul Komisyon Tarihi ile aynı mı?
B23: 3.3 | C23: İlgili formda Doğrudan Teminin türünü belirtilen (22-c) kutucuk işaretlenmiş mi ?
B24: 3.4 | C24: İlgili formda açıklamalar kısmında alımın neden tek kaynaktan alındığına dair açıklama yapılmış mı? Dayanağı belgeler koyuldu mu?
... B67: 14 | C67: Alınan mal veya hizmet Tasarruf Tedbirleri Genelgesi ile uyumlu mu?
B68: 15 | C68: Ödeme Emri Belgesi'ndeki imzalar dönem başı bildirilen yetkili çizelgesine uygun mu?
B69: 15.1 | C69: Ödeme Emri Belgesi, yetki çizelgesinde belirtilmeyen personel tarafından imzalandı ise yetki devri yapılmış mı?
B70: 15.2 | C70: Yetki devri yapıldığına dair evrak eklendi mi? (Yıllık İzin Formu vb.)
B71: Kamu Ön Mali Kontrol Yönetmeliği'nin 6. maddesi gereğince hazırlanan bu kontrol listesinde yer alan bilgiler tarafımca kontrol edilmiş olup uygunluğu tasdik olunur. | J71: Gerçekleştirme Görevlisi Adı Soyadı Ünvanı İmza

Sheet EK-31
D2: 4734 Sayılı Kanun 22/b Maddesi Kapsamında Yapılacak Alımlara İlişkin Ön Mali Kontrol Listesi | M2: Ana Sayfa
B7: EK-31
B8: Bütçe Yılı:
B9: Harcama Birimi:
B10: İşin Adı:
B11: Sıra No | C11: Kontrol Edilecek Bilgi ve Belgeler | J11: Evet | K11: Hayır | L11: Açıklamalar
B12: 1 | C12: Yaklaşık Maliyet Tablosu oluşturulmuş mu? (Zorunlu değil.)
B13: 1.1 | C13: Yaklaşık Maliyet hesaplanırken KDV hariç mi hesaplanmış?
B14: 1.2 | C14: Yaklaşık Maliyet İcmal Tablosu mevcut mu?
B15: 1.3 | C15: Yaklaşık Maliyet hesaplanırken dayanakları mevcut mu?
B16: 2 | C16: Harcama Talimatı Onay Belgesi mevcut mu?
B17: 2.1 | C17: Harcama talimatının hukuki dayanağı ve gerekçesi mahiyetine uygun mu?
B18: 2.2 | C18: Gerçekleştirme Usulü mahiyetine uygun mu?
B19: 2.3 | C19: Seçilen Bütçe Tertibi harcamanın türüne uygun mu?
B20: 3 | C20: Doğrudan Temin Tek Kaynak Formu mevcut mu?
B21: 3.1 | C21: İlgili formda Yaklaşık Maliyet kısmında tutar belirtilmişse icmal eklenmiş mi?
B22: 3.2 | C22: İlgili formda Malın/Hizmetin yada yaptırılacak işin teslimat tarihi belirtilmişse Muayene Kabul Komisyon Tarihi ile aynı mı?
B23: 3.3 | C23: İlgili formda Doğrudan Teminin türünü belirtilen (22-b) kutucuk işaretlenmiş mi ?
B24: 3.4 | C24: İlgili formda açıklamalar kısmında alımın neden tek kaynaktan alındığına dair açıklama yapılmış mı?Dayanağı belgeler koyuldu mu?
... B66: 14 | C66: Alınan mal veya hizmet Tasarruf Tedbirleri Genelgesi ile uyumlu mu?
B67: 15 | C67: Ödeme Emri Belgesi'ndeki imzalar dönem başı bildirilen yetkili çizelgesine uygun mu?
B68: 15.1 | C68: Ödeme Emri Belgesi, yetki çizelgesinde belirtilmeyen personel tarafından imzalandı ise yetki devri yapılmış mı?
B69: 15.2 | C69: Yetki devri yapıldığına dair evrak eklendi mi? (Yıllık İzin Formu vb.)
B70: Kamu Ön Mali Kontrol Yönetmeliği'nin 6. maddesi gereğince hazırlanan bu kontrol listesinde yer alan bilgiler tarafımca kontrol edilmiş olup uygunluğu tasdik olunur. | J70: Gerçekleştirme Görevlisi Adı Soyadı Ünvanı İmza

Sheet EK-30
D2: 4734 Sayılı Kanun 22/a Maddesi Kapsamında Yapılacak Alımlara İlişkin Ön Mali Kontrol Listesi | M2: Ana Sayfa
B7: EK-30
B8: Bütçe Yılı:
B9: Harcama Birimi:
B10: İşin Adı:
B11: Sıra No | C11: Kontrol Edilecek Bilgi ve Belgeler | J11: Evet | K11: Hayır | L11: Açıklamalar
B12: 1 | C12: Yaklaşık Maliyet Tablosu oluşturulmuş mu? (Zorunlu değil.)
B13: 1.1 | C13: Yaklaşık Maliyet hesaplanırken KDV hariç mi hesaplanmış?
B14: 1.2 | C14: Yaklaşık Maliyet İcmal Tablosu mevcut mu?
B15: 1.3 | C15: Yaklaşık Maliyet hesaplanırken dayanakları mevcut mu?
B16: 2 | C16: Harcama Talimatı Onay Belgesi mevcut mu?
B17: 2.1 | C17: Harcama talimatının hukuki dayanağı ve gerekçesi mahiyetine uygun mu?
B18: 2.2 | C18: Gerçekleştirme Usulü mahiyetine uygun mu?
B19: 2.3 | C19: Seçilen Bütçe Tertibi harcamanın türüne uygun mu?
B20: 3 | C20: Doğrudan Temin Tek Kaynak Formu mevcut mu?
B21: 3.1 | C21: İlgili formda Yaklaşık Maliyet kısmında tutar belirtilmişse icmal eklenmiş mi?
B22: 3.2 | C22: İlgili formda Malın/Hizmetin yada yaptırılacak işin teslimat tarihi belirtilmişse Muayene Kabul Komisyon Tarihi ile aynı mı?
B23: 3.3 | C23: İlgili formda Doğrudan Teminin türünü belirtilen (22-a) kutucuk işaretlenmiş mi ?
B24: 3.4 | C24: İlgili formda açıklamalar kısmında alımın neden tek kaynaktan alındığına dair açıklama yapılmış mı?Dayanağı belgeler koyuldu mu?
... B66: 14 | C66: Alınan mal veya hizmet Tasarruf Tedbirleri Genelgesi ile uyumlu mu?
B67: 15 | C67: Ödeme Emri Belgesi'ndeki imzalar dönem başı bildirilen yetkili çizelgesine uygun mu?
B68: 15.1 | C68: Ödeme Emri Belgesi, yetki çizelgesinde belirtilmeyen personel tarafından imzalandı ise yetki devri yapılmış mı?
B69: 15.2 | C69: Yetki devri yapıldığına dair evrak eklendi mi? (Yıllık İzin Formu vb.)
B70: Kamu Ön Mali Kontrol Yönetmeliği'nin 6. maddesi gereğince hazırlanan bu kontrol listesinde yer alan bilgiler tarafımca kontrol edilmiş olup uygunluğu tasdik olunur. | J70: Gerçekleştirme Görevlisi Adı Soyadı Ünvanı İmza

Sheet EK-29
D2: 4734 Sayılı Kanun 22/d Maddesi Kapsamında Yapılacak Mal Alımlarına İlişkin Ön Mali Kontrol Listesi | M2: Ana Sayfa
B7: EK-29
B8: Bütçe Yılı:
B9: Harcama Birimi:
B10: İşin Adı:
B11: Sıra No | C11: Kontrol Edilecek Bilgi ve Belgeler | J11: Evet | K11: Hayır | L11: Açıklamalar
B12: 1 | C12: Yaklaşık Maliyet Tablosu oluşturulmuş mu? (Zorunlu değil.)
B13: 1.1 | C13: Yaklaşık Maliyet hesaplanırken KDV hariç mi hesaplanmış?
B14: 1.2 | C14: Yaklaşık Maliyet İcmal Tablosu mevcut mu?
B15: 1.3 | C15: Yaklaşık Maliyet hesaplanırken dayanakları mevcut mu?
B16: 2 | C16: Onay Belgesi mevcut mu?
B17: 2.1 | C17: Harcama talimatının hukuki dayanağı ve gerekçesi mahiyetine uygun mu?
B18: 2.2 | C18: Gerçekleştirme Usulü mahiyetine uygun mu?
B19: 2.3 | C19: Seçilen Bütçe Tertibi harcamanın türüne uygun mu? Ödenek kontrolü yapıldı mı?
B20: 2.4 | C20: Onay Belgesine ÜBYS'den kayıt numarası verilmiş mi?
B21: 2.5 | C21: Onay Belgesi üzerinde imzalar tamamlanmış mı?
B22: 3 | C22: EKAP üzerinden Doğrudan Temin Kayıt Numarası alındı mı? (Limit üzerinde ise)
B23: 3.1 | C23: Üniversitemiz Doğrudan Temin Yönetim Paneline kayıt(ilk aşama KDV dahil) yapıldı mı?
B24: 4 | C24: Her mali yıl başında belirlenen parasal limitler doğrultusunda mal alımlarında doğrudan temin limitinin 1/3'ü aşıyorsa ilan yapıldı mı?
B25: 5 | C25: Piyasa Fiyat Araştırma Tutanağı eklenmiş mi?
B26: 5.1 | C26: Piyasa Fiyat Araştırma Tutanağında yer alan malzemelerin adet ve birim fiyatlarının çarpımı doğru hesaplanmış mı?
B27: 5.2 | C27: Piyasa Fiyat Araştırma Tutanağının tarihi, Harcama Talimatı/Onay Belgesi tarihi ile aynı veya sonra mı?
B28: 5.3 | C28: Piyasa Fiyat Araştırma Tutanağı, piyasa fiyat araştırması görevlileri tarafında imzalanmış mı?
B29: 5.4 | C29: Teklif mektupları veya proforma faturalar piyasa fiyatı araştırma tutanağı ile uyumlu mu?
B30: 6 | C30: Mal alımına ait sözleşme yapıldı mı?
B31: 6.1 | C31: Sözleşme üzerinde yer alan bilgiler eksiksiz doldurulmuş mu ?
B32: 6.2 | C32: Sözleşmenin her sayfası taraflar tarafından paraf, kaşe ve imza yapılmış mı?
B33: 6.3 | C33: Sözleşmeye Ait Damga Vergisinin yatırıldığına dair Vergi Dairesi Alındısı mevcut mu?
B34: 7 | C34: Muayene Kabul Komisyon Tutanağı mevcut mu?
B35: 7.1 | C35: Muayene Kabul Komisyon Tutanağı üzerinde yer alan fatura tarihi, numarası, firma adı, onay tarihi ve numarası tutanakta yer alıyor mu?
B36: 7.2 | C36: Alınan mal, Muayene Kabul Komisyonu Görevlileri tarafından kontrol edildi mi?
B37: 7.3 | C37: Teslim edilen mal Muayene Kabul Komisyonu Görevlileri tarafından teslim alındı mı?
... B44: 8.6 | C44: e-Arşiv Fatura ise sorgulamayı yapan kişi tarafından kontrol edilerek kaşe ve imza yapılmış mı?
B45: 9 | C45: Mal alımlarında;
B46: 9.1 | C46: TKYS üzerinden Alınan Varlık İşlem Fişi eklendi mi?
B47: 9.2 | C47: Varlık İşlem Fişi üzerinde yer alan malzeme ile faturada yer alan malzeme aynı mı?
B48: 9.3 | C48: TİF'te kuruş farkı var mı?
B49: 9.4 | C49: Varlık İşlem Fişi Taşınır Kayıt Yetkilisi tarafından imzalandı mı?
B50: 9.5 | C50: HYS üzerinden Varlık İşlem Fişi ilişkilendirildi mi?
B51: 10 | C51: Gelir İdaresi Başkanlığından alınan Vergi Borcu Sorgusu mevcut mu?
B52: 10.1 | C52: Alınan Vergi Borcu Sorgusu güncel mi? (Belge tanzim edildiği tarihten itibaren 15 gün geçerlidir)
B53: 10.2 | C53: Vergi Borcu Sorgusu, sorgulamayı yapan görevli tarafından kontrol edilerek kaşelenip imzalanmış mı?
B54: 10.3 | C54: Vergi Borcu Sorgusunda Kişi/Firma/Kuruma ait borç varsa ve borç limitini aşıyorsa vergi borcu, Ödeme Emri Belgesi üzerinden kesildi mi?
B55: 11 | C55: KİK Yasaklılık sorgusu yapılarak Teyit Belgesi eklendi mi?(Piyasa fiyat araştırma tutanağı tarihi ile aynı tarihli olmalıdır)
B56: 12 | C56: Stratejik Plan-Performans Programı-Bütçe-Harcama İlişkilendirme Tablosu mevcut mu? (01.01.2027 tarihi itibarıyla eklenecektir.)
B57: 13 | C57: Ödeme Emri Belgesinde yer alan IBAN bilgileri fatura veya IBAN dilekçesi üzerinde yer alan bilgiler uyumlu mu?
... B62: 14 | C62: Alınan mal Tasarruf Tedbirleri Genelgesi ile uyumlu mu?
B63: 15 | C63: Ödeme Emri Belgesi'ndeki imzalar dönem başı bildirilen yetkili çizelgesine uygun mu?
B64: 15.1 | C64: Ödeme Emri Belgesi, yetki çizelgesinde belirtilmeyen personel tarafından imzalandı ise yetki devri yapılmış mı?
B65: 15.2 | C65: Yetki devri yapıldığına dair evrak eklendi mi? (Yıllık İzin Formu vb.)
B66: Kamu Ön Mali Kontrol Yönetmeliği'nin 6. maddesi gereğince hazırlanan bu kontrol listesinde yer alan bilgiler tarafımca kontrol edilmiş olup uygunluğu tasdik olunur. | J66: Gerçekleştirme Görevlisi Adı Soyadı Ünvanı İmza

Sheet EK-28
D2: 4734 Sayılı Kanun 22/d Kapsamında Yapılacak Hizmet Alımlarına İlişkin Ön Mali Kontrol Listesi
M4: Ana Sayfa
B7: EK-28
B8: Bütçe Yılı:
B9: Harcama Birimi:
B10: İşin Adı:
B11: Sıra No | C11: Kontrol Edilecek Bilgi ve Belgeler | J11: Evet | K11: Hayır | L11: Açıklamalar
B12: 1 | C12: Yaklaşık Maliyet Tablosu oluşturulmuş mu? (Zorunlu değil.)
B13: 1.1 | C13: Yaklaşık Maliyet hesaplanırken KDV hariç mi hesaplanmış?
B14: 1.2 | C14: Yaklaşık Maliyet İcmal Tablosu mevcut mu?
B15: 1.3. | C15: Yaklaşık Maliyet hesaplanırken dayanakları mevcut mu?
B16: 2 | C16: Harcama Talimatı Onay Belgesi mevcut mu?
B17: 2.1 | C17: Harcama talimatının hukuki dayanağı ve gerekçesi mahiyetine uygun mu?
B18: 2.2 | C18: Gerçekleştirme Usulü mahiyetine uygun mu?
B19: 2.3 | C19: Seçilen Bütçe Tertibi harcamanın türüne uygun mu? Ödenek kontrolü yapıldı mı?
B20: 2.4 | C20: Onay Belgesi üzerinde imzalar tamamlanmış mı?
B21: 2.5 | C21: Onay Belgesine ÜBYS'den kayıt numarası verilmiş mi?
B22: 3 | C22: EKAP üzerinden Doğrudan Temin Kayıt Numarası alındı mı?
B23: 3.1 | C23: Üniversitemiz Doğrudan Temin Yönetim Paneline kayıt(ilk aşama KDV dahil) yapıldı mı?
B24: 4 | C24: Her mali yıl başında belirlenen parasal limitler doğrultusunda yapım işlerinde doğrudan temin limitinin 2/3 aşıyorsa ilan yapıldı mı?
B25: 5 | C25: Piyasa Fiyat Araştırma Tutanağı eklenmiş mi?
B26: 5.1 | C26: Piyasa Fiyat Araştırma Tutanağında yer alan malzemelerin adet ve birim fiyatlarının çarpımı doğru hesaplanmış mı?
B27: 5.2 | C27: Piyasa Fiyat Araştırma Tutanağının tarihi, Harcama Talimatı/Onay Belgesi tarihi ile aynı veya sonra mı?
B28: 5.3 | C28: Piyasa Fiyat Araştırma Tutanağı, piyasa fiyat araştırması görevlileri tarafında imzalanmış mı?
B29: 5.4 | C29: Teklif mektupları veya proforma faturalar piyasa fiyatı araştırma tutanağı ile uyumlu mu?
B30: 6 | C30: Hizmet işine ait sözleşme yapıldı mı? (Süreli bir hizmet ise zorunludur)
B31: 6.1 | C31: Sözleşme üzerinde yer alan bilgiler eksiksiz doldurulmuş mu ?
B32: 6.2 | C32: Sözleşmenin her sayfası taraflar tarafından paraf, kaşe ve imza yapılmış mı?
B33: 6.3 | C33: Sözleşmeye Ait Damga Vergisinin yatırıldığına dair Vergi Dairesi Alındısı mevcut mu?
B34: 7 | C34: Muayene ve Kabul Komisyonu Tutanağı mevcut mu?
B35: 7.1 | C35: Alınan hizmet kalemlerinin birim adedi ve fiyat bilgileri fatura ile uyuşuyor mu?
B36: 7.2 | C36: Sunulan hizmet Muayene ve Kabul Komisyonu Görevlileri tarafından kontrol edildi mi?
B37: 8 | C37: Fatura mevcut mu?
... B58: 14 | C58: Sunulan hizmet, Tasarruf Tedbirleri Genelgesi ile uyumlu mu?
B59: 15 | C59: Ödeme Emri Belgesi'ndeki imzalar dönem başı bildirilen yetkili çizelgesine uygun mu?
B60: 15.1 | C60: Ödeme Emri Belgesi, yetki çizelgesinde belirtilmeyen personel tarafından imzalandı ise yetki devri yapılmış mı?
B61: 15.2 | C61: Yetki devri yapıldığına dair evrak eklendi mi? (Yıllık İzin Formu vb.)
B62: Kamu Ön Mali Kontrol Yönetmeliği'nin 6. maddesi gereğince hazırlanan bu kontrol listesinde yer alan bilgiler tarafımca kontrol edilmiş olup uygunluğu tasdik olunur. | J62: Gerçekleştirme Görevlisi Adı Soyadı Ünvanı İmza

Sheet EK-27
D2: 4734 Sayılı Kanun 22/d Maddesi Geeğeince Yapılacak Yapım İşleri Ödemelerine İlişkin Ön Mali Kontrol Listesi | M2: Ana Sayfa
B7: EK-27
B8: Bütçe Yılı:
B9: Harcama Birimi:
B10: İşin Adı:
B11: Sıra No | C11: Kontrol Edilecek Bilgi ve Belgeler | J11: Evet | K11: Hayır | L11: Açıklamalar
B12: 1 | C12: Yaklaşık Maliyet Tablosu oluşturulmuş mu? (Zorunlu değil.)
B13: 1.1 | C13: Yaklaşık Maliyet hesaplanırken KDV hariç mi hesaplanmış?
B14: 1.2 | C14: Yaklaşık Maliyet İcmal Tablosu mevcut mu?
B15: 1.3. | C15: Yaklaşık Maliyet hesaplanırken dayanakları mevcut mu?
B16: 2 | C16: Onay Belgesi mevcut mu?
B17: 2.1 | C17: Harcama talimatının hukuki dayanağı ve gerekçesi mahiyetine uygun mu?
B18: 2.2 | C18: Gerçekleştirme Usulü mahiyetine uygun mu?
B19: 2.3 | C19: Seçilen Bütçe Tertibi harcamanın türüne uygun mu? Ödenek kontrolü yapıldı mı?
B20: 2.4 | C20: Onay Belgesi üzerinde imzalar tamamlanmış mı?(manuel düzenlendiği taktirde)
B21: 2.5 | C21: Onay Belgesine ÜBYS'den kayıt numarası verilmiş mi?(manuel düzenlendiği taktirde)
B22: 2.6 | C22: EKAP üzerinden Doğrudan Temin Kayıt Numarası alındı mı?
B23: 2.7 | C23: Yapım işi keşif özeti eklenmiş mi?
B24: 3 | C24: Üniversitemiz Doğrudan Temin Yönetim Paneline kayıt(ilk aşama KDV dahil) yapıldı mı?
B25: 4 | C25: Her mali yıl başında belirlenen parasal limitler doğrultusunda yapım işlerinde doğrudan temin limitinin 2/3 aşıyorsa ilan yapıldı mı?
B26: 5 | C26: Piyasa Fiyat Araştırma Tutanağı eklenmiş mi?
B27: 5.1 | C27: Piyasa Fiyat Araştırma Tutanağında yer alan malzemelerin adet ve birim fiyatlarının çarpımı doğru hesaplanmış mı?
B28: 5.2 | C28: Piyasa Fiyat Araştırma Tutanağının tarihi, Harcama Talimatı/Onay Belgesi tarihi ile aynı veya sonra mı?
B29: 5.3 | C29: Piyasa Fiyat Araştırma Tutanağı, piyasa fiyat araştırması görevlileri tarafında imzalanmış mı?
B30: 5.4 | C30: Teklif mektupları veya proforma faturalar piyasa fiyatı araştırma tutanağı ile uyumlu mu?
B31: 6 | C31: Yapım işine ait sözleşme yapıldı mı?
B32: 6.1 | C32: Sözleşme üzerinde yer alan bilgiler eksiksiz doldurulmuş mu?
B33: 6.2 | C33: Sözleşmenin her sayfası taraflar tarafından paraf, kaşe ve imza yapılmış mı?
B34: 6.3 | C34: Sözleşmeye Ait Damga Vergisi yatırıldığına dair Vergi Dairesi Alındısı mevcut mu?
B35: 7 | C35: Muayene Kabul Komisyon Tutanağı mevcut mu?
B36: 7.1 | C36: Muayene Kabul Komisyon Tutanağı üzerinde yer alan fatura tarihi, numarası, firma adı, onay tarihi ve numarası tutanakta yer alıyor mu?
B37: 7.2 | C37: Yapılan İş Muayene Kabul Komisyonu Görevlileri tarafından kontrol edildi mi?
B38: 8 | C38: Fatura mevcut mu?
... B59: 14 | C59: Stratejik Plan-Performans Programı-Bütçe-Harcama İlişkilendirme Tablosu mevcut mu? (01.01.2027 tarihi itibarıyla eklenecektir.)
B60: 15 | C60: Ödeme Emri Belgesi'ndeki imzalar dönem başı bildirilen yetkili çizelgesine uygun mu?
B61: 15.1 | C61: Ödeme Emri Belgesi, yetki çizelgesinde belirtilmeyen personel tarafından imzalandı ise yetki devri yapılmış mı?
B62: 15.2 | C62: Yetki devri yapıldığına dair evrak eklendi mi? (Yıllık İzin Formu vb.)
B97: Kamu Ön Mali Kontrol Yönetmeliği'nin 6. maddesi gereğince hazırlanan bu kontrol listesinde yer alan bilgiler tarafımca kontrol edilmiş olup uygunluğu tasdik olunur. | J97: Gerçekleştirme Görevlisi Adı Soyadı Ünvanı İmza

Sheet EK-26
D2: Yapım İşleri Hakediş Ödemelerine İlişkin Ön Mali Kontrol Listesi | M2: Ana Sayfa
B7: EK-26
B8: Bütçe Yılı:
B9: Harcama Birimi:
B10: İşin Adı:
B11: Sıra No | C11: Kontrol Edilecek Bilgi ve Belgeler | J11: Evet | K11: Hayır | L11: Açıklamalar
B12: 1 | C12: Yapım işleri hakediş raporu var mı?
B13: 1.1 | C13: Hakediş Raporu’nda yüklenicinin ile kontrol memurlarının kaşe ve imzaları mevcut mu?
B14: 1.2 | C14: Hakediş İcmali mevcut mu? Kontrol Teşkilatı Komisyonu ve Yüklenici tarafından kaşelenip imzalanmış mı?
B15: 1.3 | C15: Hakedişlerin Özeti mevcut mu? Kontrol Teşkilatı Komisyonu ve Yüklenici tarafından kaşelenip imzalanmış mı?
B16: 2 | C16: Fiyat Farkı Hesap Cetveli mevcut mu? Kontrol Teşkilatı Komisyonu ve Yüklenici tarafından kaşelenip imzalanmış mı?
B17: 3 | C17: Teminat Kontrol Tablosu mevcut mu?
B18: 3.1 | C18: Ek Teminat yatırılması durumunda Alındı Belgesi eklendi mi?
B19: 4 | C19: Geçici Kabul Noksanları Kesintisi Cetveli mevcut mu?
B20: 5 | C20: Fiyat Farkı Teminat Kesintisi Hesabı mevcut mu?
B21: 6 | C21: Yapılan İşler Listesi mevcut mu?
B22: 7 | C22: İş Kalemi Gerçekleşme Yüzdeleri mevcut mu?
B23: 8 | C23: Fatura mevcut mu?
... B43: 15 | C43: Damga Vergisi Detay Kodu doğru seçilmiş mi ?
B44: 16 | C44: Hakediş KDV’siz tutar üzerinden Taahhüt Dosyasına eklendi mi?
B45: 17 | C45: İş artışı veya azalışı olması durumunda üst yazı Ödeme Emri Belgesine eklendi mi?
B46: 17.1 | C46: İş artışı yapılması durumunda firmanın Kesin Teminat tutarı yeterli mi?
B47: 17.2 | C47: İş artışı yapılması durumunda firmanın all-risk poliçe tutarı güncel mi?
B48: 17.3 | C48: İş artışı veya azalışı olması durumunda oluşan fark Taahhüt Dosyasına eklendi mi?
B49: 18 | C49: Stratejik Plan-Performans Programı-Bütçe-Harcama İlişkilendirme Tablosu mevcut mu? (01.01.2027 tarihi itibarıyla eklenecektir.)
B50: 19 | C50: Ödeme Emri Belgesi'ndeki imzalar dönem başı bildirilen yetkili çizelgesine uygun mu?
B51: 19.1 | C51: Ödeme Emri Belgesi, yetki çizelgesinde belirtilmeyen personel tarafından imzalandı ise yetki devri yapılmış mı?
B52: 19.2 | C52: Yetki devri yapıldığına dair evrak eklendi mi? (Yıllık İzin Formu vb.)
B53: Kamu Ön Mali Kontrol Yönetmeliği'nin 6. maddesi gereğince hazırlanan bu kontrol listesinde yer alan bilgiler tarafımca kontrol edilmiş olup uygunluğu tasdik olunur. | J53: Gerçekleştirme Görevlisi Adı Soyadı Ünvanı İmza

Sheet EK-25
D2: Hizmet Alımı Hakediş Ödemelerine İlişkin Ön Mali Kontrol Listesi | M2: Ana Sayfa
B7: EK-25
B8: Bütçe Yılı:
B9: Harcama Birimi:
B10: İşin Adı:
B11: Sıra No | C11: Kontrol Edilecek Bilgi ve Belgeler | J11: Evet | K11: Hayır | L11: Açıklamalar
B12: 1 | C12: Muayene Kabul Komisyon Tutanağı var mı?
B13: 2 | C13: Hakediş Raporu mevcut mu? Üzerinde yer alan bilgiler doğru mu?
B14: 2.1 | C14: Hakediş Raporu’nda yüklenicinin ile kontrol memurlarının ve imzaları mevcut mu?
B15: 2.2 | C15: Hizmet İşleri Hakediş Raporu mevcut mu? Üzerinde yer alan bilgiler doğru mu?
B16: 3 | C16: Hakediş Özeti mevcut mu? Üzerinde yer alan bilgiler doğru mu?
B17: 4 | C17: Hakediş İcmali mevcut mu? Üzerinde yer alan bilgiler doğru mu?
B18: 5 | C18: Fatura mevcut mu ?
B19: 5.1 | C19: Firma/Şahıs/Kurum tarafından kesilen fatura, faturada bulunması gereken şekil şartlarını taşıyor mu?
B20: 5.2 | C20: Faturanın muhatabı doğru mu?
B21: 5.3 | C21: e-Arşiv Fatura ise barkod veyahut ilgisi tarafından kaşe imza yapılmış mı?
B22: 5.4 | C22: Faturanın notlar kısmına firmanın/şahsın/kurumun IBAN bilgileri yazılmış mı?
B23: 5.4.1 | C23: IBAN bilgileri yoksa IBAN dilekçesi alındı mı?
... B41: 12 | C41: Stratejik Plan-Performans Programı-Bütçe-Harcama İlişkilendirme Tablosu mevcut mu? (01.01.2027 tarihi itibarıyla eklenecektir.)
B42: 13 | C42: Ödeme Emri Belgesi'ndeki imzalar dönem başı bildirilen yetkili çizelgesine uygun mu?
B43: 13.1 | C43: Ödeme Emri Belgesi, yetki çizelgesinde belirtilmeyen personel tarafından imzalandı ise yetki devri yapılmış mı?
B44: 13.2 | C44: Yetki devri yapıldığına dair evrak eklendi mi? (Yıllık İzin Formu vb.)
B45: Kamu Ön Mali Kontrol Yönetmeliği'nin 6. maddesi gereğince hazırlanan bu kontrol listesinde yer alan bilgiler tarafımca kontrol edilmiş olup uygunluğu tasdik olunur. | J45: Gerçekleştirme Görevlisi Adı Soyadı Ünvanı İmza

Sheet EK-24
D2: İhale ile Yapılan Elektrik Ödemelerine İlişkin Ön Mali Kontrol Listesi | M2: Ana Sayfa
B7: EK-24
B8: Bütçe Yılı:
B9: Harcama Birimi:
B10: İşin Adı:
B11: Sıra No | C11: Kontrol Edilecek Bilgi ve Belgeler | J11: Evet | K11: Hayır | L11: Açıklamalar
B12: 1 | C12: Hakediş Raporu eklendi mi?
B13: 1.1 | C13: Hakediş Raporu’nda yer alan veriler ile ödemesi yapılacak hakediş rakamları tutuyor mu?
B14: 1.2 | C14: Hakediş Raporu’nda yer alan "Yükleniciye Ödenecek Tutar" ile Ödeme Emri Belgesi’nden kesintiler sonrası kalan tutar eşit mi?
B15: 1.3 | C15: Hakediş Raporu, ilgili sorumlular ve firma tarafından imzalanıp kaşelendi mi?
B16: 2 | C16: Hakediş İcmali eklendi mi?
B17: 2.1 | C17: Hakediş, KDV'siz tutar üzerinden Taahhüt Dosyasına eklendi mi?
B18: 3 | C18: Fiyat farkı varsa Taahhüt Dosyası işlemleri üzerinden ilgili tutar girildi mi?
B19: 4 | C19: İş artışı/azalışı olması durumunda üst yazı Ödeme Emri Belgesi’ne eklendi mi?
B20: 4.1 | C20: İş artışı yapılması durumunda firmanın Kesin Teminat tutarı yeterli mi?
B21: 4.2 | C21: İş artışı/azalışı varsa Taahhüt Dosyası işlemleri üzerinden ilgili tutar girildi mi?
B22: 5 | C22: Fatura mevcut mu?
B23: 5.1 | C23: Faturanın muhatabı doğru mu?
... B42: 14 | C42: Stratejik Plan-Performans Programı-Bütçe-Harcama İlişkilendirme Tablosu mevcut mu?(01.01.2027 tarihi itibarıyla eklenecektir.)
B43: 15 | C43: Ödeme Emri Belgesi'ndeki imzalar dönem başı bildirilen yetkili çizelgesine uygun mu?
B44: 15.1 | C44: Ödeme Emri Belgesi, yetki çizelgesinde belirtilmeyen personel tarafından imzalandı ise yetki devri yapılmış mı?
B45: 15.2 | C45: Yetki devri yapıldığına dair evrak eklendi mi? (Yıllık İzin Formu vb.)
B46: Kamu Ön Mali Kontrol Yönetmeliği'nin 6. maddesi gereğince hazırlanan bu kontrol listesinde yer alan bilgiler tarafımca kontrol edilmiş olup uygunluğu tasdik olunur. | J46: Gerçekleştirme Görevlisi Adı Soyadı Ünvanı İmza

Sheet EK-23
D2: İhale ile Yapılan Yapım İşlerinin İlk Hakediş Ödemelerine İlişkin Ön Mali Kontrol Listesi | M2: Ana Sayfa
B7: EK-23
B8: Bütçe Yılı:
B9: Harcama Birimi:
B10: İşin Adı:
B11: Sıra No | C11: Kontrol Edilecek Bilgi ve Belgeler | J11: Evet | K11: Hayır | L11: Açıklamalar
B12: 1 | C12: Yaklaşık Maliyet Tablosu oluşturulmuş mu?
B13: 1.1 | C13: Yaklaşık Maliyet hesaplanırken KDV hariç mi hesaplanmış?
B14: 1.2 | C14: Yaklaşık Maliyet İcmal Tablosu mevcut mu?
B15: 1.3 | C15: Yaklaşık Maliyet hesaplanırken dayanakları mevcut mu?
B16: 2 | C16: İhale Onay Belgesi mevcut mu?
B17: 2.1 | C17: Bütçe Tertibi doğru seçilmiş mi?
B18: 2.2 | C18: Kullanılabilir ödenek tutarı mevcut mu?
B19: 2.3 | C19: Yatırım proje numarası girilmiş mi?
B20: 2.4 | C20: İhale usulü doğru tespit edilmiş mi?
B21: 3 | C21: 4734 sayılı Kanun’un 13. maddesi gereği KİK’te yahut yerel gazetede ilan edildi m, İlan Tutanağı mevcut mu?
B22: 4 | C22: Dizi Pusulası mevcut mu?
B23: 5 | C23: İhalede doküman indirenlerin ve satın alanların listesi var mı?
B24: 6 | C24: Teklif Açma ve Belge Kontrol Tutanağı mevcut mu?
B25: 7 | C25: İhaleye ait İdari Şartname mevcut mu?
B26: 8 | C26: İhaleye ait Teknik Şartname mevcut mu?
B27: 9 | C27: İhale Komisyon Kararı mevcut mu?
B28: 9.1 | C28: İhale Komisyon Kararı’nda isteklilerin teklif ettikleri bedeller mevcut mu?
... B32: 9.5 | C32: Komisyon Kararı sonrası ve İhale Yetkilisi onayı öncesi yasaklılık sorgulaması yapılmış mı?
B33: 10 | C33: Üzerine ihale bırakılan istekli ile varsa ekonomik açıdan 2. teklif sahibinin ihalelere katılmaktan yasaklı olmadığına dair teyit belgesi mevcut mu?
B34: 11 | C34: Sözleşmeye davet yazısı mevcut mu?
B35: 12 | C35: Yapım işine ait sözleşme yapılmış mı?
B36: 12.1 | C36: Sözleşme üzerinde yer alan bilgiler eksiksiz doldurulmuş mu?
B37: 12.2 | C37: Sözleşmenin her sayfası taraflar tarafından paraf, kaşe ve imza yapılmış mı?
B38: 12.3 | C38: Sözleşmeye ait kesin teminat tutarı bankaya yatırılıp harcama birimine teslim edildi mi?
B39: 12.4 | C39: Sözleşmeye ait Damga Vergisine ait dekont mevcut mu?
B40: 12.5 | C40: Sözleşmeye ait Sözleşme Karar Pulu, Vergi Dairesine yatırılmış mı?
B41: 12.6 | C41: 4734 sayılı Kanun’un 53-J-1'de yer alan KİK Payı (on binde beş) yatırılmış mı?
B42: 12.7 | C42: 4734 sayılı Kanun’un 10. maddesinde yer alan belgeler mevcut mu?
B43: 13 | C43: EKAP üzerinden yapım işleri sınır değer hesaplanması yapılmış mı?
B44: 14 | C44: Kamu İhale Bülteni’nde sözleşme sonucu ilan edildi mi?
B45: 15 | C45: İhaleye ait mali hizmetler birimince yapılan Ön Mali Kontrol Formu eklendi mi?
B46: 16 | C46: Yapı denetim görevlisi olarak kontrol teşkilatının görevlendirildiğine dair yazı mevcut mu?
B47: 17 | C47: İş yeri teslim tutanağı mevcut mu?
... B81: 34.3 | C81: Tevkifata tabi işlemlerde Ödeme Emri Belgesi üzerinden tevkifat tutarı doğru kesilmiş mi?
B82: 35 | C82: Taahhüt Dosyası oluşturuldu mu?
B83: 36 | C83: İhale ile yapılan yapım işleri Tasarruf Tedbirleri Genelgesi ile uyumlu mu?
B84: 36.1 | C84: Tasarruf Komisyonu kararı var mı?
B85: 37 | C85: Stratejik Plan-Performans Programı-Bütçe-Harcama İlişkilendirme Tablosu mevcut mu? (01.01.2027 tarihi itibarıyla eklenecektir.)
B86: 38 | C86: Ödeme Emri Belgesi'ndeki imzalar dönem başı bildirilen yetkili çizelgesine uygun mu?
B87: 38.1 | C87: Ödeme Emri Belgesi, yetki çizelgesinde belirtilmeyen personel tarafından imzalandı ise yetki devri yapılmış mı?
B88: 38.2 | C88: Yetki devri yapıldığına dair evrak eklendi mi? (Yıllık İzin Formu vb.)
B89: Kamu Ön Mali Kontrol Yönetmeliği'nin 6. maddesi gereğince hazırlanan bu kontrol listesinde yer alan bilgiler tarafımca kontrol edilmiş olup uygunluğu tasdik olunur. | J89: Gerçekleştirme Görevlisi Adı Soyadı Ünvanı İmza

Sheet EK-22
D2: İhale İle Yapılan Hizmet Alımlarının İlk Hakediş Ödemelerine İlişkin Ön Mali Kontrol Listesi | M2: Ana Sayfa
B7: EK-22
B8: Bütçe Yılı:
B9: Harcama Birimi:
B10: İşin Adı:
B11: Sıra No | C11: Kontrol Edilecek Bilgi ve Belgeler | J11: Evet | K11: Hayır | L11: Açıklamalar
B12: 1 | C12: Yaklaşık Maliyet Tablosu oluşturulmuş mu?
B13: 1.1 | C13: Yaklaşık maliyet hesaplanırken KDV hariç mi hesaplanmış?
B14: 1.2 | C14: Yaklaşık maliyet hesaplamasına ilişkin dayanak mevcut mu?
B15: 2 | C15: İhale Onay Belgesi mevcut mu?
B16: 2.1 | C16: Bütçe Tertibi doğru seçilmiş mi?
B17: 2.2 | C17: Kullanılabilir ödenek tutarı mevcut mu?
B18: 2.3 | C18: Yatırım proje numarası girilmiş mi?
B19: 2.4 | C19: İhale usulü doğru tespit edilmiş mi?
B20: 3 | C20: 4734 sayılı Kanun’un 13. maddesi gereği KİK'te yahut yerel gazetede ilan edildi mi, bununa ilgili tutanak mevcut mu?
B21: 4 | C21: İhaleye ait İdari Şartname mevcut mu?
B22: 5 | C22: İhaleye ait Teknik Şartname mevcut mu?
B23: 6 | C23: İhale Komisyon Kararı mevcut mu?
B24: 6.1 | C24: İhale Komisyon Kararı’nda isteklilerin teklif ettikleri bedeller mevcut mu?
B25: 6.2 | C25: İhale Komisyon Kararından ekonomik açıdan en avantajlı isteklinin üzerine ihale bırakılmış mı?
B26: 6.3 | C26: Oy birliği ile alınan ihale kararını ihale komisyon üyeleri imzalamış mı?
B27: 6.4 | C27: İhale Kararı 5 iş günü içerisinde İhale Yetkilisi tarafından onaylanmış mı?
... B72: 23 | C72: Stratejik Plan-Performans Programı-Bütçe-Harcama İlişkilendirme Tablosu mevcut mu? (01.01.2027 tarihi itibarıyla eklenecektir.)
B73: 24 | C73: Ödeme Emri Belgesi'ndeki imzalar dönem başı bildirilen yetkili çizelgesine uygun mu?
B74: 24.1 | C74: Ödeme Emri Belgesi, yetki çizelgesinde belirtilmeyen personel tarafından imzalandı ise yetki devri yapılmış mı?
B75: 24.2 | C75: Yetki devri yapıldığına dair evrak eklendi mi? (Yıllık İzin Formu vb.)
B76: Kamu Ön Mali Kontrol Yönetmeliği'nin 6. maddesi gereğince hazırlanan bu kontrol listesinde yer alan bilgiler tarafımca kontrol edilmiş olup uygunluğu tasdik olunur. | J76: Gerçekleştirme Görevlisi Adı Soyadı Ünvanı İmza

Sheet EK-21
D2: İhale İle Yapılan Mal Alımlarının İlk Hakediş Ödemelerine İişkin Ön Mali Kontrol Listesi | M2: Ana Sayfa
B7: EK-21
B8: Bütçe Yılı:
B9: Harcama Birimi:
B10: İşin Adı:
B11: Sıra No | C11: Kontrol Edilecek Bilgi ve Belgeler | J11: Evet | K11: Hayır | L11: Açıklamalar
B12: 1 | C12: Yaklaşık Maliyet Tablosu oluşturulmuş mu?
B13: 1.1 | C13: Yaklaşık maliyet hesaplanırken KDV hariç mi hesaplanmış?
B14: 1.2 | C14: Yaklaşık maliyet hesaplamasına ilişkin dayanak mevcut mu?
B15: 2 | C15: İhale Onay Belgesi mevcut mu?
B16: 2.1 | C16: Bütçe Tertibi doğru seçilmiş mi?
B17: 2.2 | C17: Kullanılabilir ödenek tutarı mevcut mu?
B18: 2.3 | C18: Yatırım proje numarası girilmiş mi?
B19: 2.4 | C19: İhale usulü doğru tespit edilmiş mi?
B20: 3 | C20: 4734 sayılı Kanun’un 13. maddesi gereği KİK'te yahut yerel gazetede ilan edildi mi, bununla ilgili tutanak mevcut mu, Pazarlık Usulü ihalelerde davet yazısı gönderildi mi?
B21: 4 | C21: İhaleye ait İdari Şartname mevcut mu?
B22: 5 | C22: İhaleye ait Teknik Şartname mevcut mu?
B23: 6 | C23: İhale ait Komisyon Kararı mevcut mu?
B24: 6.1 | C24: İhale komisyon kararında isteklilerin teklif ettikleri bedeller mevcut mu?
B25: 6.2 | C25: İhale komisyon kararından ekonomik açıdan en avantajlı isteklinin üzerine ihale bırakılmış mı?
B26: 6.3 | C26: Alınan İhale Kararını, ihale komisyon üyeleri imzalamış mı?
B27: 6.4 | C27: İhale kararı 5 iş günü içerisinde İhale Yetkilisi tarafından onaylanmış mı?
... B66: 21 | C66: Stratejik Plan-Performans Programı-Bütçe-Harcama İlişkilendirme Tablosu mevcut mu? (01.01.2027 tarihi itibarıyla eklenecektir.)
B67: 22 | C67: Ödeme Emri Belgesi'ndeki imzalar dönem başı bildirilen yetkili çizelgesine uygun mu?
B68: 22.1 | C68: Ödeme Emri Belgesi, yetki çizelgesinde belirtilmeyen personel tarafından imzalandı ise yetki devri yapılmış mı?
B69: 22.2 | C69: Yetki devri yapıldığına dair evrak eklendi mi? (Yıllık İzin Formu vb.)
B70: Kamu Ön Mali Kontrol Yönetmeliği'nin 6. maddesi gereğince hazırlanan bu kontrol listesinde yer alan bilgiler tarafımca kontrol edilmiş olup uygunluğu tasdik olunur. | J70: Gerçekleştirme Görevlisi Adı Soyadı Ünvanı İmza

Sheet EK-20
D2: Uzaktan Öğretim Ek Ders Ödemelerine İlişkin Ön Mali Kontrol Listesi | M2: Ana Sayfa
B7: EK-20
B8: Bütçe Yılı:
B9: Harcama Birimi:
B10: İşin Adı:
B11: Sıra No | C11: Kontrol Edilecek Bilgi ve Belgeler | J11: Evet | K11: Hayır | L11: Açıklamalar
B12: 1 | C12: Ek ders Bordrosu, Bordro İcmal ve Banka Listesi raporları eklendi mi?
B13: 2 | C13: Haftalık zorunlu ders yükünün tamamlanması sonrasında azami 10 saate kadar ödenebilecek ek ders ücretinde; akademik unvanlar itibarıyla öngörülen ek ders ücretinin 5 katını geçemeyeceği kuralına dikkat edildi mi?
B14: 3 | C14: Ders Görevlendirmesine ilişkin Birim Yönetim Kurulu Kararı ve Üst Yetkili Onayı (Ders görevlendirmesinde değişiklik olması durumunda yeniden karar alınacak ve ödemeye eklenecektir.) eklendi mi?
B15: 4 | C15: İzin/rapor/görevlendirme durumlarını gösteren liste eklendi mi?
B16: 5 | C16: Akademik Takvim eklendi mi?
B17: 6 | C17: Ders Yükü Bildirim Formları eklendi mi?
B18: 7 | C18: Ek Ders Ücreti Ödeme Formları eklendi mi? (Akademik unvan, ders yükü ve ders programı değişikliklerinde güncellenecek ve ilk ödemeye eklenecektir.) (Ders saatlerinin azalması veya artması durumunda ise Birim Yönetim Kurulu da güncellenecek ve ilk ödemeye eklenecektir.)
B19: 7.1 | C19: İlgili dönemde tahakkuk ettirilen sınav ücreti ödemelerinde; final/yıl sonu sınav ücreti ödemelerinde her 50 öğrenci için bir ders saati karşılığı esas alınarak, 2914 sayılı Kanun uyarınca 500 öğrenci tavan sınırının aşılmadığı tespit edildi mi?
B20: 8 | C20: Doktorasını tamamlamış araştırma görevlisi ders vermek üzere görevlendirildi ise Üniversite Yönetim Kurulu kararı eklendi mi?
B21: 9 | C21: Telafi olması durumunda Birim Yönetim Kurulu Kararı eklendi mi?
B22: 10 | C22: Merkezi sınavlarda görev alacaklara yapılacak ödemelerde sınav programı ve görevlendirme yazıları eklendi mi?
B23: 11 | C23: Diğer hizmetler (Birim Koordinatörlüğü, Program Koordinatörü, Ders Yönetimi, Ders Denetimi gibi) karşılığı yapılacak ödemelerde görevin değişmesi durumunda alınması gereken uygunluk yazıları eklendi mi?
B24: 12 | C24: Damga vergisi detay kodu doğru seçilmiş mi?
B25: 12.1 | C25: Damga vergisi kesintisi doğru hesaplanmış mı?
B26: 13 | C26: Stratejik Plan-Performans Programı-Bütçe-Harcama İlişkilendirme Tablosu mevcut mu?(01.01.2027 tarihi itibarıyla eklenecektir.)
B27: 14 | C27: Ödeme Emri Belgesi'ndeki imzalar dönem başı bildirilen yetkili çizelgesine uygun mu?
B28: 14.1 | C28: Ödeme Emri Belgesi, yetki çizelgesinde belirtilmeyen personel tarafından imzalandı ise yetki devri yapılmış mı?
B29: 14.2 | C29: Yetki devri yapıldığına dair evrak eklendi mi? (Yıllık İzin Formu vb.)
B30: Kamu Ön Mali Kontrol Yönetmeliği'nin 6. maddesi gereğince hazırlanan bu kontrol listesinde yer alan bilgiler tarafımca kontrol edilmiş olup uygunluğu tasdik olunur. | J30: Gerçekleştirme Görevlisi Adı Soyadı Ünvanı İmza

Sheet EK-19
D2: Ek Ders Unvan Farkı Ödemelerine İlişkin Ön Mali Kontrol Listesi | M2: Ana Sayfa
B7: EK-19
B8: Bütçe Yılı:
B9: Harcama Birimi:
B10: İşin Adı:
B11: Sıra No | C11: Kontrol Edilecek Bilgi ve Belgeler | J11: Evet | K11: Hayır | L11: Açıklamalar
B12: 1 | C12: Çeşitli Ödemeler Bordrosu eklendi mi?
B13: 1.1 | C13: Memur maaş katsayısı, ödemenin yapılacağı dönem dikkate alınarak mı girildi?
B14: 1.2 | C14: Fark ödemesinde gelir ve damga vergisi kesintisi yapıldı mı?(Gelir vergisi ve damga vergisi istisna raporu eklendi mi?)
B15: 2 | C15: Harcama Talimatı Onay Belgesi eklendi mi?
B16: 3 | C16: Ders Görevlendirmesine ilişkin Birim Yönetim Kurulu Kararı ve Üst Yetkili Onayı (Ders görevlendirmesinde değişiklik olması durumunda yeniden karar alınacak ve ödemeye eklenecektir.) eklendi mi?
B17: 3.1 | C17: Ders Yükü Bildirim Formu eklendi mi?
B18: 4 | C18: Fark ödemesinin yapılacağı döneme ait ek ders icmalleri eklendi mi?
B19: 5 | C19: Fark ödemesini gerektiren duruma uygun evrak (idari görev yazısı, atama kararnamesi, doçentlik belgesi vs.) eklendi mi?
B20: 6 | C20: Damga vergisi detay kodu doğru seçilmiş mi ?
B21: 6.1 | C21: Damga vergisi kesintisi doğru hesaplanmış mı?
B22: 7 | C22: Stratejik Plan-Performans Programı-Bütçe-Harcama İlişkilendirme Tablosu mevcut mu? (01.01.2027 tarihi itibarıyla eklenecektir.)
B23: 8 | C23: Ödeme Emri Belgesi'ndeki imzalar dönem başı bildirilen yetkili çizelgesine uygun mu?
B24: 8.1 | C24: Ödeme Emri Belgesi, yetki çizelgesinde belirtilmeyen personel tarafından imzalandı ise yetki devri yapılmış mı?
B25: 8.2 | C25: Yetki devri yapıldığına dair evrak eklendi mi? (Yıllık İzin Formu vb.)
B26: Kamu Ön Mali Kontrol Yönetmeliği'nin 6. maddesi gereğince hazırlanan bu kontrol listesinde yer alan bilgiler tarafımca kontrol edilmiş olup uygunluğu tasdik olunur. | J26: Gerçekleştirme Görevlisi Adı Soyadı Ünvanı İmza

Sheet EK-18
D2: Final Sınav Ödemesi Ön Mali Kontrol Listesi | M2: Ana Sayfa
B7: EK-18
B8: Bütçe Yılı:
B9: Harcama Birimi:
B10: İşin Adı:
B11: Sıra No | C11: Kontrol Edilecek Bilgi ve Belgeler | J11: Evet | K11: Hayır | L11: Açıklamalar
B12: 1 | C12: Bordro, banka listesi ve sınav ücreti kontrol dökümü eklendi mi?
B13: 2 | C13: Final sınav ücret formu eklendi mi?
B14: 2.1 | C14: Ders Görevlendirmesine ilişkin Birim Yönetim Kurulu Kararı ve Üst Yetkili Onayı (Ders görevlendirmesinde değişiklik olması durumunda yeniden karar alınacak ve ödemeye eklenecektir.) eklendi mi?
B15: 3 | C15: Sınav programı eklendi mi?
B16: 4 | C16: İzin/rapor/görevlendirme belgeleri eklendi mi?
B17: 5 | C17: 5510 sayılı kanunun 4/a kapsamındaki kişi var mı? (31. md. vb.)
B18: 5.1 | C18: a) 5510 sayılı kanunun 4/a kapsamındaki kişi var ise SGK sigortalı listesi
B19: 5.2 | C19: b)5510 sayılı kanunun 4/a kapsamındaki kişi var ise SGK tahakkuk fişleri
B20: 6 | C20: İlgili dönemde tahakkuk ettirilen sınav ücreti ödemelerinde; final/yıl sonu sınav ücreti ödemelerinde her 50 öğrenci için bir ders saati karşılığı esas alınarak, 2914 sayılı Kanun uyarınca 500 öğrenci tavan sınırının aşılmadığı tespit edildi mi?
B21: 6.1 | C21: Bir ders adı altında okutulan derslesin, farklı bölüm ya da sınıflarda ayrı ayrı okutulması veya sınavlarının ayrı ayrı yapılması halinde dahi sınav ücretinin tespitinde bu dersin sınavına giren toplam öğrenci sayısı esas alınır' kuralına uyuldu mu?
B22: 7 | C22: Stratejik Plan-Performans Programı-Bütçe-Harcama İlişkilendirme Tablosu mevcut mu? (01.01.2027 tarihi itibarıyla eklenecektir.)
B23: 8 | C23: Ödeme Emri Belgesi'ndeki imzalar dönem başı bildirilen yetkili çizelgesine uygun mu?
... B25: 8.2 | C25: Yetki devri yapıldığına dair evrak eklendi mi? (Yıllık İzin Formu vb.)
B26: Kamu Ön Mali Kontrol Yönetmeliği'nin 6. maddesi gereğince hazırlanan bu kontrol listesinde yer alan bilgiler tarafımca kontrol edilmiş olup uygunluğu tasdik olunur. | J26: Gerçekleştirme Görevlisi Adı Soyadı Ünvanı İmza

Sheet EK-17
D2: Ek Ders Ödemelerine İlişkin Ön Mali Kontrol Listesi | M2: Ana Sayfa
B7: EK-17
B8: Bütçe Yılı:
B9: Harcama Birimi:
B10: İşin Adı:
B11: Sıra No | C11: Kontrol Edilecek Bilgi ve Belgeler | J11: Evet | K11: Hayır | L11: Açıklamalar
B12: 1 | C12: KBS'de bulunan Ek ders Bordrosu, Bordro İcmal ve Banka Listesi raporları eklendi mi?
B13: 2 | C13: Bordro İcmal'den akademik ünvanlar kontrol edildi mi?
B14: 3 | C14: İzin/rapor/görevlendirme belgeleri eklendi mi?
B15: 4 | C15: Telafi olması durumunda Birim Yönetim Kurulu Kararı eklendi mi?
B16: 5 | C16: Her öğretim döneminin ilk ayında; - Ders yükü dağılımını gösteren onay ve akademik takvim (Programda değişiklik halinde onay yeniden alınır), -Ders Görevlendirmesine ilişkin Birim Yönetim Kurulu Kararı ve Rektör Onayı eklendi mi? (Not: Ders görevlendirmesinde değişiklik olması durumunda yeniden karar alınacak ve ödemeye eklenecektir.)
B17: 6 | C17: Ders Yükü Bildirim Formları eklendi mi? (Akademik unvan, ders yükü ve ders programı değişikliklerinde güncellenecek ve ilk ödemeye eklenecektir.) (Ders saatlerinin azalması veya artması durumunda ise Birim Yönetim Kurulu Kararı da güncellenecek ve ilk ödemeye eklenecektir.)
B18: 7 | C18: Diğer birimlerden ve Üniversite dışından görevlendirilen personelin onay yazıları eklendi mi?
B19: 8 | C19: Doktorasını tamamlamış araştırma görevlisi ders vermek üzere görevlendirildi ise Üniversite Yönetim Kurulu kararı eklendi mi?
B20: 9 | C20: Tezsiz Yüksek Lisans ek ders ücretinde; akademik unvanlar itibarıyla öngörülen ek ders ücretinin kaç katının ödeneceğini gösteren Birim Yönetim Kurulu Kararı dönem başı yapılan ilk ödemeye eklendi mi?
B21: 10 | C21: İkinci öğretim ek ders ücretinde; akademik unvanlar itibarıyla öngörülen ek ders ücretinin kaç katının ödeneceğini gösteren Birim Yönetim Kurulu Kararı dönem başı yapılan ilk ödemeye eklendi mi?
B22: 11 | C22: Öğretim elemanının haftalık ders programında yer alan toplam saatler; unvanına uygun mecburi ders yükünü tam olarak karşılamakta mıdır ve bu yükün üzerindeki tüm ek dersler mevzuat sınırları dahilinde, varsa idari muafiyetler, tatil günleri, rapor vb. düşülerek hatasız şekilde hesaplanmış mıdır?
B23: 12 | C23: 5510 sayılı kanunun 4/a kapsamındaki kişi var mı? (31. md. vb.)
B24: 12.1 | C24: a) 5510 sayılı kanunun 4/a kapsamındaki kişi var ise SGK sigortalı listesi
B25: 12.2 | C25: b)5510 sayılı kanunun 4/a kapsamındaki kişi var ise SGK tahakkuk fişleri
B26: 13 | C26: Stratejik Plan-Performans Programı-Bütçe-Harcama İlişkilendirme Tablosu mevcut mu? (01.01.2027 tarihi itibarıyla eklenecektir.)
B27: 14 | C27: Ödeme Emri Belgesi'ndeki imzalar dönem başı bildirilen yetkili çizelgesine uygun mu?
B28: 15 | C28: Ödeme Emri Belgesi, yetki çizelgesinde belirtilmeyen personel tarafından imzalandı ise yetki devri yapılmış mı?
B29: 16 | C29: Yetki devri yapıldığına dair evrak eklendi mi? (Yıllık İzin Formu vb.)
B30: Kamu Ön Mali Kontrol Yönetmeliği'nin 6. maddesi gereğince hazırlanan bu kontrol listesinde yer alan bilgiler tarafımca kontrol edilmiş olup uygunluğu tasdik olunur. | J30: Gerçekleştirme Görevlisi Adı Soyadı Ünvanı İmza

Sheet EK-16
D2: Aylıklarla Birlikte Ödenmeyen Personel Ödemeleri Ön Mali Kontrol Listesi | M2: Ana Sayfa
B7: EK-16
B8: Bütçe Yılı:
B9: Harcama Birimi:
B10: İşin Adı:
B11: Sıra No | C11: Kontrol Edilecek Bilgi ve Belgeler | J11: Evet | K11: Hayır | L11: Açıklamalar
B12: 1 | C12: Başka bir kadroya kurum içinden veya kurum dışından atamalar için;
B13: 1.1 | C13: Atama onayı
B14: 1.2 | C14: Aile durum bildirim formu
B15: 1.3 | C15: Göreve başlama yazısı
B16: 1.4 | C16: Vekalet onay yazısı
B17: 1.5 | C17: SGK İşe Giriş Bildirgesi
B18: 1.6 | C18: Çeşitli Ödemeler Bordrosu
B19: 1.7 | C19: Göreve başlama yazısı
B20: 2 | C20: Diğer;
B21: 2.1 | C21: Geçmiş aylara ait bordrolar
B22: 2.2 | C22: Eksik ödemeye ait kanıtlayıcı belgeler
B23: 2.3 | C23: Çeşitli Ödemeler Bordrosu
B24: 2.4 | C24: Harcama yetkilisince ödemenin yapılmasına ilişkin onay
B25: 2.5 | C25: İlgili mevzuatı gereği ödeme emri belgesine eklenecek diğer belgeler
B26: 3 | C26: Stratejik Plan-Performans Programı-Bütçe-Harcama İlişkilendirme Tablosu mevcut mu? (01.01.2027 tarihi itibarıyla eklenecektir.)
B27: 4 | C27: Ödeme Emri Belgesi'ndeki imzalar dönem başı bildirilen yetkili çizelgesine uygun mu?
B28: 4.1 | C28: Ödeme Emri Belgesi, yetki çizelgesinde belirtilmeyen personel tarafından imzalandı ise yetki devri yapılmış mı?
B29: 4.2 | C29: Yetki devri yapıldığına dair evrak eklendi mi? (Yıllık İzin Formu vb.)
B30: Kamu Ön Mali Kontrol Yönetmeliği'nin 6. maddesi gereğince hazırlanan bu kontrol listesinde yer alan bilgiler tarafımca kontrol edilmiş olup uygunluğu tasdik olunur. | J30: Gerçekleştirme Görevlisi Adı Soyadı Ünvanı İmza

Sheet EK-15
D2: Vekalet Ödemelerine İlişkin Ön Mali Kontrol Listesi | M2: Ana Sayfa
B7: EK-15
B8: Bütçe Yılı:
B9: Harcama Birimi:
B10: İşin Adı:
B11: Sıra No | C11: Kontrol Edilecek Bilgi ve Belgeler | J11: Evet | K11: Hayır | L11: Açıklamalar
B12: 1 | C12: KBS'de bulunan Vekalet Aylığı Bordrosu ve Banka Listesi raporları eklendi mi?
B13: 2 | C13: KBS'de vekalet bilgileri (unvan, kadro derecesi, ek gösterge, yan ödeme, özel hizmet tazminatı, ek ödeme) doğru girildi mi?
B14: 3 | C14: Vekalet aylığı ile zam ve tazminat farkları, vekalet edilecek kadroya kurum içinden / kurum dışından / açıktan atama ve kadronun dolu / boş olması durumlarına uygun olarak verildi mi?
B15: 4 | C15: Vekaletleri esnasında yıllık izin, mazeret izni, hastalık izni, vekalet görevine ilişkin olmayan geçici görev, hizmetiçi eğitim, kurs, seminer ve benzeri nedenlerle vekalet görevine ara verenlere ara verdiği süre boyunca vekalet ödemesi yapılamayacağından eksik gün ödemesini gerektiren durum var ise ilgili evrak eklendi mi?
B16: 5 | C16: 657 sayılı Devlet Memurları Kanunu'nun 86. maddesi uyarınca görevlendirildiğine dair rektörlük oluru eklendi mi?
B17: 6 | C17: Stratejik Plan-Performans Programı-Bütçe-Harcama İlişkilendirme Tablosu mevcut mu? (01.01.2027 tarihi itibarıyla eklenecektir.)
B18: 7 | C18: Ödeme Emri Belgesi'ndeki imzalar dönem başı bildirilen yetkili çizelgesine uygun mu?
B19: 7.1 | C19: Ödeme Emri Belgesi, yetki çizelgesinde belirtilmeyen personel tarafından imzalandı ise yetki devri yapılmış mı?
B20: 7.2 | C20: Yetki devri yapıldığına dair evrak eklendi mi? (Yıllık İzin Formu vb.)
B22: Kamu Ön Mali Kontrol Yönetmeliği'nin 6. maddesi gereğince hazırlanan bu kontrol listesinde yer alan bilgiler tarafımca kontrol edilmiş olup uygunluğu tasdik olunur. | J22: Gerçekleştirme Görevlisi Adı Soyadı Ünvanı İmza

Sheet EK-14
D2: Kıdem Tazminatı Ödemelerine İlişkin Ön Mali Kontrol Listesi | M2: Ana Sayfa
B7: EK-14
B8: Bütçe Yılı:
B9: Harcama Birimi:
B10: İşin Adı:
B11: Sıra No | C11: Kontrol Edilecek Bilgi ve Belgeler | J11: Evet | K11: Hayır | L11: Açıklamalar
B12: 1 | C12: Ödeme Emri Belgesi'ndeki bütçe tertibi doğru seçilmiş mi?
B13: 2 | C13: Ödeme Emri Belgesi'ndeki kesinti kodları doğru seçilmiş mi?
B14: 3 | C14: Harcama Talimatı Onay Belgesi eklendi mi?
B15: 4 | C15: Harcama Talimatının hukuki dayanağı ve gerekçesi harcamanın mahiyetine uygun mu?
B16: 5 | C16: Son aya ait maaş bordrosu eklendi mi?
B17: 6 | C17: Kıdem tazminatı hesaplama cetveli eklendi mi?
B18: 6.1 | C18: Kıdem tazminatına esas hizmet süresi doğru hesaplandı mı?
B19: 6.2 | C19: Yevmiye, yol, yemek, yakacak, giyim, hizmet zammı, iş primi, ikramiye, tediye vs. tüm maaş kalemlerinin 1 günlük ücrete karşılık gelen tutarları doğru hesaplandı mı?
B20: 6.3 | C20: Hesaplama cetvelindeki brüt tutar kadar kıdem tazminatı karşılığı (372.01 / 472.01) ayrıldı mı?
B21: 7 | C21: İşten ayrılma yazısı, Sigortalı İşten Ayrılış Bildirgesi ve Personel İlişik Kesme Belgesi eklendi mi?
B22: 8 | C22: Sigortalı Hizmet Dökümü eklendi mi?
B23: 9 | C23: Emekliye ayrılanlarda, Sosyal Güvenlik Kurumundan alınacak emekliliği hak ettiğine ilişkin belge eklendi mi?
B24: 10 | C24: Ölüm nedeniyle yapılacak tazminat ödemelerinde Mirasçılık Belgesi, Aile Nüfus Kayıt Örneği ve Dilekçe eklendi mi?
B25: 11 | C25: Damga vergisi detay kodu doğru seçilmiş mi?
B26: 11.1 | C26: Damga vergisi kesintisi doğru hesaplanmış mı?
B27: 12 | C27: Stratejik Plan-Performans Programı-Bütçe-Harcama İlişkilendirme Tablosu mevcut mu? (01.01.2027 tarihi itibarıyla eklenecektir.)
B28: 13 | C28: Ödeme Emri Belgesi'ndeki imzalar dönem başı bildirilen yetkili çizelgesine uygun mu?
B29: 13.1 | C29: Ödeme Emri Belgesi, yetki çizelgesinde belirtilmeyen personel tarafından imzalandı ise yetki devri yapılmış mı?
B30: 13.2 | C30: Yetki devri yapıldığına dair evrak eklendi mi? (Yıllık İzin Formu vb.)
B31: Kamu Ön Mali Kontrol Yönetmeliği'nin 6. maddesi gereğince hazırlanan bu kontrol listesinde yer alan bilgiler tarafımca kontrol edilmiş olup uygunluğu tasdik olunur. | J31: Gerçekleştirme Görevlisi Adı Soyadı Ünvanı İmza

Sheet EK-13
D2: Fazla Çalışma Ödemelerine İlişkin Ön Mali Kontrol Listesi | M2: Ana Sayfa
B7: EK-13
B8: Bütçe Yılı:
B9: Harcama Birimi:
B10: İşin Adı:
B11: Sıra No | C11: Kontrol Edilecek Bilgi ve Belgeler | J11: Evet | K11: Hayır | L11: Açıklamalar
B12: 1 | C12: KBS'de bulunan Ücret Bordrosu, İlave Çalışma İcmali ve Banka Listesi raporları eklendi mi?
B13: 2 | C13: İzin/rapor/görevlendirme durumlarını gösteren liste eklendi mi?
B14: 3 | C14: Fazla çalışma yapacak personellerin gösterildiği Birim Yönetim Kurulu kararı eklendi mi? *
B15: 4 | C15: Akademik personellere ödeme yapılacaksa ders programı ile fazla çalışma saatlerinin çakışmadığını kanıtlayıcı belge olarak Ders Yükü Bildirim Formları eklendi mi? *
B16: 5 | C16: Rektörlük çalışanları için 90 saat, diğer akademik birimlerde çalışanlar için 50 saat sınırına uyuldu mu?
B17: 6 | C17: Stratejik Plan-Performans Programı-Bütçe-Harcama İlişkilendirme Tablosu mevcut mu? (01.01.2027 tarihi itibarıyla eklenecektir.)
B18: 7 | C18: Ödeme Emri Belgesi'ndeki imzalar dönem başı bildirilen yetkili çizelgesine uygun mu?
B19: 7.1 | C19: Ödeme Emri Belgesi, yetki çizelgesinde belirtilmeyen personel tarafından imzalandı ise yetki devri yapılmış mı?
B20: 7.2 | C20: Yetki devri yapıldığına dair evrak eklendi mi? (Yıllık İzin Formu vb.)
B21: * Görevlendirme sonrası yapılacak ilk ödemeye eklenecektir.
B22: Kamu Ön Mali Kontrol Yönetmeliği'nin 6. maddesi gereğince hazırlanan bu kontrol listesinde yer alan bilgiler tarafımca kontrol edilmiş olup uygunluğu tasdik olunur. | J22: Gerçekleştirme Görevlisi Adı Soyadı Ünvanı İmza

Sheet EK-12
D2: Giyecek Yardımı Ödemelerine İlişkin Ön Mali Kontrol Listesi | M2: Ana Sayfa
B8: Bütçe Yılı:
B9: Harcama Birimi:
B10: İşin Adı:
B11: Sıra No | C11: Kontrol Edilecek Bilgi ve Belgeler | J11: Evet | K11: Hayır | L11: Açıklamalar
B12: 1 | C12: KBS'de bulunan Banka Listesi raporu eklendi mi?
B13: 2 | C13: KBS'de bulunan Bordro raporu eklendi mi?
B14: 3 | C14: Ödemenin miktarını gösteren yetkili makamların kararı (Genelge) ve ekleri eklendi mi?
B15: 4 | C15: İlgili mevzuatında belirtilen yetkili makamın onayı,(Harcama Yetkilisinden alınacak olur)
B16: 5 | C16: Stratejik Plan-Performans Programı-Bütçe-Harcama İlişkilendirme Tablosu mevcut mu? (01.01.2027 tarihi itibarıyla eklenecektir.)
B17: 6 | C17: Ödeme Emri Belgesi'ndeki imzalar dönem başı bildirilen yetkili çizelgesine uygun mu?
B18: 6.1 | C18: Ödeme Emri Belgesi, yetki çizelgesinde belirtilmeyen personel tarafından imzalandı ise yetki devri yapılmış mı?
B19: 6.2 | C19: Yetki devri yapıldığına dair evrak eklendi mi? (Yıllık İzin Formu vb.)
B20: Kamu Ön Mali Kontrol Yönetmeliği'nin 6. maddesi gereğince hazırlanan bu kontrol listesinde yer alan bilgiler tarafımca kontrol edilmiş olup uygunluğu tasdik olunur. | J20: Gerçekleştirme Görevlisi Adı Soyadı Ünvanı İmza

Sheet EK-11
D2: Ölüm Yardımı Ödemelerine İlişkin Ön Mali Kontrol Listesi | M2: Ana Sayfa
B7: EK-11
B8: Bütçe Yılı:
B9: Harcama Birimi:
B10: İşin Adı:
B11: Sıra No | C11: Kontrol Edilecek Bilgi ve Belgeler | J11: Evet | K11: Hayır | L11: Açıklamalar
B12: 1 | C12: Harcama Talimatı,
B13: 2 | C13: Ölüm Olayının Meydana Geldiği Yeri ve Tarihi Belirten Dilekçe,
B14: 3 | C14: Veraset İlamı,
B15: 4 | C15: Ölüm Belgesi,
B16: 5 | C16: Ölüm Yardımı ödemesine ilişkin mevzuatı gereği istenilen diğer evraklar.
B17: 6 | C17: Stratejik Plan-Performans Programı-Bütçe-Harcama İlişkilendirme Tablosu mevcut mu? (01.01.2027 tarihi itibarıyla eklenecektir.)
B18: 7 | C18: Ödeme Emri Belgesi'ndeki imzalar dönem başı bildirilen yetkili çizelgesine uygun mu?
B19: 7.1 | C19: Ödeme Emri Belgesi, yetki çizelgesinde belirtilmeyen personel tarafından imzalandı ise yetki devri yapılmış mı?
B20: 7.2 | C20: Yetki devri yapıldığına dair evrak eklendi mi? (Yıllık İzin Formu vb.)
B21: Kamu Ön Mali Kontrol Yönetmeliği'nin 6. maddesi gereğince hazırlanan bu kontrol listesinde yer alan bilgiler tarafımca kontrol edilmiş olup uygunluğu tasdik olunur. | J21: Gerçekleştirme Görevlisi Adı Soyadı Ünvanı İmza

Sheet EK-10
D2: Ek Karşılık Ödemelerine İlişkin Ön Mali Kontrol Listesi | M2: Ana Sayfa
B7: EK-10
B8: Bütçe Yılı:
B9: Harcama Birimi:
B10: İşin Adı:
B11: Sıra No | C11: Kontrol Edilecek Bilgi ve Belgeler | J11: Evet | K11: Hayır | L11: Açıklamalar
B12: 1 | C12: Personel Daire Başkanlığı'nın üst yazıyla bildirdiği Ek Karşılık Ödemeleri ile ilgili BKMYBS'de tahakkuk kaydı yapılabilmesi için KBS Destek Uygulamalarından kayıt izni alındı mı?
B13: 2 | C13: Ödeme Emri Belgesi'ndeki bütçe tertibi doğru seçilmiş mi?
B14: 3 | C14: Harcama Talimatı Onay Belgesi eklendi mi?
B15: 4 | C15: Harcama Talimatının hukuki dayanağı ve gerekçesi harcamanın mahiyetine uygun mu?
B16: 5 | C16: Mosip Faturalı Alacak Listesi / Ek Karşılık Tahakkuk/Tahsilat Listesi eklendi mi?
B17: 6 | C17: Stratejik Plan-Performans Programı-Bütçe-Harcama İlişkilendirme Tablosu mevcut mu?(01.01.2027 tarihi itibarıyla eklenecektir.)
B18: 7 | C18: Ödeme Emri Belgesi'ndeki imzalar dönem başı bildirilen yetkili çizelgesine uygun mu?
B19: 7.1 | C19: Ödeme Emri Belgesi, yetki çizelgesinde belirtilmeyen personel tarafından imzalandı ise yetki devri yapılmış mı?
B20: 7.2 | C20: Yetki devri yapıldığına dair evrak eklendi mi? (Yıllık İzin Formu vb.)
B21: Kamu Ön Mali Kontrol Yönetmeliği'nin 6. maddesi gereğince hazırlanan bu kontrol listesinde yer alan bilgiler tarafımca kontrol edilmiş olup uygunluğu tasdik olunur. | J21: Gerçekleştirme Görevlisi Adı Soyadı Ünvanı İmza

Sheet EK-9
D2: Geriye Dönük Maaş Fark Ödemelerine İlişkin Ön Mali Kontrol Listesi | M2: Ana Sayfa
B7: EK-9
B8: Bütçe Yılı:
B9: Harcama Birimi:
B10: İşin Adı:
B11: Sıra No | C11: Kontrol Edilecek Bilgi ve Belgeler | J11: Evet | K11: Hayır | L11: Açıklamalar
B12: 1 | C12: Ödeme Emri Belgesi'ndeki bütçe tertibi doğru seçilmiş mi?
B13: 2 | C13: Ödeme Emri Belgesi'ndeki kesinti kodları doğru seçilmiş mi?
B14: 3 | C14: Çeşitli Ödemeler Bordrosu eklendi mi?
B15: 3.1 | C15: Memur maaş katsayısı, ödemenin yapılacağı dönem dikkate alınarak mı girildi?
B16: 3.2 | C16: 5510 sayılı kanuna tabi personele yapılacak geriye dönük ödeme sigorta primine tabi bir maaş kalemi ise prim hesaplaması yapıldı mı?
B17: 3.3 | C17: Geriye dönük yapılacak ödeme, gelir ve damga vergisine tabi bir maaş kalemi ise vergi hesaplaması yapıldı mı?
B18: 3.3.1 | C18: Gelir vergisi ve damga vergisi istisna raporu eklendi mi?
B19: 4 | C19: Harcama Talimatı Onay Belgesi eklendi mi?
B20: 5 | C20: Harcama Talimatının hukuki dayanağı ve gerekçesi harcamanın mahiyetine uygun mu?
B21: 6 | C21: Eksik ödenen maaş dönemlerine ait maaş bordroları ve son terfisi eklendi mi?
B22: 7 | C22: Eksik ödenen maaş unsuruna ilişkin kanıtlayıcı evrak eklendi mi?
B23: 7.1 | C23: Eş Yardımı ödemesi için Aile Yardımı Bildirimi ve eşinin çalışmadığına dair evrak (Sigortalı İşten Ayrılış Bildirgesi veya Sigortalı Hizmet Dökümü) eklendi mi?(Son üç ay)
B24: 7.2 | C24: Çocuk Yardımı ödemesi için Aile Yardımı Bildirimi ve eşi çalışıyorsa eşine ait ilgili ayın maaş bordrosu eklendi mi?(Son üç ay)
B25: 7.3 | C25: Dil Tazminatı ödemesi için Yabancı Dil Sınav Sonuç Belgesi eklendi mi?
B26: 7.4 | C26: Akademik Teşvik Ödeneği ödemesi için teşvik puanını gösteren resmi belge eklendi mi?
B27: 7.5 | C27: Toplu Sözleşme İkramiyesi ödemesi için Sendika Üyelik Formu eklendi mi?
B28: 7.6 | C28: Geliştirme Ödeneği ödemesi için eksik ödendiği belirtilen dönemde fiilen görev yaptığına dair belge eklendi mi?
B29: 7.7 | C29: İdari Görev Ödeneği ödemesi için idari göreve atandığına dair resmi yazı eklendi mi?
B30: 8 | C30: Damga vergisi detay kodu doğru seçilmiş mi?
B31: 8.1 | C31: Damga vergisi kesintisi doğru hesaplanmış mı?
B32: 9 | C32: Stratejik Plan-Performans Programı-Bütçe-Harcama İlişkilendirme Tablosu mevcut mu?(01.01.2027 tarihi itibarıyla eklenecektir.)
B33: 10 | C33: Ödeme Emri Belgesi'ndeki imzalar dönem başı bildirilen yetkili çizelgesine uygun mu?
B34: 10.1 | C34: Ödeme Emri Belgesi, yetki çizelgesinde belirtilmeyen personel tarafından imzalandı ise yetki devri yapılmış mı?
B35: 10.2 | C35: Yetki devri yapıldığına dair evrak eklendi mi? (Yıllık İzin Formu vb.)
B36: Kamu Ön Mali Kontrol Yönetmeliği'nin 6. maddesi gereğince hazırlanan bu kontrol listesinde yer alan bilgiler tarafımca kontrol edilmiş olup uygunluğu tasdik olunur. | J36: Gerçekleştirme Görevlisi Adı Soyadı Ünvanı İmza

Sheet EK-8
D2: İŞKUR Gençlik Programı Ödemelerine İlişkin Ön Mali Kontrol Listesi | M2: Ana Sayfa
B7: EK-8
B8: Bütçe Yılı:
B9: Harcama Birimi:
B10: İşin Adı:
B11: Sıra No | C11: Kontrol Edilecek Bilgi ve Belgeler | J11: Evet | K11: Hayır | L11: Açıklamalar
B12: 1 | C12: Ödeme Emri Belgesi'ndeki bütçe tertibi doğru seçilmiş mi?
B13: 2 | C13: Ödeme Emri Belgesi'ndeki kesinti kodları doğru seçilmiş mi?
B14: 3 | C14: Çeşitli ödemeler bordrosu, Harcama Talimatı Onay Belgesi, Banka Listesi, sigorta tahakkuk fişi ve kişi listesi eklendi mi?
B15: 4 | C15: Harcama Talimatının hukuki dayanağı ve gerekçesi harcamanın mahiyetine uygun mu?
B16: 5 | C16: Sigortalı işe başlama bildirgeleri ve İŞKUR Gençlik Programı Yüklenici Sözleşmesi yılın ilk ödemesine eklendi mi?
B17: 6 | C17: İcra kesinti listesi ve kesintiye ilişkin diğer evraklar eklendi mi? (Kesinti varsa)
B18: 7 | C18: Programdan haftalık yararlanma süresi en fazla yirmi iki buçuk saat ve üç gün olarak uygulandı mı?
B19: 8 | C19: Toplam ödenecek ücretin %5,5 sosyal güvenlik prim kesintisi uygulandı mı?
B20: 9 | C20: Yeni işe başlayan öğrenci var mı?
B21: 10 | C21: Sigortalı işe giriş bildirgesi ve Katılımcı Taahhütnamesi eklendi mi?
B22: 11 | C22: İşten ayrılan öğrenci var mı?
B23: 12 | C23: Sigortalı işten ayrılış bildirgesi eklendi mi?
... B27: 14.2 | C27: Yetki devri yapıldığına dair evrak eklendi mi? (Yıllık İzin Formu vb.)
B28: Kamu Ön Mali Kontrol Yönetmeliği'nin 6. maddesi gereğince hazırlanan bu kontrol listesinde yer alan bilgiler tarafımca kontrol edilmiş olup uygunluğu tasdik olunur. | J28: Gerçekleştirme Görevlisi Adı Soyadı Ünvanı İmza

Sheet EK-7
D2: Kısmi Zamanlı Öğrenci Ödemelerine İlişkin Ön Mali Kontrol Listesi | M2: Ana Sayfa
B7: EK-7
B8: Bütçe Yılı:
B9: Harcama Birimi:
B10: İşin Adı:
B11: Sıra No | C11: Kontrol Edilecek Bilgi ve Belgeler | J11: Evet | K11: Hayır | L11: Açıklamalar
B12: 1 | C12: Ödeme Emri Belgesi'ndeki bütçe tertibi doğru seçilmiş mi?
B13: 2 | C13: Ödeme Emri Belgesi'ndeki kesinti kodları doğru seçilmiş mi?
B14: 3 | C14: Sağlık Provizyon Aktivasyon Sistemi (SPAS) Müstehaklık Belgesi alındı mı ve sigorta primi hesaplaması bu belge dikkate alınarak mı yapıldı?
B15: 4 | C15: Bordro, Personel Bildirimi, Harcama Talimatı Onay Belgesi, Puantaj ve Banka Listesi eklendi mi?
B16: 5 | C16: İcra kesinti listesi ve kesintiye ilişkin diğer evraklar eklendi mi? (Kesinti varsa)
B17: 6 | C17: Yeni işe başlayan öğrenci var mı?
B18: 7 | C18: Sigortalı işe giriş bildirgesi ve Röktürlük Oluru eklendi mi?
B19: 8 | C19: İşten ayrılan öğrenci var mı?
B20: 9 | C20: Sigortalı işten ayrılış bildirgesi eklendi mi?
B21: 10 | C21: Rektörlük Oluru, İş Başvurusu Değerlendirme Komisyon Tutanağı, Üniversite Yönetim Kurulu Kararı yılın ilk ödemesine eklendi mi?
B22: 11 | C22: Stratejik Plan-Performans Programı-Bütçe-Harcama İlişkilendirme Tablosu mevcut mu? (01.01.2027 tarihi itibarıyla eklenecektir.)
B23: 12.1 | C23: Ödeme Emri Belgesi'ndeki imzalar dönem başı bildirilen yetkili çizelgesine uygun mu?
B24: 12.2 | C24: Ödeme Emri Belgesi, yetki çizelgesinde belirtilmeyen personel tarafından imzalandı ise yetki devri yapılmış mı?
B25: 12.3 | C25: Yetki devri yapıldığına dair evrak eklendi mi? (Yıllık İzin Formu vb.)
B26: Kamu Ön Mali Kontrol Yönetmeliği'nin 6. maddesi gereğince hazırlanan bu kontrol listesinde yer alan bilgiler tarafımca kontrol edilmiş olup uygunluğu tasdik olunur. | J26: Gerçekleştirme Görevlisi Adı Soyadı Ünvanı İmza

Sheet EK-6
A1: ÖN MALİ KONTROL LİSTESİ-1'!A1
D2: İntörn Öğrenci Maaş Ödemelerine İlişkin Ön Mali Kontrol Listesi | M2: Ana Sayfa
B7: EK-6
B8: Bütçe Yılı:
B9: Harcama Birimi:
B10: İşin Adı:
B11: Sıra No | C11: Kontrol Edilecek Bilgi ve Belgeler | J11: Evet | K11: Hayır | L11: Açıklama
B12: 1 | C12: Ödeme Emri Belgesi'ndeki bütçe tertibi doğru seçilmiş mi?
B13: 2 | C13: Ödeme Emri Belgesi'ndeki kesinti kodları doğru seçilmiş mi?
B14: 3 | C14: Bordro, Personel Bildirimi, Harcama Talimatı Onay Belgesi, Banka Listesi ve sigorta tahakkuk ve kişi listesi fişleri eklendi mi?
B15: 4 | C15: İcra kesinti listesi ve kesintiye ilişkin diğer evraklar eklendi mi? (Kesinti varsa)
B16: 5 | C16: Yeni işe başlayan intörn öğrencisi var mı?
B17: 5.1 | C17: Sigortalı işe giriş bildirgesi eklendi mi?
B18: 6 | C18: İşten ayrılan intörn öğrencisi var mı?
B19: 6.1 | C19: Sigortalı işten ayrılış bildirgesi eklendi mi?
B20: 7 | C20: Stratejik Plan-Performans Programı-Bütçe-Harcama İlişkilendirme Tablosu mevcut mu? (01.01.2027 tarihi itibarıyla eklenecektir.)
B21: 8 | C21: Ödeme Emri Belgesi'ndeki imzalar dönem başı bildirilen yetkili çizelgesine uygun mu?
B22: 8.1 | C22: Ödeme Emri Belgesi, yetki çizelgesinde belirtilmeyen personel tarafından imzalandı ise yetki devri yapılmış mı?
B23: 8.2 | C23: Yetki devri yapıldığına dair evrak eklendi mi? (Yıllık İzin Formu vb.)
B24: Kamu Ön Mali Kontrol Yönetmeliği'nin 6. maddesi gereğince hazırlanan bu kontrol listesinde yer alan bilgiler tarafımca kontrol edilmiş olup uygunluğu tasdik olunur. | J24: Gerçekleştirme Görevlisi Adı Soyadı Ünvanı İmza

Sheet EK-1
D2: Memur Maaş Ödemeleri Ön Mali Kontrol Listesi | M2: Ana Sayfa
B7: Ek-1
B8: Bütçe Yılı:
B9: Harcama Birimi:
B10: İşin Adı:
B11: Sıra No | C11: Kontrol Edilecek Bilgi ve Belgeler | J11: Evet | K11: Hayır | L11: Açıklamalar
B12: 1 | C12: KBS'de bulunan Aylık Bordro, Bordro İcmal, Personel Bildirimi, Banka Listesi raporları eklendi mi?
B13: 1.1 | C13: KBS'den alınan Akademik teşvik ve Yabancı dil tazminat listeleri eklendi mi?
B14: 1.2 | C14: KBS'den alınan Sendika aidatı kesinti listesi, kira, icra, nafaka, kefalet, bes kesinti listeleri eklendi mi?
B15: 1.3 | C15: Kesenek bilgi sistemi sigorta bildirimleri eklendi mi?
B16: 2 | C16: İşe yeni başlayan personel var mı?
B17: 2.1 | C17: İşe başlama yazısı ve Sigortalı İşe Giriş Bildirgesi eklendi mi?
B18: 2.2 | C18: Atama Kararnamesi eklendi mi?
B19: 2.3 | C19: Naklen atama ise Personel Nakil Bildirimi eklendi mi?
B20: 2.4 | C20: KBS'den bireysel emeklilik kesintisi yapıldı mi? Ayrıca emeklilik şirketine bağlı kurumsal internet şubesi üzerinden Otomatik Katılım Hesabı açıldı mı?
B21: 2.5 | C21: Sendika Üyelik Formu eklendi mi? (Üyelik varsa) *
B22: 2.6 | C22: Açıktan atama ise kıst gün sayısı girildi mi?
B23: 2.7 | C23: Dil Tazminatı ödemesi yapılacaksa Sınav Sonuç Belgesi eklendi mi ?
B24: 3 | C24: Ücretsiz izin dönüşü göreve başlayan personel var mı?
B25: 3.1 | C25: İşe başlama yazısı ve Sigortalı İşe Giriş Bildirgesi eklendi mi?
B26: 3.2 | C26: Kıst gün sayısı girildi mi?
B27: 4 | C27: İşten ayrılan (istifa, naklen vb.) personel var mı?
B28: 4.1 | C28: İşten ayrılma yazısı ve Sigortalı İşten Ayrılış Bildirgesi eklendi mi?
B29: 4.2 | C29: Personel İlişik Kesme Belgesi ve Personel Nakil Bildirimi Formu (naklen gidenler için) eklendi mi?
B30: 5 | C30: Aylıksız izne ayrılan / ayrılacak personel var mı?
B31: 5.1 | C31: Askerlik nedeniyle aylıksız izne ayrılan ve bakmakla yükümlüsü olan personel için GSS hesaplandı mı?
B32: 5.2 | C32: 5.1'de belirtilen durum dışındaki tüm aylıksız izne ayrılma durumları için GSS hesaplandı mı?
B33: 6 | C33: Akademik personellerin geliştirme ödeneği kontrol edildi mi?
B34: 6.1 | C34: Açıktan atama ve ücretsiz izin dönüşü işe başlayanlarda geliştirme ödeneği doğru hesaplandı mı?
B35: 6.2 | C35: Yurtiçi veya yurtdışı geçici görevlendirme nedeniyle ayrılan veya hastalık, refakat ve mezaret izni kullanan varsa kanunda öngörülen süreler göz önüne bulundurularak kontrol yapıldı mı?
B36: 6.3 | C36: 2547 sayılı Kanun'un 33. ve 38. maddelerine görevlendirme varsa kesinti yapıldı mı?
B37: 6.4 | C37: Özel kanunlardaki hükümlere dayandırılan Üniversite dışında görevlendirme varsa kesinti yapıldı mı?
B38: 7 | C38: Terfi varsa, terfi girişi yapıldı mı?
B39: 7.1 | C39: Terfi Onay Listesi eklendi mi?
B40: 7.2 | C40: KBS'den terfi girildiğinde cetvellerden güncellemeler yapıldı mı? Tazminatlar kontrol edildi mi?
B41: 8 | C41: Lojman kesintisi değişikliği yapılacaksa kesintiye ilişkin yazı eklendi mi?
B42: 9 | C42: İcra kesintisi yapılan personel var mı?
B43: 9.1 | C43: İlk kez icra kesintisi yapılacaksa icra dairesinin yazısı eklendi mi?
B44: 9.2 | C44: Kurum içi naklen yapılan atamalarda icra dosyasının yeni görev yerine aktarımı yapıldı mı?
B45: 10 | C45: Yabancı dil tazminatına hak kazanan ve/veya değişiklik olan personelin Sınav Sonuç Belgesi (YDS) eklendi mi? Geçerliklik süreleri kontrol edildi mi?
B46: 11 | C46: Rapor kesintisi varsa Sağlık Raporları ve Hastalık İzin Formu eklendi mi? "a) Sağlık kurulu raporu üzerine verilen hastalık izinleri, b) Kanser, verem ve akıl hastalıkları gibi uzun süreli bir tedaviye ihtiyaç gösteren hastalığa yakalananların kullandığı hastalık izinleri, c) Hastalıkları sebebiyle resmi yataklı tedavi kurumlarında yatarak tedavi gördükleri tedavi süreleri, hariç olmak üzere bir takvim yılı içinde kullanılan hastalık izin süreleri toplamının 7 günü aşması halinde, aşan sürelere isabet eden zam ve tazminatlar % 25 eksik ödenir.”
B47: 11.1 | C47: Tek hekimden alınan yıllık toplam 7 günü aşan günler için personelden zam ve tazminat kalemleri %25 kesinti yapıldı mı?
B48: 12 | C48: Personel öğrenim durumları KBS'de güncel mi?
B49: 13 | C49: Sendika Üyelik ve/veya Üyelikten Çekilme Formu eklendi mi? (Değişiklik varsa)
B50: 14 | C50: Vergi indirimine konu sigorta poliçeleri eklendi mi? (Sigorta indirimi Varsa)
B51: 15 | C51: E-devlet üzerinden gönderilen ve mutemet tarafından onaylanan Aile Yardımı Bildirimi eklendi mi? (Her yıl ocak ayı maaşında,yeni başlama, aile durum değişikliği, ücretsiz izin dönüşü vb.)
B52: 16 | C52: İlave matrah girildi ise matraha ilişkin evrak eklendi mi?
B53: 17 | C53: Her yılın Şubat ayında ilk ödemesi yapılan ve Teşvik Başvuru ve İnceleme Komisyonu tarafından onaylanmış Akademik Teşvik Ödeneği Listesi eklendi mi?
B54: 18 | C54: Dil Tazminatı ödemesi yapılan personele ait Sınav Sonuç Belgeleri malî yılın ilk ödemesine eklendi mi?
B55: 19 | C55: Personelin kıdem aylığına esas hizmet sürelerini gösteren Personel Daire Başkanlığınca onaylı liste malî yılın ilk ödemesine eklendi mi?
B56: 20 | C56: Stratejik Plan-Performans Programı-Bütçe-Harcama İlişkilendirme Tablosu mevcut mu? (01.01.2027 tarihi itibarıyla eklenecektir.)
B57: 21 | C57: Ödeme Emri Belgesi'ndeki imzalar dönem başı bildirilen yetkili çizelgesine uygun mu?
B58: 21.1 | C58: Ödeme Emri Belgesi, yetki çizelgesinde belirtilmeyen personel tarafından imzalandı ise yetki devri yapılmış mı?
B59: 21.2 | C59: Yetki devri yapıldığına dair evrak eklendi mi? (Yıllık İzin Formu vb.)
B60: Kamu Ön Mali Kontrol Yönetmeliği'nin 6. maddesi gereğince hazırlanan bu kontrol listesinde yer alan bilgiler tarafımca kontrol edilmiş olup uygunluğu tasdik olunur. | J60: Gerçekleştirme Görevlisi Adı Soyadı Ünvanı İmza

Sheet EK-2
D2: Sözleşmeli Personel Maaş Ödemeleri Ön Mali Kontrol Listesi | M2: Ana Sayfa
B7: EK-2
B8: Bütçe Yılı:
B9: Harcama Birimi:
B10: İşin Adı:
B11: Sıra No | C11: Kontrol Edilecek Bilgi ve Belgeler | J11: Evet | K11: Hayır | L11: Açıklamalar
B12: 1 | C12: KBS'de bulunan Aylık Bordro, Personel Bildirimi, Banka Listesi raporları eklendi mi?
B13: 2 | C13: İşe yeni başlayan personel var mı?
B14: 2.1 | C14: İşe başlama yazısı ve Sigortalı İşe Giriş Bildirgesi eklendi mi?
B15: 2.2 | C15: Hizmet Sözleşmesi ilk ödemeye eklendi mi?
B16: 2.3 | C16: e-Devlet üzerinden gönderilen ve mutemet tarafından onaylanan Aile Yardımı Bildirimi eklendi mi?
B17: 2.4 | C17: KBS'den Bireysel Emeklilik kesintisi yapıldı mı? Ayrıca emeklilik şirketine bağlı kurumsal internet şubesi üzerinden Otomatik Katılım Hesabı açıldı mı?
B18: 2.5 | C18: Sendika Üyelik Formu eklendi mi? (Üyelik varsa)
B19: 2.6 | C19: Personelin Sözleşme Ücreti, Ek Ödeme ve İlave Ödeme (375 KHK ek m.40) maaş kalemleri kontrol edildi mi?
B20: 2.7 | C20: Kıst gün sayısı girildi mi?
B21: 3 | C21: İşten ayrılan personel var mı?
B22: 3.1 | C22: İşten ayrılma yazısı ve Sigortalı İşten Ayrılış Bildirgesi eklendi mi?
B23: 4 | C23: Öğrenim durumu değişen personelin KBS ekran girişleri güncellendi mi?
B24: 5 | C24: Hizmet yılı değişen personelin Ek Ödeme artış oranı kontrol edildi mi?
B25: 6 | C25: Sendika Üyelik ve/veya Üyelikten Çekilme Formu eklendi mi? (Değişiklik varsa)
B26: 7 | C26: İş Göremezlik Ödeneği kesintisi varsa sağlık raporları ve Hastalık İzin Formu eklendi mi?
B27: 8 | C27: İş Göremezlik Ödeneği kesintisi varsa e-devlet'ten alınacak ''Geçici İş Göremezlik ve Emzirme Ödeneği'' belgesi eklendi mi?
B28: 9 | C28: Vergi indirimine konu sigorta poliçeleri eklendi mi? (Sigorta İndirimi Varsa)
B29: 9.1 | C29: Sigorta poliçelerinin birikim primi içerip içermediği kontrol edildi mi?
B30: 10 | C30: Tüm sözleşmeli personele ait Hizmet Sözleşmeleri mali yılın ilk ödemesine eklendi mi?
B31: 11 | C31: Dil Tazminatı ödemesi yapılan personele ait Sınav Sonuç Belgeleri mali yılın ilk ödemesine eklendi mi?
B32: 12 | C32: E-devlet üzerinden gönderilen ve mutemet tarafından onaylanan Aile Yardımı Bildirimi eklendi mi? (Her yıl ocak ayı maaşında, yeni başlama, aile durum değişikliği, ücretsiz izin dönüşü vb.)
B33: 13 | C33: Stratejik Plan-Performans Programı-Bütçe-Harcama İlişkilendirme Tablosu mevcut mu?(01.01.2027 tarihi itibarıyla eklenecektir.)
B34: 14 | C34: Ödeme Emri Belgesi'ndeki imzalar dönem başı bildirilen yetkili çizelgesine uygun mu?
B35: 14.1 | C35: Ödeme Emri Belgesi, yetki çizelgesinde belirtilmeyen personel tarafından imzalandı ise yetki devri yapılmış mı?
B36: 14.2 | C36: Yetki devri yapıldığına dair evrak eklendi mi? (Yıllık İzin Formu vb.)
B37: Kamu Ön Mali Kontrol Yönetmeliği'nin 6. maddesi gereğince hazırlanan bu kontrol listesinde yer alan bilgiler tarafımca kontrol edilmiş olup uygunluğu tasdik olunur. | J37: Gerçekleştirme Görevlisi Adı Soyadı Ünvanı İmza

Sheet EK-3
D2: Sürekli İşçi Maaş Ödemelerine İlişkin Ön Mali Kontrol Listesi | M2: Ana Sayfa
B7: EK-3
B8: Bütçe Yılı:
B9: Harcama Birimi:
B10: İşin Adı:
B11: Sıra No | C11: Kontrol Edilecek Bilgi ve Belgeler | J11: Evet | K11: Hayır | L11: Açıklamalar
B12: 1 | C12: Ödeme Emri Belgesi'ndeki bütçe tertibi doğru seçilmiş mi?
B13: 2 | C13: Ödeme Emri Belgesi'ndeki kesinti kodları doğru seçilmiş mi?
B14: 3 | C14: Bordro, Personel Bildirimi, Harcama Talimatı Onay Belgesi, Puantaj, Banka Listesi eklendi mi?
B15: 4 | C15: BES, Sendika, İcra, Kişi Borcu kesinti listeleri ve kesintiye ilişkin diğer evraklar eklendi mi? (Kesinti varsa)
B16: 5 | C16: Yeni işe başlayan personel var mı?
B17: 5.1 | C17: Sigortalı İşe Giriş Bildirgesi ve Atama Kararnamesi eklendi mi?
B18: 5.2 | C18: Bireysel Emeklilik kesintisi yapıldı mi? Ayrıca emeklilik şirketine bağlı kurumsal internet şubesi üzerinden Otomatik Katılım Hesabı açıldı mı?
B19: 5.3 | C19: Sendika Üyelik Formu eklendi mi? (Üyelik varsa)
B20: 6 | C20: Ücretsiz izin dönüşü göreve başlayan personel var mı?
B21: 6.1 | C21: İşe başlama yazısı ve Sigortalı İşe Giriş Bildirgesi eklendi mi?
B22: 7 | C22: İşten ayrılan personel var mı?
B23: 7.1 | C23: İşten ayrılma yazısı, Sigortalı İşten Ayrılış Bildirgesi ve Personel İlişik Kesme Belgesi eklendi mi?
B24: 8 | C24: Ücretsiz izne ayrılacak personel var mı?
B25: 8.1 | C25: Ücretsiz izne ayrılma yazısı eklendi mi?
B26: 9 | C26: Aile ve çocuk yardımı ödemesini etkileyen değişiklik olması durumunda güncel Aile Yardımı Bildirimi alındı mı ve maaş girişleri güncellendi mi?
B27: 10 | C27: Sendika Üyelik ve/veya Üyelikten Çekilme Formu eklendi mi? (Değişiklik varsa)
B28: 11 | C28: Vergi indirimine konu sigorta poliçeleri eklendi mi? (Sigorta İndirimi Varsa)
B29: 11.1 | C29: Sigorta poliçelerinin birikim primi içerip içermediği kontrol edildi mi?
B30: 12 | C30: Manuel bordro girişi yapıldı ise Çeşitli Ödemeler Bordrosu ve ödemeye ilişkin diğer belgeler eklendi mi?
B31: 13 | C31: Doğum, ölüm ve bayram yardımı gibi düzenli olmayan ödemelere ilişkin evraklar eklendi mi?
B32: 14 | C32: Yılın belirli dönemlerinde ödenen Ek Sosyal Yardım, İkramiye gibi ödemelerin dönemsel kontrolü yapıldı mı?
B33: 15 | C33: Tediye ödemesine ilişkin Cumhurbaşkanı Kararı eklendi mi?
B34: 16 | C34: Güvenlik personelinin fazla çalışmalarına ilişkin belgeler eklendi mi?
B35: 17 | C35: Damga Vergisi Detay Kodu doğru seçilmiş mi ?
B36: 17.1 | C36: Damga vergisi kesintisi doğru hesaplanmş mı?
B37: 18 | C37: Sigorta ve vergi tahakkuk fişleri eklendi mi?
B38: 19 | C38: Stratejik Plan-Performans Programı-Bütçe-Harcama İlişkilendirme Tablosu mevcut mu? (01.01.2027 tarihi itibarıyla eklenecektir.)
B39: 20 | C39: Ödeme Emri Belgesi'ndeki imzalar dönem başı bildirilen yetkili çizelgesine uygun mu?
B40: 20.1 | C40: Ödeme Emri Belgesi, yetki çizelgesinde belirtilmeyen personel tarafından imzalandı ise yetki devri yapılmış mı?
B41: 20.2 | C41: Yetki devri yapıldığına dair evrak eklendi mi? (Yıllık İzin Formu vb.)
B42: Kamu Ön Mali Kontrol Yönetmeliği'nin 6. maddesi gereğince hazırlanan bu kontrol listesinde yer alan bilgiler tarafımca kontrol edilmiş olup uygunluğu tasdik olunur. | J42: Gerçekleştirme Görevlisi Adı Soyadı Ünvanı İmza

Sheet EK-4
D2: Kadrolu ve Sözleşmeli Personel Fark Maaş Ödemelerine İlişkin Ön Mali Kontrol Listesi | M2: Ana Sayfa
B7: EK-4
B8: Bütçe Yılı:
B9: Harcama Birimi:
B10: İşin Adı:
B11: Sıra No | C11: Kontrol Edilecek Bilgi ve Belgeler | J11: Evet | K11: Hayır | L11: Açıklamalar
B12: 1 | C12: KBS'de bulunan Aylık Bordro, Personel bildirimi, Bordro İcmal ve Banka Listesi raporları eklendi mi?
B13: 2 | C13: KBS'de bulunan Bes ve Sendika Kesinti Listesi raporları eklendi mi?
B14: 3 | C14: Kadrolu Personel için KBS'de bulunan Fark Maaş Bilgi Girişi Kontrol Listesi eklendi mi?
B15: 4 | C15: Ocak ayındaki fark maaş ödemesi için Aralık ve Ocak aylarındaki Personel Bildirimi Dökümleri, Temmuz ayındaki fark maaş ödemesi için Haziran ve Temmuz aylarındaki Personel Bildirimi Dökümleri kontrol edildi mi?
B16: 5 | C16: Ocak ve/veya Temmuz maaşları terfi yapılarak ödenen personelin 14 günlük fark maaş ödemesi (bir önceki aya ait fark ödemesi olduğundan) terfi öncesi durumuna göre yapıldı mı?
B17: 6 | C17: İstifa, müstafi gibi çeşitli nedenlerle (nakil hariç) görevinden ayrılan personele yapılacak fark maaş ödemesi, kıst olarak verildi mi?
B18: 7 | C18: Açıktan atama, ücretsiz izin dönüşü gibi nedenlerle kıst maaş ödemesi yapılan ve fark maaş listesinde yer almaması gereken kişilerin kontrolü yapıldı mı?
B19: 8 | C19: Fark maaş ödemesi yapılması gerektiği halde çeşitli nedenlerle KBS-Fark Maaş Bilgi Girişi Formunda kaydı bulunmayan personel için KBS-Fark Maaş Tablosuna Aktarma işlemi yapıldı mı?
B20: 9 | C20: Ocak ayındaki fark maaş ödemesi için Ocak maaşını aldığı, Temmuz ayındaki fark maaş ödemesi için Temmuz maaşını aldığı kurum tarafından fark ödemesinin yapılıp yapılmadığı kontrol edildi mi?
B21: 10 | C21: 5510 kesenek bildirimi eklendi mi?
B22: 11 | C22: Stratejik Plan-Performans Programı-Bütçe-Harcama İlişkilendirme Tablosu mevcut mu?(01.01.2027 tarihi itibarıyla eklenecektir.)
B23: 12 | C23: Ödeme Emri Belgesi'ndeki imzalar dönem başı bildirilen yetkili çizelgesine uygun mu?
B24: 12.1 | C24: Ödeme Emri Belgesi, yetki çizelgesinde belirtilmeyen personel tarafından imzalandı ise yetki devri yapılmış mı?
B25: 12.2 | C25: Yetki devri yapıldığına dair evrak eklendi mi? (Yıllık İzin Formu vb.)
B26: Kamu Ön Mali Kontrol Yönetmeliği'nin 6. maddesi gereğince hazırlanan bu kontrol listesinde yer alan bilgiler tarafımca kontrol edilmiş olup uygunluğu tasdik olunur. | J26: Gerçekleştirme Görevlisi Adı Soyadı Ünvanı İmza

Sheet EK-5
D2: Yabancı Uyruklu Personel Maaş Ödemelerine İlişkin Ön Mali Kontrol Listesi | M2: Ana Sayfa
B7: EK-5
B8: Bütçe Yılı:
B9: Harcama Birimi:
B10: İşin Adı:
B11: Sıra No | C11: Kontrol Edilecek Bilgi ve Belgeler | J11: Evet | K11: Hayır | L11: Açıklamalar
B12: 1 | C12: Ödeme Emri Belgesi'ndeki bütçe tertibi doğru seçilmiş mi?
B13: 2 | C13: Ödeme Emri Belgesi'ndeki kesinti kodları doğru seçilmiş mi?
B14: 3 | C14: Bordro, Personel Bildirimi ve Banka Listesi eklendi mi?
B15: 4 | C15: Sendika, İcra, Lojman kesinti listeleri eklendi mi? (Kesinti varsa)
B16: 5 | C16: Yeni işe başlayan personel var mı?
B17: 5.1 | C17: Yükseköğretim Kurulu Başkanlığının 'Çalışma Ön İzni' uygunluk yazısı eklendi mi?
B18: 5.2 | C18: Çalışma ve Sosyal Güvenlik Bakanlığından alınan Çalışma İzni ve Süresini gösteren belge eklendi mi?
B19: 5.3 | C19: İşe başlama yazısı, sigortalı işe giriş bildirgesi ve TİP sözleşmesi eklendi mi?
B20: 5.4 | C20: Sendika üyelik formu eklendi mi? (Üyelik varsa)
B21: 5.5 | C21: Beyan eden personel tarafından imzalanmış Aile Yardımı Bildirimi eklendi mi?(Değişiklik varsa)
B22: 6 | C22: İşten ayrılan personel var mı?
B23: 6.1 | C23: İşten ayrılma yazısı ve sigortalı işten ayrılış bildirgesi eklendi mi?
B24: 7 | C24: Unvan değişikliği yapılmış ise Yükseköğretim Kurulu Başkanlığının uygunluk yazısı eklendi mi?
B25: 8 | C25: Brüt sözleşme ücretlerinin memur aylık katsayısındaki artış oranının üzerinde yapılmış ise Yükseköğretim Kurulu Başkanlığının uygunluk yazısı eklendi mi?
B26: 9 | C26: Sendika üyelik ve/veya üyelikten çekilme formu eklendi mi? (Değişiklik varsa)
B27: 10 | C27: Aile yardımı talep ediliyorsa eşinin çalışmadığına dair resmi kurumlardan alınmış evrak eklendi mi?
B28: 11 | C28: Damga vergisi detay kodu doğru seçilmiş mi ?
B29: 11.1 | C29: Damga vergisi kesintisi doğru hesaplanmış mı?
B30: 12 | C30: Stratejik Plan-Performans Programı-Bütçe-Harcama İlişkilendirme Tablosu mevcut mu?(01.01.2027 tarihi itibarıyla eklenecektir.)
B31: 13 | C31: Ödeme Emri Belgesi'ndeki imzalar dönem başı bildirilen yetkili çizelgesine uygun mu?
B32: 13.1 | C32: Ödeme Emri Belgesi, yetki çizelgesinde belirtilmeyen personel tarafından imzalandı ise yetki devri yapılmış mı?
B33: 13.2 | C33: Yetki devri yapıldığına dair evrak eklendi mi? (Yıllık İzin Formu vb.)
B34: Kamu Ön Mali Kontrol Yönetmeliği'nin 6. maddesi gereğince hazırlanan bu kontrol listesinde yer alan bilgiler tarafımca kontrol edilmiş olup uygunluğu tasdik olunur. | J34: Gerçekleştirme Görevlisi Adı Soyadı Ünvanı İmza

Sheet EK-69
D2: BAP Yurt İçi Geçici Görev Yolluğu Ödemelerine İlişkin Ön Mali Kontrol Listesi | M2: Ana Sayfa
B7: EK-69
B8: Bütçe Yılı:
B9: Harcama Birimi:
B10: İşin Adı:
B11: Sıra No | C11: Kontrol Edilecek Bilgi ve Belgeler | J11: Evet | K11: Hayır | L11: Açıklamalar
B12: 1 | C12: Görevlendirme yazısı var mı? (Akademik görevlendirmelerde Rektör imzalı/ İdari personelde birim amiri imzalı/Kurum dışı personel için yürütücü imzalı.)
B13: 1.1 | C13: Yönetim Kurulu Kararı var mı?
B14: 1.2 | C14: Yönetim Kurulu Kararında, yolluk ve gündeliğin proje bütçesinden ödeyeceği konusunda gerekli açıklamalar var mı?
B15: 1.3 | C15: Görevlendirmede seyahatin uçakla yapılacağı belirtilmiş mi? (zorunlu)
B16: 2 | C16: Yurtiçi Geçici Görev Yolluk Bildirim Formu var mı?
B17: 2.1 | C17: 24 saati aşmayan görevlendirmelerde gidiş-dönüş saatleri yolluk bildiriminde gösterildi mi?
B18: 2.2 | C18: Yolluk Bildirim Formunda Bütçe Yılı doğru seçilmiş mi?
B19: 2.3 | C19: Yolluk bildirim formunda yer alan gündelik tutarı doğru mu?
B20: 2.4 | C20: Yolluk bildirim formunda yer alan kişisel bilgiler doğru mu?
B21: 2.5 | C21: Yolluk Bildirim Formunda yer alan gün sayısı ile Görevlendirme Formunda yer alan gün sayısı uyumlu muı?
B22: 2.6 | C22: Yatacak yer temini için ödenecek konaklama tutarı, ilgili proje türüne göre (BAP/TÜBİTAK/TÜSEB/AB) belirlenmiş tutarlar ile uyumlu mu?
B23: 2.7 | C23: Geçici bir görevle memuriyet mahalli dışındaki bir yere gönderilenlerden, buralarda ve yolda öğle (saat 13.00) ve akşam (saat 19.00) yemeği zamanlarından birini geçirenlere 1/3, ikisini geçirenlere 2/3 oranında yevmiye verilmiş mi?
B24: 2.8 | C24: Görevlendirmelerde tam yevmiye alınması için geceyi de görevlendirme yerinde geçirmiş mi?
... B36: 8 | C36: Stratejik Plan-Performans Programı-Bütçe-Harcama İlişkilendirme Tablosu mevcut mu?(01.01.2027 tarihi itibarıyla eklenecektir.)
B37: 9 | C37: Ödeme Emri Belgesi'ndeki imzalar dönem başı bildirilen yetkili çizelgesine uygun mu?
B38: 9.1 | C38: Ödeme Emri Belgesi, yetki çizelgesinde belirtilmeyen personel tarafından imzalandı ise yetki devri yapılmış mı?
B39: 9.2 | C39: Yetki devri yapıldığına dair evrak eklendi mi? (Yıllık İzin Formu vb.)
B40: Kamu Ön Mali Kontrol Yönetmeliği'nin 6. maddesi gereğince hazırlanan bu kontrol listesinde yer alan bilgiler tarafımca kontrol edilmiş olup uygunluğu tasdik olunur. | J40: Gerçekleştirme Görevlisi Adı Soyadı Ünvanı İmza

Sheet EK-70
D2: BAP Yurt Dışı Geçici Görev Yolluğu Ödemelerine İlişkin Ön Mali Kontrol Listesi | M2: Ana Sayfa
B7: EK-70
B8: Bütçe Yılı:
B9: Harcama Birimi:
B10: İşin Adı:
B11: Sıra No | C11: Kontrol Edilecek Bilgi ve Belgeler | J11: Evet | K11: Hayır | L11: Açıklamalar
B12: 1 | C12: Görevlendirme yazısı var mı? (Akademik görevlendirmelerde Rektör imzalı/ İdari personelde birim amiri imzalı/Kurum dışı personel için yürütücü imzalı.)
B13: 1.1 | C13: Yönetim Kurulu Kararı var mı?
B14: 1.2 | C14: Yönetim Kurulu Kararında, yolluk ve gündeliğin proje bütçesinden ödeyeceği konusunda gerekli açıklamalar var mı?
B15: 1.3 | C15: Görevlendirmede seyahatin uçakla yapılacağı belirtilmiş mi? (zorunlu)
B16: 2 | C16: Yolluk Bildirim Formu var mı?
B17: 2.1 | C17: Yolluk Bildirim Formu, görevlendirme yazısında belirtilen unsurlara uyumlu mu doldurulmuş?
B18: 2.2 | C18: Yolluk Bildirim Formunda maddi hata var mı?
B19: 2.3 | C19: Yolluk Bildirim Formunda bulunan imzalar tam mı?
B20: 2.4 | C20: Yolluk Bildirim Formunda kişisel bilgiler doğru mu?
B21: 2.5 | C21: Yolluk bildirim formunda yer alan gündelik tutarı doğru mu?
B22: 2.6 | C22: 24 saati aşmayan görevlendirmelerde gidiş-dönüş saatleri yolluk bildiriminde gösterildi mi?
B23: 3 | C23: Kurs veya toplantıya katılım yapılmışsa, iştirak edildiğine ilişkin belge var mı? (Türkçe tercümesi yapılmış ve yürütücü tarafından onaylanmış.)
B24: 4 | C24: Yatacak yer temini için ödenen ücretlere ilişkin fatura veya fatura yerine geçen belge var mı?
... B34: 11.2 | C34: Yetki devri yapıldığına dair evrak eklendi mi? (Yıllık İzin Formu vb.)
B35: Kamu Ön Mali Kontrol Yönetmeliği'nin 6. maddesi gereğince hazırlanan bu kontrol listesinde yer alan bilgiler tarafımca kontrol edilmiş olup uygunluğu tasdik olunur. | J35: Gerçekleştirme Görevlisi Adı Soyadı Ünvanı İmza

Sheet EK-71
D2: Resmî Kurumlara Ödenen Transfer Ödemeleri Ön Mali Kontrol Listesi | M2: Ana Sayfa
B7: EK-71
B8: Bütçe Yılı:
B9: Harcama Birimi:
B10: İşin Adı:
B11: Sıra No | C11: Kontrol Edilecek Bilgi ve Belgeler | J11: Evet | K11: Hayır | L11: Açıklamalar
B12: 1 | C12: Harcama talimatı,
B13: 2 | C13: İlgili Kuruluştan gelen borç bildirim yazısı ya da tahakkuk listesi,
B14: 3 | C14: İlgili mevzuatı gereği ödeme emri belgesine eklenecek diğer belgeler.
B15: 4 | C15: Stratejik Plan-Performans Programı-Bütçe-Harcama İlişkilendirme Tablosu mevcut mu? (01.01.2027 tarihi itibarıyla eklenecektir.)
B16: 5 | C16: Ödeme Emri Belgesi'ndeki imzalar dönem başı bildirilen yetkili çizelgesine uygun mu?
B17: 5.1 | C17: Ödeme Emri Belgesi, yetki çizelgesinde belirtilmeyen personel tarafından imzalandı ise yetki devri yapılmış mı?
B18: 5.2 | C18: Yetki devri yapıldığına dair evrak eklendi mi? (Yıllık İzin Formu vb.)
B19: Kamu Ön Mali Kontrol Yönetmeliği'nin 6. maddesi gereğince hazırlanan bu kontrol listesinde yer alan bilgiler tarafımca kontrol edilmiş olup uygunluğu tasdik olunur. | J19: Gerçekleştirme Görevlisi Adı Soyadı Ünvanı İmza

Sheet EK-72
D2: Geçici Teminat İadesine İlişkin Ön Mali Kontrol Listesi | M2: Ana Sayfa
M3: Ana Sayfa
B7: EK-72
B8: Bütçe Yılı:
B9: Harcama Birimi:
B10: İşin Adı:
B11: Sıra No | C11: Kontrol Edilecek Bilgi ve Belgeler | J11: Evet | K11: Hayır | L11: Açıklamalar
B12: 1 | C12: Alındı
B13: 2 | C13: Geçici teminatın geri ödenmesinde sakınca olmadığına dair ilgili birimin yazısı ve firmanın dilekçesi
B14: 3 | C14: İlgili mevzuatı gereği ödeme emri belgesine eklenecek diğer belgeler
B15: 4 | C15: Stratejik Plan-Performans Programı-Bütçe-Harcama İlişkilendirme Tablosu mevcut mu?(01.01.2027 tarihi itibarıyla eklenecektir.)
B16: 5 | C16: Ödeme Emri Belgesi'ndeki imzalar dönem başı bildirilen yetkili çizelgesine uygun mu?
B17: 6 | C17: Ödeme Emri Belgesi, yetki çizelgesinde belirtilmeyen personel tarafından imzalandı ise yetki devri yapılmış mı?
B18: 7 | C18: Yetki devri yapıldığına dair evrak eklendi mi? (Yıllık İzin Formu vb.)
B19: Kamu Ön Mali Kontrol Yönetmeliği'nin 6. maddesi gereğince hazırlanan bu kontrol listesinde yer alan bilgiler tarafımca kontrol edilmiş olup uygunluğu tasdik olunur. | J19: Gerçekleştirme Görevlisi Adı Soyadı Ünvanı İmza

Sheet EK-73
D2: Kesin Teminat İadesine İlişkin Ön Mali Kontrol Listesi
M3: Ana Sayfa
B7: EK-73
B8: Bütçe Yılı:
B9: Harcama Birimi:
B10: İşin Adı:
B11: Sıra No | C11: Kontrol Edilecek Bilgi ve Belgeler | J11: Evet | K11: Hayır | L11: Açıklamalar
B12: 1 | C12: Alındı
B13: 2 | C13: Vergi borcu yoktur yazısı
B14: 3 | C14: SGK dan taahüt dosyası ile ilgili alınan işin ilişiksizlik belgesi eklendi mi?
B15: 4 | C15: Yapım işlerinde geçici veya kesin kabul tutanağı
B16: 5 | C16: Firmanın işle ilgili idareye borcu olmadığına dair birimin yazısı
B17: 6 | C17: Stratejik Plan-Performans Programı-Bütçe-Harcama İlişkilendirme Tablosu mevcut mu? (01.01.2027 tarihi itibarıyla eklenecektir.)
B18: 7 | C18: Ödeme Emri Belgesi'ndeki imzalar dönem başı bildirilen yetkili çizelgesine uygun mu?
B19: 8 | C19: Ödeme Emri Belgesi, yetki çizelgesinde belirtilmeyen personel tarafından imzalandı ise yetki devri yapılmış mı?
B20: 9 | C20: Yetki devri yapıldığına dair evrak eklendi mi? (Yıllık İzin Formu vb.)
B21: Kamu Ön Mali Kontrol Yönetmeliği'nin 6. maddesi gereğince hazırlanan bu kontrol listesinde yer alan bilgiler tarafımca kontrol edilmiş olup uygunluğu tasdik olunur. | J21: Gerçekleştirme Görevlisi Adı Soyadı Ünvanı İmza

Sheet EK-74
D2: Yurtdışı sürekli görev yolluğu Ön Mali Kontrol Listesi
M3: Ana Sayfa
B7: EK-74
B8: Bütçe Yılı:
B9: Harcama Birimi:
B10: İşin Adı:
B11: Sıra No | C11: Kontrol Edilecek Bilgi ve Belgeler | J11: Evet | K11: Hayır | L11: Açıklamalar
B12: 1 | C12: Harcama Talimatı Onay Belgesi mevcut mu?
B13: 1.2 | C13: Harcama talimatının hukuki dayanağı ve gerekçesi mahiyetine uygun mu?
B14: 1.3 | C14: Gerçekleştirme Usulü mahiyetine uygun mu?
B15: 1.4 | C15: Harcamanın türüne uygun mu?
B16: 2 | C16: Sözleşmesi mevcut mu?(Sözleşmeli Personel ise)
B17: 2.1 | C17: Sözleşmesinde harcırah ile ilgili hükümler mevcut mu ?
B18: 3 | C18: Atama onayı/kararı yazısı mevcut mu?
B19: 4 | C19: Yurtdışı sürekli görev yolluğu bildirimi mevcut mu?(Örnek 28 Numaralı form)
B20: 5 | C20: Uçak bileti faturası mevcut mu?
B21: 6 | C21: Yolluk talebi ile ilgili dilekçe mevcut mu?
B22: 7 | C22: Ödeme Emri Belgesi'ndeki imzalar dönem başı bildirilen yetkili çizelgesine uygun mu?
B23: 7.1 | C23: Ödeme Emri Belgesi, yetki çizelgesinde belirtilmeyen personel tarafından imzalandı ise yetki devri yapılmış mı?
B24: 7.2 | C24: Yetki devri yapıldığına dair evrak eklendi mi? (Yıllık İzin Formu vb.)
B25: Kamu Ön Mali Kontrol Yönetmeliği'nin 6. maddesi gereğince hazırlanan bu kontrol listesinde yer alan bilgiler tarafımca kontrol edilmiş olup uygunluğu tasdik olunur. | J25: Gerçekleştirme Görevlisi Adı Soyadı Ünvanı İmza

Sheet EK-75
D2: Fiili Hizmet Süresi Zammı Bildirimi SGK Prim Ödemesine İlişkin Ön Mali Kontrol Listesi
M3: Ana Sayfa
B7: EK-75
B8: Bütçe Yılı:
B9: Harcama Birimi:
B10: İşin Adı:
B11: Sıra No | C11: Kontrol Edilecek Bilgi ve Belgeler | J11: Evet | K11: Hayır | L11: Açıklamalar
B12: 1 | C12: Usulüne uygun harcama yetkilisi onayı (Harcama Talimatı) alınmış mı?
B13: 2 | C13: Harcama Talimatında gerekli bilgiler (dayanak, miktar, açıklama vb.) tam ve doğru olarak yer alıyor mu?
B14: 3 | C14: Bütçe tertibi ile yapılacak harcamanın niteliği uyumlu mu?
B15: 4 | C15: Bütçede yeterli ödenek bulunuyor mu?
B16: 5 | C16: Ödeme Emri Belgesi mevzuatta yer alan ödeme süreleri içerisinde düzenlenmiş mi?
B17: 6 | C17: Tahakkuk Fişi ile Ödeme Emri Belgesinde yer alan tutarlar uyumlu mu?
B18: 7 | C18: Ödeme Emri Belgesinde hesap kodları ve bütçe tertibi doğru kullanılmış mı?
B19: 8 | C19: Ödemeye ilişkin ilgili mevzuatında sayılan bütün belgeler asıl veya aslına uygun olarak onaylanmış suretler mi?
B20: 9 | C20: Ödeme Emri Belgesi, yetki çizelgesinde belirtilmeyen personel tarafından imzalandı ise yetki devri yapılmış mı?
B21: 9.1 | C21: Yetki devri yapıldığına dair evrak eklendi mi? (Yıllık İzin Formu vb.)
B22: Kamu Ön Mali Kontrol Yönetmeliği'nin 6. maddesi gereğince hazırlanan bu kontrol listesinde yer alan bilgiler tarafımca kontrol edilmiş olup uygunluğu tasdik olunur. | J22: Gerçekleştirme Görevlisi Adı Soyadı Ünvanı İmza

Sheet EK-76
D2: 3308 Sayılı Mesleki Eğitim Kanununa Göre Aday, Çırak ve Çıraklar ile İşletmelerde Mesleki Eğitim Gören, Staj veya Tamamlayıcı Eğitime Devam Eden Öğrencilere Ödenecek Ücretlere Yönelik Devlet Katkısına İlişkin Ön Mali Kontrol Listesi
M3: Ana Sayfa
B7: EK-76
B8: Bütçe Yılı:
B9: Harcama Birimi:
B10: İşin Adı:
B11: Sıra No | C11: Kontrol Edilecek Bilgi ve Belgeler | J11: Evet | K11: Hayır | L11: Açıklamalar
B12: 1 | C12: YÖKSİS'e (Yükseköğretim Bilgi Sistemi) veri girişleri yapıldı mı ?
B13: 2 | C13: Strateji Geliştirme Daire Başkanlığına üst yazı ile veri girişleri bildirildi mi ? (Devlet Katkısı Talep Tablosu)
B14: 3 | C14: Ödeme Emri Belgesine, staj sözleşmesi eklendi mi ?
B15: 4 | C15: Ödeme Emri Belgesine, devamsızlık bilgi formu eklendi mi ?
B16: 5 | C16: Ödeme Emri Belgesine, işletmenin öğrenciye ödeme yaptığına ilişkin dekontu eklendi mi ?
B17: 6 | C17: Ödeme Emri Belgesine, ön mali konrtol listesi eklendi mi ?
B18: 7 | C18: Ödeme Emri Belgesi'ndeki imzalar dönem başı bildirilen yetkili çizelgesine uygun mu?
B19: 7.1 | C19: Ödeme Emri Belgesi, yetki çizelgesinde belirtilmeyen personel tarafından imzalandı ise yetki devri yapılmış mı?
B20: 7.2 | C20: Yetki devri yapıldığına dair evrak eklendi mi? (Yıllık İzin Formu vb.)
B21: Kamu Ön Mali Kontrol Yönetmeliği'nin 6. maddesi gereğince hazırlanan bu kontrol listesinde yer alan bilgiler tarafımca kontrol edilmiş olup uygunluğu tasdik olunur. | J21: Gerçekleştirme Görevlisi Adı Soyadı Ünvanı İmza

Sheet EK-77
D2: Fiili Hizmet Süresi Zammı Bildirimi SGK Prim Ödemesine İlişkin Ön Mali Kontrol Listesi
M3: Ana Sayfa
B7: EK-77
B8: Bütçe Yılı:
B9: Harcama Birimi:
B10: İşin Adı:
B11: Sıra No | C11: Kontrol Edilecek Bilgi ve Belgeler | J11: Evet | K11: Hayır | L11: Açıklamalar
B12: 1 | C12: Usulüne uygun harcama yetkilisi onayı (Harcama Talimatı) alınmış mı?
B13: 2 | C13: Harcama Talimatında gerekli bilgiler (dayanak, miktar, açıklama vb.) tam ve doğru olarak yer alıyor mu?
B14: 3 | C14: Bütçe tertibi ile yapılacak harcamanın niteliği uyumlu mu?
B15: 4 | C15: Bütçede yeterli ödenek bulunuyor mu?
B16: 5 | C16: Ödeme Emri Belgesi mevzuatta yer alan ödeme süreleri içerisinde düzenlenmiş mi?
B17: 6 | C17: Fiili Hizmet Zammı detay bilgileri icmali eklendi mi?
B18: 7 | C18: SGK Bildirgesi ile Ödeme Emri Belgesinde yer alan tutarlar uyumlu mu?
B19: 8 | C19: Ödeme Emri Belgesinde hesap kodları ve bütçe tertibi doğru kullanılmış mı?
B20: 9 | C20: Ödemeye ilişkin ilgili mevzuatında sayılan bütün belgeler asıl veya aslına uygun olarak onaylanmış suretler mi?
B21: 10 | C21: Ödeme Emri Belgesi, yetki çizelgesinde belirtilmeyen personel tarafından imzalandı ise yetki devri yapılmış mı?
B22: 10.1 | C22: Yetki devri yapıldığına dair evrak eklendi mi? (Yıllık İzin Formu vb.)
B23: Kamu Ön Mali Kontrol Yönetmeliği'nin 6. maddesi gereğince hazırlanan bu kontrol listesinde yer alan bilgiler tarafımca kontrol edilmiş olup uygunluğu tasdik olunur. | J23: Gerçekleştirme Görevlisi Adı Soyadı Ünvanı İmza

Sheet EK-78
D2: Geliştirme Güçlüğü Ödeneği, İdari Görev Ödeneği ve Geriye Dönük Aile ve Çocuk Yardımı vb. Diğer Ödemelere İlişkin Ön Mali Kontrol Listesi
M3: Ana Sayfa
B7: EK-78
B8: Bütçe Yılı:
B9: Harcama Birimi:
B10: İşin Adı:
B11: Sıra No | C11: Kontrol Edilecek Bilgi ve Belgeler | J11: Evet | K11: Hayır | L11: Açıklamalar
B12: 1 | C12: Ödeme Emri Belgesi'ndeki bütçe tertibi doğru seçilmiş mi?
B13: 2 | C13: Ödeme Emri Belgesi'ndeki kesinti kodları doğru seçilmiş mi?
B14: 3 | C14: Harcama Talimatı / Harcama Oluru eklendi mi?
B15: 4 | C15: Çeşitli Ödemeler Bordrosu eklendi mi?
B16: 5 | C16: İcmal eklendi mi?
B17: 6 | C17: Banka Listesi eklendi mi?
B18: 7 | C18: Görevlendirme Yazısı (varsa) eklendi mi?
B19: 8 | C19: Kişi Talep Dilekçesi (varsa) eklendi mi?
B20: 9 | C20: Vergi Matrah Bilgisi eklendi mi?
B21: 10 | C21: Aile Durum Bildirimi (varsa) eklendi mi?
B22: 11 | C22: Stratejik Plan-Performans Programı-Bütçe-Harcama İlişkilendirme Tablosu mevcut mu? (01.01.2027 tarihi itibarıyla eklenecektir.)
B23: 12 | C23: Ödeme Emri Belgesi'ndeki imzalar dönem başı bildirilen yetkili çizelgesine uygun mu?
... B25: 12.2 | C25: Yetki devri yapıldığına dair evrak eklendi mi? (Yıllık İzin Formu vb.)
B26: Kamu Ön Mali Kontrol Yönetmeliği'nin 6. maddesi gereğince hazırlanan bu kontrol listesinde yer alan bilgiler tarafımca kontrol edilmiş olup uygunluğu tasdik olunur. | J26: Gerçekleştirme Görevlisi Adı Soyadı Ünvanı İmza
