Workbook

Sheet HARCAMA BİRİMLERİ ÖMK LİSTELERİ
D2: HARCAMA BİRİMLERİ ÖN MALİ KONTROL LİSTESİ
B6: EK NO
B7: 1 | C7: =HYPERLINK("#'EK-1'!A1","Memur Maaş Ödemeleri Ön Mali Kontrol Listesi") -> Memur Maaş Ödemeleri Ön Mali Kontrol Listesi
B8: 2 | C8: =HYPERLINK("#'EK-2'!A1","Sözleşmeli Personel Maaş Ödemeleri Ön Mali Kontrol Listesi") -> Sözleşmeli Personel Maaş Ödemeleri Ön Mali Kontrol Listesi
B9: 3 | C9: =HYPERLINK("#'EK-3'!A1","Sürekli İşçi Maaş Ödemelerine İlişkin Ön Mali Kontrol Listesi") -> Sürekli İşçi Maaş Ödemelerine İlişkin Ön Mali Kontrol Listesi
B10: 4 | C10: =HYPERLINK("#'EK-4'!A1","Kadrolu ve Sözleşmeli Personel Fark Maaş Ödemelerine İlişkin Ön Mali Kontrol Listesi") -> Kadrolu ve Sözleşmeli Personel Fark Maaş Ödemelerine İlişkin Ön Mali Kontrol Listesi
B11: 5 | C11: =HYPERLINK("#'EK-5'!A1","Yabancı Uyruklu Personel Maaş Ödemelerine İlişkin Ön Mali Kontrol Listesi") -> Yabancı Uyruklu Personel Maaş Ödemelerine İlişkin Ön Mali Kontrol Listesi
B12: 6 | C12: =HYPERLINK("#'EK-6'!A1","İntörn Öğrenci Maaş Ödemelerine İlişkin Ön Mali Kontrol Listesi") -> İntörn Öğrenci Maaş Ödemelerine İlişkin Ön Mali Kontrol Listesi
B13: 7 | C13: =HYPERLINK("#'EK-7'!A1","Kısmi Zamanlı Öğrenci Ödemelerine İlişkin Ön Mali Kontrol Listesi") -> Kısmi Zamanlı Öğrenci Ödemelerine İlişkin Ön Mali Kontrol Listesi
B14: 8 | C14: =HYPERLINK("#'EK-8'!A1","İŞKUR Gençlik Programı Ödemelerine İlişkin Ön Mali Kontrol Listesi") -> İŞKUR Gençlik Programı Ödemelerine İlişkin Ön Mali Kontrol Listesi
B15: 9 | C15: =HYPERLINK("#'EK-9'!A1","Geriye Dönük Maaş Fark Ödemelerine İlişkin Ön Mali Kontrol Listesi") -> Geriye Dönük Maaş Fark Ödemelerine İlişkin Ön Mali Kontrol Listesi
B16: 10 | C16: =HYPERLINK("#'EK-10'!A1","Ek Karşılık Ödemelerine İlişkin Ön Mali Kontrol Listesi") -> Ek Karşılık Ödemelerine İlişkin Ön Mali Kontrol Listesi
B17: 11 | C17: =HYPERLINK("#'EK-11'!A1","Ölüm Yardımı Ödemelerine İlişkin Ön Mali Kontrol Listesi") -> Ölüm Yardımı Ödemelerine İlişkin Ön Mali Kontrol Listesi
B18: 12 | C18: =HYPERLINK("#'EK-12'!A1","Giyecek Yardımı Ödemelerine İlişkin Ön Mali Kontrol Listesi") -> Giyecek Yardımı Ödemelerine İlişkin Ön Mali Kontrol Listesi
B19: 13 | C19: =HYPERLINK("#'EK-13'!A1","Fazla Çalışma Ödemelerine İlişkin Ön Mali Kontrol Listesi") -> Fazla Çalışma Ödemelerine İlişkin Ön Mali Kontrol Listesi
B20: 14 | C20: =HYPERLINK("#'EK-14'!A1","Kıdem Tazminatı Ödemelerine İlişkin Ön Mali Kontrol Listesi") -> Kıdem Tazminatı Ödemelerine İlişkin Ön Mali Kontrol Listesi
B21: 15 | C21: =HYPERLINK("#'EK-15'!A1","Vekalet Ödemelerine İlişkin Ön Mali Kontrol Listesi") -> Vekalet Ödemelerine İlişkin Ön Mali Kontrol Listesi
B22: 16 | C22: =HYPERLINK("#'EK-16'!A1","Aylıklarla Birlikte Ödenmeyen Personel Ödemeleri Ön Mali Kontrol Listesi ") -> Aylıklarla Birlikte Ödenmeyen Personel Ödemeleri Ön Mali Kontrol Listesi
B23: 17 | C23: =HYPERLINK("#'EK-17'!A1","Ek Ders Ödemelerine İlişkin Ön Mali Kontrol Listesi") -> Ek Ders Ödemelerine İlişkin Ön Mali Kontrol Listesi
B24: 18 | C24: =HYPERLINK("#'EK-18'!A1","Final Sınav Ödemesi Ön Mali Kontrol Listesi") -> Final Sınav Ödemesi Ön Mali Kontrol Listesi
B25: 19 | C25: =HYPERLINK("#'EK-19'!A1","Ek Ders Unvan Farkı Ödemelerine İlişkin Ön Mali Kontrol Listesi ") -> Ek Ders Unvan Farkı Ödemelerine İlişkin Ön Mali Kontrol Listesi
B26: 20 | C26: =HYPERLINK("#'EK-20'!A1","Uzaktan Öğretim Ek Ders Ödemelerine İlişkin Ön Mali Kontrol Listesi") -> Uzaktan Öğretim Ek Ders Ödemelerine İlişkin Ön Mali Kontrol Listesi
B27: 21 | C27: =HYPERLINK("#'EK-21'!A1","İhale İle Yapılan Mal Alımlarının İlk Hakediş Ödemelerine İişkin Ön Mali Kontrol Listesi") -> İhale İle Yapılan Mal Alımlarının İlk Hakediş Ödemelerine İişkin Ön Mali Kontrol Listesi
B28: 22 | C28: =HYPERLINK("#'EK-22'!A1","İhale İle Yapılan Hizmet Alımlarının İlk Hakediş Ödemelerine İlişkin Ön Mali Kontrol Listesi") -> İhale İle Yapılan Hizmet Alımlarının İlk Hakediş Ödemelerine İlişkin Ön Mali Kontrol Listesi
B29: 23 | C29: =HYPERLINK("#'EK-23'!A1","İhale ile Yapılan Yapım İşlerinin İlk Hakediş Ödemelerine İlişkin Ön Mali Kontrol Listesi") -> İhale ile Yapılan Yapım İşlerinin İlk Hakediş Ödemelerine İlişkin Ön Mali Kontrol Listesi
B30: 24 | C30: =HYPERLINK("#'EK-24'!A1","İhale ile Yapılan Elektrik Ödemelerine İlişkin Ön Mali Kontrol Listesi") -> İhale ile Yapılan Elektrik Ödemelerine İlişkin Ön Mali Kontrol Listesi
B31: 25 | C31: =HYPERLINK("#'EK-25'!A1","Hizmet Alımı Hakediş Ödemelerine İlişkin Ön Mali Kontrol Listesi") -> Hizmet Alımı Hakediş Ödemelerine İlişkin Ön Mali Kontrol Listesi
B32: 26 | C32: =HYPERLINK("#'EK-26'!A1","Yapım İşleri Hakediş Ödemelerine İlişkin Ön Mali Kontrol Listesi") -> Yapım İşleri Hakediş Ödemelerine İlişkin Ön Mali Kontrol Listesi
B33: 27 | C33: =HYPERLINK("#'EK-27'!A1","4734 Sayılı Kanun 22/d Maddesi Geeğeince Yapılacak Yapım İşleri Ödemelerine İlişkin Ön Mali Kontrol Listesi") -> 4734 Sayılı Kanun 22/d Maddesi Geeğeince Yapılacak Yapım İşleri Ödemelerine İlişkin Ön Mali Kontrol Listesi
B34: 28 | C34: =HYPERLINK("#'EK-28'!A1","4734 Sayılı Kanun 22/d Kapsamında Yapılacak Hizmet Alımlarına İlişkin Ön Mali Kontrol Listesi") -> 4734 Sayılı Kanun 22/d Kapsamında Yapılacak Hizmet Alımlarına İlişkin Ön Mali Kontrol Listesi
B35: 29 | C35: =HYPERLINK("#'EK-29'!A1","4734 Sayılı Kanun 22/d Kapsamında Yapılacak Mal Alımlarına İlişkin Ön Mali Kontrol Listesi") -> 4734 Sayılı Kanun 22/d Kapsamında Yapılacak Mal Alımlarına İlişkin Ön Mali Kontrol Listesi
B36: 30 | C36: =HYPERLINK("#'EK-30'!A1","4734 Sayılı Kanun 22/a Maddesi Kapsamında Yapılacak Alımlara İlişkin Ön Mali Kontrol Listesi") -> 4734 Sayılı Kanun 22/a Maddesi Kapsamında Yapılacak Alımlara İlişkin Ön Mali Kontrol Listesi
B37: 31 | C37: =HYPERLINK("#'EK-31'!A1","4734 Sayılı Kanun 22/b Maddesi Kapsamında Yapılacak Alımlara İlişkin Ön Mali Kontrol Listesi") -> 4734 Sayılı Kanun 22/b Maddesi Kapsamında Yapılacak Alımlara İlişkin Ön Mali Kontrol Listesi
B38: 32 | C38: =HYPERLINK("#'EK-32'!A1","4734 Sayılı Kanun 22/c Maddesi Kapsamında Yapılacak Alımlara İlişkin Ön Mali Kontrol Listesi") -> 4734 Sayılı Kanun 22/c Maddesi Kapsamında Yapılacak Alımlara İlişkin Ön Mali Kontrol Listesi
B39: 33 | C39: =HYPERLINK("#'EK-33'!A1","4734 Sayılı Kanun 3.Madde Kapsamında DMO Üzerinden Yapılacak Akaryakıt Alımlarına İlişkin Ön Mali Kontrol Listesi") -> 4734 Sayılı Kanun 3.Madde Kapsamında DMO Üzerinden Yapılacak Akaryakıt Alımlarına İlişkin Ön Mali Kontrol Listesi
B40: 34 | C40: =HYPERLINK("#'EK-34'!A1","Yurt İçi Geçici Görev Yolluğu Ödemelerine İlişkin Ön Mali Kontrol Listesi") -> Yurt İçi Geçici Görev Yolluğu Ödemelerine İlişkin Ön Mali Kontrol Listesi
B41: 35 | C41: =HYPERLINK("#'EK-35'!A1","Yurt İçi Sürekli Görev Yolluğu Ödemelerine İlişkin Ön Mali Kontrol Listesi") -> Yurt İçi Sürekli Görev Yolluğu Ödemelerine İlişkin Ön Mali Kontrol Listesi
B42: 36 | C42: =HYPERLINK("#'EK-36'!A1","Yurt Dışı Geçici Görev Yolluğu Ödemelerine İlişkin Ön Mali Kontrol Listesi") -> Yurt Dışı Geçici Görev Yolluğu Ödemelerine İlişkin Ön Mali Kontrol Listesi
B43: 37 | C43: =HYPERLINK("#'EK-37'!A1","Emekli Yolluğu Ödemelerine İlişkin Ön Mali Kontrol Listesi") -> Emekli Yolluğu Ödemelerine İlişkin Ön Mali Kontrol Listesi
B44: 38 | C44: =HYPERLINK("#'EK-38'!A1","Telefon-Faks Aboneliği Ödemelerine İlişkin Ön Mali Kontrol Listesi") -> Telefon-Faks Aboneliği Ödemelerine İlişkin Ön Mali Kontrol Listesi
...

Sheet EK-68
D2: 4734 SAYILI KAMU İHALE KANUNUNUN 3 ÜNCÜ MADDESİNİN (E) BENDİNE GÖRE ALIMLAR ÖN MALİ KONTROL LİSTESİ | M2: Ana Sayfa
B7: EK-68
B8: Bütçe Yılı:
B9: Harcama Birimi:
B10: İşin Adı:
B11: Sıra No | C11: Kontrol Edilecek Bilgi ve Belgeler | J11: Evet | K11: Hayır | L11: Açıklamalar
B12: 1 | C12: Onay belgesi
B13: 2 | C13: Yaklaşık Maliyet Hesap Cetveli (Alımın yapım işi olması durumunda)
B14: 3 | C14: Düzenlenmesi gereken hallerde sözleşme, protokol veya mutat sözleşme
B15: 4 | C15: Yapım işi ve Hizmet alımlarında Hizmet işleri Hakediş Raporu
B16: 5 | C16: Dizi Pusulası
B17: 6 | C17: Ağırlık Oranları Temsil Katsayıları (gerektiğinde)
B18: 6.1 | C18: a) Metraj İcmali (gerektiğinde)
B19: 6.2 | C19: b) Fiyat Farkı Hesap Tablosu (gerektiğinde)
B20: 6.3 | C20: c) İhracat Tespit Tutanağı (gerektiğinde)
B21: 6.4 | C21: d) Yıllara Sari İş İse Yıllık Ödenek Dilimleri
B22: 6.5 | C22: e) Yapılan İşler Listesi
B23: 6.6 | C23: f) Hakediş Özeti
B24: 6.7 | C24: g) Hakediş İcmali
... B35: 12.2 | C35: Yetki devri yapıldığına dair evrak eklendi mi? (Yıllık İzin Formu vb.)
B36: Kamu Ön Mali Kontrol Yönetmeliği'nin 6. maddesi gereğince hazırlanan bu kontrol listesinde yer alan bilgiler tarafımca kontrol edilmiş olup uygunluğu tasdik olunur. | J36: Gerçekleştirme Görevlisi Adı Soyadı Ünvanı İmza

Sheet EK-67
D2: Erasmus %20/30'luk Ödemelere İlişkin Ön Mali Kontrol Listesi | M2: Ana Sayfa
B7: EK-67
B8: Bütçe Yılı:
B9: Harcama Birimi:
B10: İşin Adı:
B11: Sıra No | C11: Kontrol Edilecek Bilgi ve Belgeler | J11: Evet | K11: Hayır | L11: Açıklamalar
B12: 1 | C12: Hibe sözleşmesi mevcut mu ?
B13: 1.1 | C13: Hibe sözleşmesindeki imzalar tam mı?
B14: 2 | C14: Katılım Sertifikası(Sertifika türkçeye çevrilmiş mi?) mevcut mu?
B15: 2.1 | C15: Katılım Sertifikası'nda belirtilen bilgiler(tarih katılımcı adı vs) doğru mu?
B16: 3 | C16: Yurda giriş-çıkış belgesi mevcut mu ?
B17: 4 | C17: Döviz gönderme emri belgesi mevcut mu?
B18: 4.1 | C18: Döviz gönderme emri belgesi'ndeki veriler doğru mu?(İBAN, Banka şube adı vs.)
B19: 5 | C19: Ödeme Emri Belgesi'ndeki imzalar dönem başı bildirilen yetkili çizelgesine uygun mu?
B20: 6 | C20: Ödeme Emri Belgesi, yetki çizelgesinde belirtilmeyen personel tarafından imzalandı ise yetki devri yapılmış mı?
B21: 7 | C21: Yetki devri yapıldığına dair evrak eklendi mi? (Yıllık İzin Formu vb.)
B22: Kamu Ön Mali Kontrol Yönetmeliği'nin 6. maddesi gereğince hazırlanan bu kontrol listesinde yer alan bilgiler tarafımca kontrol edilmiş olup uygunluğu tasdik olunur. | J22: Gerçekleştirme Görevlisi Adı Soyadı Ünvanı İmza

Sheet EK-66
D2: Erasmus Vize ve Sigorta Hibe Desteğine İlişkin Ön Mali Kontrol Listesi | M2: Ana Sayfa
B7: EK-66
B8: Bütçe Yılı:
B9: Harcama Birimi:
B10: İşin Adı:
B11: Sıra No | C11: Kontrol Edilecek Bilgi ve Belgeler | J11: Evet | K11: Hayır | L11: Açıklamalar
B12: 1 | C12: Harcama Talimatı Onay Belgesi mevcut mu?
B13: 1.2 | C13: Harcama talimatının hukuki dayanağı ve gerekçesi mahiyetine (Erasmus El Kitabı) uygun mu?
B14: 1.3 | C14: Gerçekleştirme Usulü mahiyetine uygun mu?
B15: 1.4 | C15: Harcamanın türüne uygun mu?
B16: 2 | C16: Rektörlük oluru mevcut mu?
B17: 3 | C17: Sigorta Poliçesi mevcut mu?
B18: 4 | C18: Vize belgesi mevcut mu?
B19: 5 | C19: Hibe Sözleşmesi eklendi mi? (Yürütücü tarafından onaylanmış Türkçe çevirileri.)
B20: 6 | C20: Döviz gönderme belgesi mevcut mu?
B21: 7 | C21: İlgili tarihte yapılan harcamanın kur bilgisi mevcut mu?
B22: 8 | C22: Ödeme Emri Belgesi'ndeki imzalar dönem başı bildirilen yetkili çizelgesine uygun mu?
B23: 8.1 | C23: Ödeme Emri Belgesi, yetki çizelgesinde belirtilmeyen personel tarafından imzalandı ise yetki devri yapılmış mı?
B24: 8.2 | C24: Yetki devri yapıldığına dair evrak eklendi mi? (Yıllık İzin Formu vb.)
B25: Kamu Ön Mali Kontrol Yönetmeliği'nin 6. maddesi gereğince hazırlanan bu kontrol listesinde yer alan bilgiler tarafımca kontrol edilmiş olup uygunluğu tasdik olunur. | J25: Gerçekleştirme Görevlisi Adı Soyadı Ünvanı İmza

Sheet EK-65
D2: Erasmus Hibe İşlemlerine İlişkin Ön Mali Kontrol Listesi | M2: Ana Sayfa
B7: EK-65
B8: Bütçe Yılı:
B9: Harcama Birimi:
B10: İşin Adı:
B11: Sıra No | C11: Kontrol Edilecek Bilgi ve Belgeler | J11: Evet | K11: Hayır | L11: Açıklamalar
B12: 1 | C12: Döviz hesabının bulunduğu bankanın güncel kur bilgilerini gösterir belge eklenmiş mi?
B13: 1.1 | C13: Güncel kur ile ödeme yapılacak avro cinsinden miktarın çarpımı sonucu tutar doğru mu?
B14: 2 | C14: Ödeme yapılan kişi Akademik kadroda görevli mi?
B15: 3 | C15: Yönetim Kurulu Kararı alınmış mı?
B16: 4 | C16: Rektör Onaylı Görevlendirmesi (kadrolu ise) mevcut mu?
B17: 5 | C17: Hibe ödemesi yapılan personel/öğrenci yurt dışına mı gidiyor?
B18: 6 | C18: Erasmus El Kitabına göre süre ve hibe hesaplamaları başlıklı maddesi gereğince hibe ödemelerinde yurt dışına gidenler için %70/80 oranında ödeme yapılmış mı?
B19: 7 | C19: Yurt Dışına gidenler için Davet Mektubu mevcut mu?
B20: 7.1 | C20: Davet Mektubunun tercümesi yapılıp onaylanmış mı?
B21: 8 | C21: Hibe ödemesi yapılan personel/öğrenci yurt dışından dönüyor mu?
B22: 9 | C22: Erasmus El Kitabına göre süre ve hibe hesaplamaları başlıklı maddesi gereğince hibe ödemelerinde yurt dışından dönenler için %20/30 oranında ödeme yapılmış mı?
B23: 10 | C23: Yurt Dışından dönenler için Katılım sertifikası mevcut mu?
... B32: 16.3 | C32: Yetki devri yapıldığına dair evrak eklendi mi? (Yıllık İzin Formu vb.)
B33: Kamu Ön Mali Kontrol Yönetmeliği'nin 6. maddesi gereğince hazırlanan bu kontrol listesinde yer alan bilgiler tarafımca kontrol edilmiş olup uygunluğu tasdik olunur. | J33: Gerçekleştirme Görevlisi Adı Soyadı Ünvanı İmza

Sheet EK-64
D2: BAP/AB/TÜBİTAK/TÜSEB/ERASMUS Avans Kapama Ödemelerine İlişkin Ön Mali Kontrol Listesi | M2: Ana Sayfa
B7: EK-64
B8: Bütçe Yılı:
B9: Harcama Birimi:
B10: İşin Adı:
B11: Sıra No | C11: Kontrol Edilecek Bilgi ve Belgeler | J11: Evet | K11: Hayır | L11: Açıklamalar
B12: 1 | C12: Avans verilme evrakındaki Harcama Talimatı Onay Belgesi mevcut mu?
B13: 2 | C13: Mahsup /Kesin Hesap Formu mevcut mu ?
B14: 3 | C14: Mal/Hizmet Alımı mı?
B15: 3.1 | C15: Fatura mevcut mu?
B16: 3.2 | C16: Firma/Şahıs/Kurum tarafından kesilen fatura, faturada bulunması gereken şekil şartlarını taşıyor mu?
B17: 3.3 | C17: Faturada yer alan malzemelerin adedi ile birim fiyatlarının çarpımı doğru mu?
B18: 3.4 | C18: e-Arşiv Fatura ise ilgisi tarafından kaşe imza yapılmış mı?
B19: 3.5 | C19: e-Arşiv Fatura ise sorgulamayı yapan kişi tarafından kontrol edilerek kaşe imza yapılmış mı?
B20: 3.6 | C20: Hizmet alımlarına ait faturalarda KDV üzerinden kesilen tevkifat oranı ve tutarı doğru mu?
B21: 3.7 | C21: Muayene Kabul Komisyon Tutanağı mevcut mu?
B22: 3.8 | C22: Muayene Kabul Komisyon Tutanağı Üzerinde yer alan fatura tarihi, numarası, firma adı, onay tarihi ve numarası tutanakta yer alıyor mu?
B23: 3.9 | C23: Piyasa Fiyat Araştırma Tutanağı eklenmiş mi ?
B24: 3.10 | C24: KİK yasaklılık sorgusu yapılarak Teyit Belgesi eklendi mi?
... B37: 10 | C37: Stratejik Plan-Performans Programı-Bütçe-Harcama İlişkilendirme Tablosu mevcut mu? (01.01.2027 tarihi itibarıyla eklenecektir.)
B38: 11 | C38: Ödeme Emri Belgesi'ndeki imzalar bildirilen yetkili çizelgesine uygun mu?
B39: 11.1 | C39: Ödeme Emri Belgesi, yetki çizelgesinde belirtilmeyen personel tarafından imzalandı ise yetki devri yapılmış mı?
B40: 11.2 | C40: Yetki devri yapıldığına dair evrak eklendi mi? (Yıllık İzin Formu vb.)
B41: Kamu Ön Mali Kontrol Yönetmeliği'nin 6. maddesi gereğince hazırlanan bu kontrol listesinde yer alan bilgiler tarafımca kontrol edilmiş olup uygunluğu tasdik olunur. | J41: Gerçekleştirme Görevlisi Adı Soyadı Ünvanı İmza

Sheet EK-63
D2: BAP/AB/TÜBİTAK/TÜSEB/ERASMUS Avans İşlemlerine İlişkin Ön Mali Kontrol Listesi | M2: Ana Sayfa
B7: EK-63
B8: Bütçe Yılı:
B9: Harcama Birimi:
B10: İşin Adı:
B11: Sıra No | C11: Kontrol Edilecek Bilgi ve Belgeler | J11: Evet | K11: Hayır | L11: Açıklamalar
B12: 1 | C12: Harcama Talimatı Onay Belgesi mevcut mu?
B13: 1.1 | C13: Harcama Talimatının hukuki dayanağı ve gerekçesi mahiyetine uygun mu?
B14: 1.2 | C14: Gerçekleştirme usulü mahiyetine uygun mu?
B15: 1.3 | C15: Seçilen Bütçe Tertibi harcamanın türüne uygun mu?
B16: 1.4 | C16: Kullanılabilir Ödenek tutarı yeterli mi?
B17: 2 | C17: Bap birimine talep yazısı yazılmış mı?
B18: 3 | C18: Ön ödeme Talep Formu var mı ?
B19: 4 | C19: Yolluk avansı ise Rektörlük onayı var mı?
B20: 5 | C20: Yolluk avansı ise Birim Yönetim Kurulu Kararı var mı?
B21: 6 | C21: Yolluk avansı ise Kurum Dışı Personel için Görevlendirme Formu var mı?
B22: 7 | C22: Proje sözleşmesi eklenmiş mi?
B23: 8 | C23: Avans tutarı avans çekme limitini aşıyor mu?
B24: 9 | C24: Stratejik Plan-Performans Programı-Bütçe-Harcama İlişkilendirme Tablosu mevcut mu? (01.01.2027 tarihi itibarıyla eklenecektir.)
... B27: 10.2 | C27: Yetki devri yapıldığına dair evrak eklendi mi? (Yıllık İzin Formu vb.)
B28: Kamu Ön Mali Kontrol Yönetmeliği'nin 6. maddesi gereğince hazırlanan bu kontrol listesinde yer alan bilgiler tarafımca kontrol edilmiş olup uygunluğu tasdik olunur. | J28: Gerçekleştirme Görevlisi Adı Soyadı Ünvanı İmza

Sheet EK-62
D2: BAP/AB/TÜBİTAK/TÜSEB Doğrudan Temin (22-a-b-c) Ön Mali Kontrol Listesi (4734 sayılı Kamu İhale Kanunu'nun 3/f maddesi) | M2: Ana Sayfa
B7: EK-62
B8: Bütçe Yılı:
B9: Harcama Birimi:
B10: İşin Adı:
B11: Sıra No | C11: Kontrol Edilecek Bilgi ve Belgeler | J11: Evet | K11: Hayır | L11: Açıklamalar
B12: 1 | C12: Ödenek kontrolü yapıldı mı? Alım proje sözleşmesi hükümlerine uygun mu?
B13: 2 | C13: Parasal limitlere uyulmuş mu?
B14: 3 | C14: Yaklaşık Maliyet Tablosu oluşturulmuş mu? (Zorunlu değil.)
B15: 3.1 | C15: Yaklaşık Maliyet hesaplanırken KDV hariç mi hesaplanmış?
B16: 3.2 | C16: Yaklaşık Maliyet İcmal Tablosu mevcut mu?
B17: 3.3 | C17: Yaklaşık Maliyet hesaplanırken dayanakları mevcut mu?
B18: 4 | C18: Harcama Talimatı Onay Belgesi mevcut mu?
B19: 4.1 | C19: Harcama talimatının hukuki dayanağı ve gerekçesi mahiyetine uygun mu?
B20: 4.2 | C20: Gerçekleştirme Usulü mahiyetine uygun mu?
B21: 4.3 | C21: Seçilen Bütçe Tertibi harcamanın türüne uygun mu?
B22: 4.4 | C22: Doğrudan Temin Tek Kaynak Formu mevcut mu?
B23: ='EK-27'!B26 -> 5 | C23: İlgili formda Yaklaşık Maliyet kısmında tutar belirtilmişse icmal eklenmiş mi?
B24: ='EK-27'!B27 -> 5.1 | C24: İlgili formda Malın/Hizmetin yada yaptırılacak işin teslimat tarihi belirtilmişse Muayene Kabul Komisyon Tarihi ile aynı mı?
B25: ='EK-27'!B28 -> 5.2 | C25: İlgili formda Doğrudan Teminin türünü belirtilen (22-a-b-c) kutucuk işaretlenmiş mi ?
B26: ='EK-27'!B29 -> 5.3 | C26: İlgili formda açıklamalar kısmında alımın neden tek kaynaktan alındığına dair açıklama yapılmış mı?Dayanağı belgeler koyuldu mu?
B27: 6 | C27: Piyasa Fiyat Araştırma Tutanağı eklenmiş mi?(zorunlu değil)
B28: ='EK-27'!B38 -> 8 | C28: Mal veya Hizmet alımına ait sözleşme yapıldı mı?
B29: ='EK-27'!B39 -> 8.1 | C29: Sözleşme üzerinde yer alan bilgiler eksiksiz doldurulmuş mu ?
B30: ='EK-27'!B40 -> 8.2 | C30: Sözleşmenin her sayfası taraflar tarafından paraf, kaşe ve imza yapılmış mı?
B31: ='EK-27'!B41 -> 8.3 | C31: Sözleşmeye Ait Damga Vergisinin yatırıldığına dair Vergi Dairesi Alındısı mevcut mu?
B32: 9 | C32: Muayene Kabul Komisyon Tutanağı Tutanağı mevcut mu?
B33: 9.1 | C33: Muayene Kabul Komisyon Tutanağı üzerinde yer alan fatura tarihi, numarası, firma adı, onay tarihi,numarası ve imzalar tam mı?
B34: 10 | C34: Hizmet alımı ise Hak ediş raporu eklendi mi?
B35: 11 | C35: Fatura mevcut mu?
B36: 11.1 | C36: Firma/Şahıs/Kurum tarafından kesilen fatura, faturada bulunması gereken şekil şartlarını taşıyor mu?
B37: 11.2 | C37: Faturanın muhatabı doğru mu?
B38: 11.3 | C38: Faturada yer alan malzemelerin adedi ile birim fiyatlarının çarpımı doğru mu?
B39: 11.4 | C39: e-Arşiv Faturailgisi tarafından kaşe ve yapılmış mı?
B40: 11.5 | C40: Faturanın notlar kısmına IBAN bilgileri yazılmış mı? IBAN bilgileri yoksa IBAN dilekçesi alındı mı?
B41: 11.6 | C41: e-Arşiv Fatura ise sorgulamayı yapan kişi tarafından kontrol edilerek kaşe ve imza yapılmış mı?
B42: 11.7 | C42: Hizmet alımlarında Fatura üzerinde yer alan hesaplanan KDV üzerinden tevkifat kesildi mi? Tevkifat oranı doğru mu?
B43: 12 | C43: Mal alımlarında;
... B60: 18.2 | C60: Yetki devri yapıldığına dair evrak eklendi mi? (Yıllık İzin Formu vb.)
B61: Kamu Ön Mali Kontrol Yönetmeliği'nin 6. maddesi gereğince hazırlanan bu kontrol listesinde yer alan bilgiler tarafımca kontrol edilmiş olup uygunluğu tasdik olunur. | J61: Gerçekleştirme Görevlisi Adı Soyadı Ünvanı İmza

Sheet EK-61
D2: BAP/AB/TÜBİTAK/TÜSEB Doğrudan Temin Alımlarına İlişkin (4734 sayılı Kamu İhale Kanunu'nun 3/f maddesi) Ön Mali Kontrol Listesi | M2: Ana Sayfa
B7: EK-61
B8: Bütçe Yılı:
B9: Harcama Birimi:
B10: İşin Adı:
B11: Sıra No | C11: Kontrol Edilecek Bilgi ve Belgeler | J11: Evet | K11: Hayır | L11: Açıklamalar
B12: 1 | C12: Ödenek kontrolü yapıldı mı? Alım proje sözleşmesi hükümlerine uygun mu?
B13: 1.1 | C13: Parasal limitlere uyulmuş mu?
B14: 2 | C14: Onay Belgesi var mı?
B15: 3 | C15: Mal/ hizmet istek (ihtiyaç) belgesi var mı?
B16: 4 | C16: Teknik şartname (varsa) var mı?
B17: 5 | C17: Proforma/teklif formları var mı?
B18: 6 | C18: Piyasa fiyat araştırma tutanağı var mı?
B19: 6.1 | C19: Onay belgesinde yer alan görevlilerin imzası var mı?
B20: 6.2 | C20: Onay tarihi ve sayısı doğru girilmiş mi?
B21: 6.3 | C21: Piyasa araştırma tutanağında fiyatlar KDV hariç girilmiş mi?
B22: 6.4 | C22: Piyasa Fiyat Araştırma Tutanağının tarihi, Harcama Talimatı/Onay Belgesi tarihi ile aynı veya sonra mı?
B23: 6.5 | C23: Piyasa Fiyat Araştırma Tutanağının tarihi, teklif tarihinden sonra mı?
... B74: 19 | C74: Varsa ilgili mevzuat/proje sözleşmesi gereği eklenmesi gereken diğer ekler eklenmiş mi?
B75: Kamu Ön Mali Kontrol Yönetmeliği'nin 6. maddesi gereğince hazırlanan bu kontrol listesinde yer alan bilgiler tarafımca kontrol edilmiş olup uygunluğu tasdik olunur. | J75: Gerçekleştirme Görevlisi Adı Soyadı Ünvanı İmza

Sheet EK-60
D2: AB Projeleri Ortaklara Pay Aktarımı Ödemelere İlişkin Ön Mali Kontrol Listesi | M2: Ana Sayfa
B7: EK-60
B8: Bütçe Yılı:
B9: Harcama Birimi:
B10: İşin Adı:
B11: Sıra No | C11: Kontrol Edilecek Bilgi ve Belgeler | J11: Evet | K11: Hayır | L11: Açıklamalar
B12: 1 | C12: Harcama Talimatı mevcut mu?
B13: 2 | C13: Pay aktarım bilgileri tablosu mevcut mu?
B14: 3 | C14: Proje ortağının proje iş paketlerinde yer alan sorumluluğunu yerine getirdiğine ilişkin kanıtlayıcı belgeler mevcut mu?
B15: 4 | C15: Proje sözleşmesi eklendi mi? (Yürütücü tarafından onaylanmış Türkçe çevirileri.)
B16: 4.1 | C16: İç Ortaklık sözleşmesi eklendi mi? (Yürütücü tarafından onaylanmış Türkçe çevirileri.)
B17: 5 | C17: Stratejik Plan-Performans Programı-Bütçe-Harcama İlişkilendirme Tablosu mevcut mu? (01.01.2027 tarihi itibarıyla eklenecektir.)
B18: 6 | C18: Ödeme Emri Belgesi'ndeki imzalar bildirilen yetkili çizelgesine uygun mu?
B19: 6.1 | C19: Ödeme Emri Belgesi, yetki çizelgesinde belirtilmeyen personel tarafından imzalandı ise yetki devri yapılmış mı?
B20: 6.2 | C20: Yetki devri yapıldığına dair evrak eklendi mi? (Yıllık İzin Formu vb.)
B21: Kamu Ön Mali Kontrol Yönetmeliği'nin 6. maddesi gereğince hazırlanan bu kontrol listesinde yer alan bilgiler tarafımca kontrol edilmiş olup uygunluğu tasdik olunur. | J21: Gerçekleştirme Görevlisi Adı Soyadı Ünvanı İmza

Sheet EK-59
D2: AB Projeleri Kapsamında Çalışanlara Yapılacak Ödemelere İlişkin Ön Mali Kontrol Listesi | M2: Ana Sayfa
B7: EK-59
B8: Bütçe Yılı:
B9: Harcama Birimi:
B10: İşin Adı:
B11: Sıra No | C11: Kontrol Edilecek Bilgi ve Belgeler | J11: Evet | K11: Hayır | L11: Açıklamalar
B12: 1 | C12: Harcama Talimatı mevcut mu?
B13: 2 | C13: Zaman Çizelgesi eklendi mi?
B14: 2.1 | C14: Zaman çizelgelerinde belirtilen faaliyetlere ilişkin kanıtlar raporlanmış mı?
B15: 3 | C15: Proje çalışanı görevlendirme yazısı mevcut mu?
B16: 4 | C16: Ödeme alan personel maaş bordrosu eklendi mi?
B17: 4.1 | C17: Gelir vergisi ve damga vergisi kesintileri doğru hesaplanmış mı?
B18: 5 | C18: Proje sözleşmesi eklendi mi? (Yürütücü tarafından onaylanmış Türkçe çevirileri.)
B19: 6 | C19: Stratejik Plan-Performans Programı-Bütçe-Harcama İlişkilendirme Tablosu mevcut mu? (01.01.2027 tarihi itibarıyla eklenecektir.)
B20: 7 | C20: Ödeme Emri Belgesi'ndeki imzalar bildirilen yetkili çizelgesine uygun mu?
B21: 7.1 | C21: Ödeme Emri Belgesi, yetki çizelgesinde belirtilmeyen personel tarafından imzalandı ise yetki devri yapılmış mı?
B22: 7.2 | C22: Yetki devri yapıldığına dair evrak eklendi mi? (Yıllık İzin Formu vb.)
B23: Kamu Ön Mali Kontrol Yönetmeliği'nin 6. maddesi gereğince hazırlanan bu kontrol listesinde yer alan bilgiler tarafımca kontrol edilmiş olup uygunluğu tasdik olunur. | J23: Gerçekleştirme Görevlisi Adı Soyadı Ünvanı İmza

Sheet EK-58
D2: TÜBİTAK/TÜSEB PTİ Ödeme İşlemlerine İlişkin Ön Mali Kontrol Listesi | M2: Ana Sayfa
B7: EK-58
B8: Bütçe Yılı:
B9: Harcama Birimi:
B10: İşin Adı:
B11: Sıra No | C11: Kontrol Edilecek Bilgi ve Belgeler | J11: Evet | K11: Hayır | L11: Açıklamalar
B12: 1 | C12: Çeşitli Ödemeler Bordrosu eklendi mi?
B13: 2 | C13: TÜBİTAK/TÜSEB onay yazısı eklendi mi?
B14: 3 | C14: Proje Teşvik İkramiyesi Ödeme Tablosu eklendi mi?
B15: 4 | C15: Ödeme alan peronele ait (Sadece kurum içi personel için teslim edilecektir.) ilgili ay maaş bordrosu eklendi mi?
B16: 5 | C16: Kimlik fotokopisi eklendi mi?
B17: 6 | C17: Stratejik Plan-Performans Programı-Bütçe-Harcama İlişkilendirme Tablosu mevcut mu? (01.01.2027 tarihi itibarıyla eklenecektir.)
B18: 7 | C18: Ödeme Emri Belgesi'ndeki imzalar dönem başı bildirilen yetkili çizelgesine uygun mu?
B19: 7.1 | C19: Ödeme Emri Belgesi, yetki çizelgesinde belirtilmeyen personel tarafından imzalandı ise yetki devri yapılmış mı?
B20: 7.2 | C20: Yetki devri yapıldığına dair evrak eklendi mi? (Yıllık İzin Formu vb.)
B21: Kamu Ön Mali Kontrol Yönetmeliği'nin 6. maddesi gereğince hazırlanan bu kontrol listesinde yer alan bilgiler tarafımca kontrol edilmiş olup uygunluğu tasdik olunur. | J21: Gerçekleştirme Görevlisi Adı Soyadı Ünvanı İmza

Sheet EK-57
D2: BAP/TÜBİTAK/TÜSEB Burs Ödemesi Ön Mali Kontrol Listesi | M2: Ana Sayfa
B7: EK-57
B8: Bütçe Yılı:
B9: Harcama Birimi:
B10: İşin Adı:
B11: Sıra No | C11: Kontrol Edilecek Bilgi ve Belgeler | J11: Evet | K11: Hayır | L11: Açıklamalar
B12: 1 | C12: Ödenek kontrolü yapıldı mı?
B13: 2 | C13: Ödeme yapılacak öğrenciye ait Bursiyer Bilgi Formu eklendi mi? (Belgenin, ilgili ayın 25’inden sonra düzenlenmiş olması gerekmektedir.)
B14: 3 | C14: Bursiyer Bilgi Formu üzerindeki imzalar eksiksiz olarak tamamlandı mı?
B15: 3.1 | C15: Bursiyer Bilgi Formunda öğrencinin adı ve soyadı, T.C. kimlik numarası ve ödenecek burs tutarına ilişkin bilgiler yer almakta mıdır? Bu bilgiler yetkili tarafından kontrol edidil mi?
B16: 4 | C16: Öğrenci belgesi eklendi mi? (Belgenin, ilgili ayın 25’inden sonra düzenlenmiş olması gerekmektedir.)
B17: 4.1 | C17: Öğrenci belgesinde öğrencinin aktif öğrenci statüsünde olduğu görülmekte midir?
B18: 5 | C18: Öğrenciye ait T.C. kimlik kartı fotokopisi mevcut mudur?
B19: 6 | C19: Ödeme Emri Belgesi’nde yer alan IBAN bilgileri ile Bursiyer Bilgi Formunda yer alan IBAN bilgileri birbiriyle uyumlu mu?
B20: 7 | C20: Ödeme yapılacak IBAN bilgileri ilgili öğrenciye ait mi?
B21: 8 | C21: Sağlık Provizyon ve Aktivasyon Sistemi (SPAS) Müstehaklık Belgesi mevcut mu ?
B22: 9 | C22: Sigortalı hizmet listesi eklendi mi? (SGK Tahakkuk ödemesi yasal süresi içerisinde BAP birimi tarafından ilgili mevzuat hükümleri çerçevesinde ayrıca ödeme emri düzenlenerek yapılmalıdır.)
B23: 10 | C23: Ödeneğin bütçe tertibi olarak “Yurt İçi Burslar ve Harçlıklar” kodu seçilmiş midir?
B24: 11 | C24: Stratejik Plan-Performans Programı-Bütçe-Harcama İlişkilendirme Tablosu mevcut mu? (01.01.2027 tarihi itibarıyla eklenecektir.)
B25: 12 | C25: Ödeme Emri Belgesi üzerinde harcamaya ilişkin açıklamalara (proje numarası, hesap numarası vb.) yer verildi mi?
B26: 13 | C26: Ödeme Emri Belgesi üzerinde yer alan tutar ile Bursiyer Bilgi Formunda belirtilen tutar birbiriyle uyumlu mu?
B27: 14 | C27: Ödeme Emri Belgesi üzerindeki imzalar bildirilen yetki çizelgesine uygun mu?
B28: 14.1 | C28: Ödeme Emri Belgesi, yetki çizelgesinde yer almayan personel tarafından imzalanmış ise gerekli yetki devri yapılmış mı?
B29: Kamu Ön Mali Kontrol Yönetmeliği'nin 6. maddesi gereğince hazırlanan bu kontrol listesinde yer alan bilgiler tarafımca kontrol edilmiş olup uygunluğu tasdik olunur. | J29: Gerçekleştirme Görevlisi Adı Soyadı Ünvanı İmza

Sheet EK-56
D2: Yolluk Avansı Kapatma Ödemelerine İlişkin Ön Mali Kontrol Listesi | M2: Ana Sayfa
B7: EK-56
B8: Bütçe Yılı:
B9: Harcama Birimi:
B10: İşin Adı:
B11: Sıra No | C11: Kontrol Edilecek Bilgi ve Belgeler | J11: Evet | K11: Hayır | L11: Açıklamalar
B12: 1 | C12: Avans verilme evrakındaki Harcama Talimatı Onay Belgesi mevcut mu?
B13: 2 | C13: Avansın ne kadar çekildiğini gösteren Ödeme Emri Belgesi mevcut mu?
B14: 3 | C14: Fatura/Tahsilat makbuzu mevcut mu?
B15: 3.1 | C15: Firma/Şahıs/Kurum tarafından kesilen fatura, faturada bulunması gereken şekil şartlarını taşıyor mu?
B16: 3.2 | C16: Faturada yer alan malzemelerin adedi ile birim fiyatlarının çarpımı doğru mu?
B17: 3.3 | C17: e-Arşiv Fatura ise ilgisi tarafından kaşe imza yapılmış mı?
B18: 3.4 | C18: e-Arşiv Fatura ise sorgulamayı yapan kişi tarafından kontrol edilerek kaşe imza yapılmış mı?
B19: 3.5 | C19: Tahsilat makbuzu sorumlu kişilerce kontrol edilerek kaşe ve imza yapıldı mı?
B20: 4 | C20: Çekilen avans süresi içerisinde mahsup edildi mi?
B21: 4.1 | C21: Mutemet, işin tamamlanmasından sonra, mahsup süresinin bitimini mı? Harcama tarihini takip eden üç iş günü içinde ön ödeme artığını iade edip ve süresinde mahsubunu yaparak hesabını kapattı mı?
B22: 4.2 | C22: İlgili mutemet her halükârda harcadığı tutara ilişkin kanıtlayıcı belgeleri bir ay içerisinde ön ödeme artığını varsa iade edip ve süresinde mahsubunu yaparak hesabını kapattı mı?
B23: 4.3 | C23: Ön Ödeme süresi içeresinde kapatılmamışsa gecikme faizi hesaplanıp tutara ait dekont eklenmiş mi?
B24: 5 | C24: Yolluk Bildirimi mevcut mu?
B25: 5.1 | C25: Yolluk Bildirim Formunda Bütçe Yılı doğru seçilmiş mi?
B26: 5.2 | C26: Yolluk Bildirim Formunda yer alan gündelik tutarı ilgili mali yıl Bütçe Kanununda belirlenen Ek Gösterge gündelik tutarı ile uyumlu mu?
... B42: 7.1 | C42: Damga Vergisi doğru hesaplanmış mı?
B43: 8 | C43: Ödeme Emri Belgesi'ndeki imzalar dönem başı bildirilen yetkili çizelgesine uygun mu?
B44: 8.1 | C44: Ödeme Emri Belgesi, yetki çizelgesinde belirtilmeyen personel tarafından imzalandı ise yetki devri yapılmış mı?
B45: 8.2 | C45: Yetki devri yapıldığına dair evrak eklendi mi? (Yıllık İzin Formu vb.)
B46: Kamu Ön Mali Kontrol Yönetmeliği'nin 6. maddesi gereğince hazırlanan bu kontrol listesinde yer alan bilgiler tarafımca kontrol edilmiş olup uygunluğu tasdik olunur. | J46: Gerçekleştirme Görevlisi Adı Soyadı Ünvanı İmza

Sheet EK-55
D2: Yolluk Avansı Ön Ödemelere İlişkin Ön Mali Kontrol Listesi | M2: Ana Sayfa
B8: Bütçe Yılı:
B9: Harcama Birimi:
B10: İşin Adı:
B11: Sıra No | C11: Kontrol Edilecek Bilgi ve Belgeler | J11: Evet | K11: Hayır | L11: Açıklamalar
B12: 1 | C12: Harcama Talimatı Onay Belgesi mevcut mu?
B13: 1.1 | C13: Harcama talimatının hukuki dayanağı ve gerekçesi mahiyetine uygun mu?
B14: 1.2 | C14: Gerçekleştirme Usulü mahiyetine uygun mu?
B15: 1.3 | C15: Seçilen Bütçe Tertibi harcamanın türüne uygun mu?
B16: 1.4 | C16: Yolluk bildirimi H cetveline uygun düzenlenmiş mi?
B17: 2 | C17: Yolluk avansında, akademik görevlendirmeler için Yönetim Kurulu Kararı mevcut mu?
B18: 2.1 | C18: Akademik personel için Rektör Onayı İdari personel için birim amiri onayı mevcut mu?
B19: 2.2 | C19: Sağlık Kültür ve Spor Daire Başkanlığı tarafından yapılan takım görevlendirmelerdinde Öğrenci Topluluk Kararı mevcut mu?
B20: 2.2.1 | C20: Takım listesinde yer alan kişilere ait Rektörlük Makamından onaylı görevlendirmelerde mevcut mu?
B21: 2.2.2 | C21: Mutemet olarak belirlenen kişiye ait, bilgileri içeren Mutemet Dilekçeleri mevcut mu?
B22: 3 | C22: Ödeme Emri Belgesi üzerinden yolluk harcaması ise Harcırahlara Ait Damga Vergisi doğru olarak kesilmiş mi?
B23: 3.1 | C23: Ödeme Emri Belgesi Üzerinden mal alımı yapılmışsa Diğer Ödemelere Ait Damga Vergisi doğru olarak kesilmiş mi?
B24: 3.2 | C24: Damga Vergisi Detay Kodu doğru seçilmiş mi?
... B28: 7 | C28: Stratejik Plan-Performans Programı-Bütçe-Harcama İlişkilendirme Tablosu mevcut mu? (01.01.2027 tarihi itibarıyla eklenecektir.)
B29: 8 | C29: Ödeme Emri Belgesi'ndeki imzalar dönem başı bildirilen yetkili çizelgesine uygun mu?
B30: 8.1 | C30: Ödeme Emri Belgesi, yetki çizelgesinde belirtilmeyen personel tarafından imzalandı ise yetki devri yapılmış mı?
B31: 8.2 | C31: Yetki devri yapıldığına dair evrak eklendi mi? (Yıllık İzin Formu vb.)
B32: Kamu Ön Mali Kontrol Yönetmeliği'nin 6. maddesi gereğince hazırlanan bu kontrol listesinde yer alan bilgiler tarafımca kontrol edilmiş olup uygunluğu tasdik olunur. | J32: Gerçekleştirme Görevlisi Adı Soyadı Ünvanı İmza

Sheet EK-54
D2: İş Avans ve Kredi Kapatma Ödemelerine İlişkin Ön Mali Kontrol Listesi | M2: Ana Sayfa
B7: EK-54
B8: Bütçe Yılı:
B9: Harcama Birimi:
B10: İşin Adı:
B11: Sıra No | C11: Kontrol Edilecek Bilgi ve Belgeler | J11: Evet | K11: Hayır | L11: Açıklamalar
B12: 1 | C12: Avans ve Kredi verilme evrakındaki Harcama Talimatı Onay Belgesi mevcut mu?
B13: 2 | C13: Avansın ve Kredinin ne kadar çekildiğini gösteren Ödeme Emri Belgesi mevcut mu?
B14: 3 | C14: Fatura/Tahsilat Makbuzu mevcut mu?
B15: 3.1 | C15: Firma/Şahıs/Kurum tarafından kesilen fatura, faturada bulunması gereken şekil şartlarını taşıyor mu?
B16: 3.2 | C16: Faturada yer alan malzemelerin adedi ile birim fiyatlarının çarpımı doğru mu?
B17: 3.3 | C17: e-Arşiv Fatura ise ilgisi tarafından kaşe imza yapılmış mı?
B18: 3.4 | C18: e-Arşiv Fatura ise sorgulamayı yapan kişi tarafından kontrol edilerek kaşe imza yapılmış mı?
B19: 3.5 | C19: Hizmet alımlarına ait faturalarda KDV üzerinden kesilen tevkifat oranı ve tutarı doğru mu?
B20: 3.6 | C20: Tahsilat makbuzu sorumlu kişilerce kontrol edilerek kaşe imza yapıldı mı?
B21: 4 | C21: Muayene Kabul Komisyon Tutanağı mevcut mu?
B22: 4.1 | C22: Muayene Kabul Komisyon Tutanağı üzerinde yer alan fatura tarihi, numarası, firma adı, onay tarihi ve numarası tutanakta yer alıyor mu?
B23: 4.2 | C23: Alınan Mal-Malzemelerin birim adedi ve fiyat bilgileri fatura ile uyuşuyor mu?
B24: 4.3 | C24: Teslim edilen mal, yapılan iş veya sunulan hizmet Muayene Kabul Komisyonu Görevlileri tarafından kontrol edilerek mi teslim alındı?
B25: 4.4 | C25: Yapılan iş hizmet işi ise hizmet alımları Muayene Kabul Komisyon Tutanağı ilgili firma tarafından kaşelenip imzalanmış mı?
B26: 5 | C26: Mal alımlarında;
... B40: 10.1 | C40: Damga vergisi kesintisi doğru hesaplamış mı?
B41: 11 | C41: Ödeme Emri Belgesi'ndeki imzalar dönem başı bildirilen yetkili çizelgesine uygun mu?
B42: 11.1 | C42: Ödeme Emri Belgesi, yetki çizelgesinde belirtilmeyen personel tarafından imzalandı ise yetki devri yapılmış mı?
B43: 11.2 | C43: Yetki devri yapıldığına dair evrak eklendi mi? (Yıllık İzin Formu vb.)
B44: Kamu Ön Mali Kontrol Yönetmeliği'nin 6. maddesi gereğince hazırlanan bu kontrol listesinde yer alan bilgiler tarafımca kontrol edilmiş olup uygunluğu tasdik olunur. | J44: Gerçekleştirme Görevlisi Adı Soyadı Ünvanı İmza

Sheet EK-53
D2: İş Avansı ve Kredi Ön Ödemesine İlişkin Ön Mali Kontrol Listesi | M2: Ana Sayfa
B7: EK-53
B8: Bütçe Yılı:
B9: Harcama Birimi:
B10: İşin Adı:
B11: Sıra No | C11: Kontrol Edilecek Bilgi ve Belgeler | J11: Evet | K11: Hayır | L11: Açıklamalar
B12: 1 | C12: Harcama Talimatı Onay Belgesi mevcut mu?
B13: 1.1 | C13: Harcama talimatının hukuki dayanağı ve gerekçesi mahiyetine uygun mu?
B14: 1.2 | C14: Gerçekleştirme Usulü mahiyetine uygun mu?
B15: 1.3 | C15: Seçilen Bütçe Tertibi harcamanın türüne uygun mu?
B16: 2 | C16: Harcama Yetkilisi mutemet onayı alındı mı?
B17: 3 | C17: Ön Ödeme, Kredi şeklinde mi ödenecek ?
B18: 3.1 | C18: 55 Sıra Nolu Muhasebat Genel Müdürlüğü Ön Ödeme Usul ve Esasları Genel Tebliği Ek-2'de yer alan kurumlardan mı alım yapılmış?
B19: 3.2 | C19: Alınacak mal/malzeme isim listesi mevcut mu?
B20: 3.3 | C20: İlgili kurum Sayfasından alınan e-Satış Müşteri Sepet Listesi mevcut mu?
B21: 3.4 | C21: Alınacak Mal ve Malzeme Tasarruf Tedbirleri Genelgesi kapsamında üst yönetici onay/olur Mevcut mu?
B22: 4.1 | C22: Ödeme Emri Belgesi üzerinden Diğer Ödemelere Ait Damga Vergisi doğru olarak kesilmiş mi?
B23: 4.2 | C23: Damga Vergisi Detay Kodu doğru seçilmiş mi?
B24: 5 | C24: Ödeme Emri Belgesinde yer alan bütçe tertibi doğru olarak seçilmiş mi?
... B27: 8 | C27: Stratejik Plan-Performans Programı-Bütçe-Harcama İlişkilendirme Tablosu mevcut mu?(01.01.2027 tarihi itibarıyla eklenecektir.)
B28: 9 | C28: Ödeme Emri Belgesi'ndeki imzalar dönem başı bildirilen yetkili çizelgesine uygun mu?
B29: 9.1 | C29: Ödeme Emri Belgesi, yetki çizelgesinde belirtilmeyen personel tarafından imzalandı ise yetki devri yapılmış mı?
B30: 9.2 | C30: Yetki devri yapıldığına dair evrak eklendi mi? (Yıllık İzin Formu vb.)
B31: Kamu Ön Mali Kontrol Yönetmeliği'nin 6. maddesi gereğince hazırlanan bu kontrol listesinde yer alan bilgiler tarafımca kontrol edilmiş olup uygunluğu tasdik olunur. | J31: Gerçekleştirme Görevlisi Adı Soyadı Ünvanı İmza

Sheet EK-52
D2: Mahkeme ve Harç Giderleri Avans Açma ve Kapama Ön Mali Kontrol Listesi | M2: Ana Sayfa
B8: Bütçe Yılı:
B9: Harcama Birimi:
B10: İşin Adı:
B11: Sıra No | C11: Kontrol Edilecek Bilgi ve Belgeler | J11: Evet | K11: Hayır | L11: Açıklamalar
B12: 1 | C12: Avans ve Kredi verilme evrakındaki Harcama Talimatı Onay Belgesi mevcut mu?
B13: 2 | C13: Avansın ve Kredinin ne kadar çekildiğini gösteren Ödeme Emri Belgesi mevcut mu?
B14: 3 | C14: Tahsilat makbuzu sorumlu kişilerce kontrol edilerek kaşe imza yapıldı mı?
B15: 4 | C15: Çekilen avans süresi içerisinde mahsup edildi mi?
B16: 4.1 | C16: Mutemet, işin tamamlanmasından sonra, mahsup süresinin bitimini beklemeden son harcama tarihini takip eden üç iş günü içinde Ön Ödeme Artığını iade edip ve süresinde mahsubunu yaparak hesabını kapattı mı?
B17: 4.2 | C17: İlgili mutemet her halükârda harcadığı tutara ilişkin kanıtlayıcı belgeleri bir ay içerisinde ön ödeme artığını varsa iade edip ve süresinde mahsubunu yaparak hesabını kapattı mı?
B18: 4.3 | C18: Ön ödeme süresi içeresinde kapatılmamışsa gecikme faizi hesaplanıp tutara ait dekont eklenmiş mi?
B19: 5 | C19: Mahkeme, icra dairesi veya noterce düzenlenen alındı,
B20: 6 | C20: Alındı verilemeyen hallerde; davayı kovuşturan tarafından düzenlenip ilgili mahkeme veya dairelerce onaylanan Mahkeme Giderleri Listesi,
B21: 7 | C21: Ödemeye ilişkin Harcama Talimatı belgesi,
B22: 8 | C22: Ödemenin hangi Bütçe tertibinden harcanacağını gösterir yazı,
B23: 9 | C23: Hukuk Müşavirliği onay yazısı,
B24: 10 | C24: Ödemenin Ulusal Yargı Ağı Projesi (UYAP) ile ilişkili olarak elektronik ortamda gerçekleşmesi halinde; Ödemeyi yapan idare, başvuru yapılan mahkeme veya icra dairesi, dosya numarası, yapılan ödemenin çeşidi ve tutarı bilgilerini içeren UYAP Bilişim Sisteminden veya UYAP Bilişim Sisteminin altyapısının kurulu olduğu yurt içinde yerleşik bankadan alınacak onaylı liste.
B25: 11 | C25: Stratejik Plan-Performans Programı-Bütçe-Harcama İlişkilendirme Tablosu mevcut mu? (01.01.2027 tarihi itibarıyla eklenecektir.)
... B28: 12.2 | C28: Yetki devri yapıldığına dair evrak eklendi mi? (Yıllık İzin Formu vb.)
B29: Kamu Ön Mali Kontrol Yönetmeliği'nin 6. maddesi gereğince hazırlanan bu kontrol listesinde yer alan bilgiler tarafımca kontrol edilmiş olup uygunluğu tasdik olunur. | J29: Gerçekleştirme Görevlisi Adı Soyadı Ünvanı İmza

Sheet EK-51
D2: Spor Organizasyonları Hakem-Sağlık Personeli Ücret Ödemelerine İlişkin Ön Mali Kontrol Listesi | M2: Ana Sayfa
B7: EK-51
B8: Bütçe Yılı:
B9: Harcama Birimi:
B10: İşin Adı:
B11: Sıra No | C11: Kontrol Edilecek Bilgi ve Belgeler | J11: Evet | K11: Hayır | L11: Açıklamalar
B12: 1 | C12: Harcama Talimatı Onay Belgesi mevcut mu?
B13: 1.1 | C13: Harcama talimatının hukuki dayanağı ve gerekçesi mahiyetine uygun mu?
B14: 1.2 | C14: Gerçekleştirme Usulü mahiyetine uygun mu?
B15: 1.3 | C15: Seçilen Bütçe Tertibi harcamanın türüne uygun mu?
B16: 2 | C16: Organizasyon boyunca görev yapacak hakem ve sağlık personeline ödeme yapılabilmesi için rektörlük makamından olur alınmış mı?
B17: 3 | C17: Spor organizyonunun türüne göre değişen hakem ücretlerine ait katsayıları gösteren ücret tarifesi eklenmiş mi?
B18: 4 | C18: Çeşitli Ödemeler Bordrosu mevcut mu?
B19: 4.1 | C19: Çeşitli ödemeler bordrosunda yer alan memur maaş aylık katsayısı müsabakaların yapıldığı tarihde ki maaş katsayısı mı ?
B20: 4.2 | C20: Hakem yada sağlık personeline ait ücret gösterge sayısı ücret tarifesi kategorisinde belirlenen rakam ile uyumlu mu ?
B21: 4.3 | C21: Memur maaş aylık katsayısı * Ücret gösterge sayısı * görev sayısının çarpımları doğru hesaplanmış mı ?
B22: 4.4 | C22: Çeşitli Ödemeler Bordrosu ilgililerce imzalanmış mı?
B23: 4.5 | C23: Ücret ve Ücret Sayılanlardan Kesilen Damga Vergisi Doğru hesaplanmış mı?
... B32: 10.2 | C32: Yetki devri yapıldığına dair evrak eklendi mi? (Yıllık İzin Formu vb.)
B33: Kamu Ön Mali Kontrol Yönetmeliği'nin 6. maddesi gereğince hazırlanan bu kontrol listesinde yer alan bilgiler tarafımca kontrol edilmiş olup uygunluğu tasdik olunur. | J33: Gerçekleştirme Görevlisi Adı Soyadı Ünvanı İmza

Sheet EK-50
D2: Basın İlan Giderleri Ödemesine İlişkin Ön Mali Kontrol Listesi | M2: Ana Sayfa
B7: EK-50
B8: Bütçe Yılı:
B9: Harcama Birimi:
B10: İşin Adı:
B11: Sıra No | C11: Kontrol Edilecek Bilgi ve Belgeler | J11: Evet | K11: Hayır | L11: Açıklamalar
B12: 1 | C12: Harcama Talimatı Onay Belgesi mevcut mu?
B13: 1.1 | C13: Harcama talimatının hukuki dayanağı ve gerekçesi mahiyetine uygun mu?
B14: 1.2 | C14: Gerçekleştirme Usulü mahiyetine uygun mu?
B15: 1.3 | C15: Seçilen Bütçe Tertibi harcamanın türüne uygun mu?
B16: 2 | C16: 4734 Sayılı kanunun 13. maddesine istinaden yapılan ve yaklaşık maliyetin tutarına göre değişen ilanda kalma sürelerine uyulmuş mu?
B17: 2.1 | C17: 4734 Sayılı kanunun 13. maddesi gereği yerel gazetede yapılan ilan tutanağı mevcut mu?
B18: 3 | C18: 2886 sayılı kanunun 17. maddesi kapsamında yapılan ve yaklaşık maliyetin tutarına göre değişen ilanda kalma sürelerine uyulmuş mu?
B19: 3.1 | C19: 2886 sayılı kanuna göre yapılan ilanlarda ilan tutanağı mevcut mu?
B20: 4 | C20: Basın ilan kurumu ilan baskı doğrulaması mevcut mu ?
B21: 5 | C21: Stratejik Plan-Performans Programı-Bütçe-Harcama İlişkilendirme Tablosu mevcut mu? (01.01.2027 tarihi itibarıyla eklenecektir.)
B22: 6 | C22: Fatura üzerinde yer alan KDV’siz toplam tutar üzerinden Diğer Ödemelere Ait Damga Vergisi kesildi mi?
B23: 7 | C23: Ödeme Emri Belgesinde yer alan IBAN bilgileri fatura veya IBAN dilekçesi üzerinde yer alan bilgiler uyumlu mu?
B24: 7.1 | C24: Ödeme Emri Belgesinde yer alan Bütçe Tertibi doğru mu?
... B29: 9.2 | C29: Yetki devri yapıldığına dair evrak eklendi mi? (Yıllık İzin Formu vb.)
B30: Kamu Ön Mali Kontrol Yönetmeliği'nin 6. maddesi gereğince hazırlanan bu kontrol listesinde yer alan bilgiler tarafımca kontrol edilmiş olup uygunluğu tasdik olunur. | J30: Gerçekleştirme Görevlisi Adı Soyadı Ünvanı İmza

Sheet EK-49
D1: Emanetlerden Yapılan İadelere İlişkin Ön Mali Kontrol Listesi | M1: Ana Sayfa
B6: EK-49
B7: Bütçe Yılı:
B8: Harcama Birimi:
B9: İşin Adı:
B10: Sıra No | C10: Kontrol Edilecek Bilgi ve Belgeler | J10: Evet | K10: Hayır | L10: Açıklamalar
B11: 1 | C11: Yapılacak iade kişi emanetine alınan ödeme mi?
B12: 1.1 | C12: Kişiden alınan dilekçe (T.C.-Adı Soyadı-IBAN numarası) mevcut mu?
B13: 1.2 | C13: Dekont mevcut mu?
B14: 1.3 | C14: Sistem tarafından verilen kesinti listesi doğru mu?
B15: 1.4 | C15: Sistem tarafından verilen emanet ödemesi doğru mu?
B16: 2 | C16: Yapılacak iade 320 Cari Yıl Emanet Hesabına alınan ödeme mi?
B17: 2.1 | C17: Emanetten ödenecek tutara ait Ödeme Emri Belgesi mevcut mu?
B18: 2.2 | C18: Sistem tarafından verilen kesinti listesi doğru mu?
B19: 2.3 | C19: Sistem tarafından verilen emanet ödemesi doğru mu?
B20: 3 | C20: Yapılacak iade geçici teminat iadesi mi?
B21: 3.1 | C21: Ödendiğine ait dekont mevcut mu?
B22: 3.2 | C22: İlgili kişi- firmaya ait dilekçe mevcut mu?
B23: 4 | C23: Yapılacak iade kesin teminat iadesi mi?
... B33: 6.2 | C33: Yetki devri yapıldığına dair evrak eklendi mi? (Yıllık İzin Formu vb.)
B34: Kamu Ön Mali Kontrol Yönetmeliği'nin 6. maddesi gereğince hazırlanan bu kontrol listesinde yer alan bilgiler tarafımca kontrol edilmiş olup uygunluğu tasdik olunur. | J34: Gerçekleştirme Görevlisi Adı Soyadı Ünvanı İmza

Sheet EK-48
D2: Ret ve İade İşlemlerine İlişkin Ön Mali Kontrol Listesi | M2: Ana Sayfa
B7: EK-48
B8: Bütçe Yılı:
B9: Harcama Birimi:
B10: İşin Adı:
B11: Sıra No | C11: Kontrol Edilecek Bilgi ve Belgeler | J11: Evet | K11: Hayır | L11: Açıklamalar
B12: 1 | C12: Yapılacak İade Katkı Payı/Öğrenim Ücreti/Harç İadesi ödemesi mi?
B13: 1.1 | C13: Başvuru Formu (Katkı Payı/Öğrenim Ücreti İadesi Formu) mevcut mu?
B14: 1.3 | C14: Harç iade bordrosu düzenlenmiş mi? (Zorunlu)
B15: 1.4 | C15: Dekont ve Harç Durum Raporu mevcut mu?
B16: 1.5 | C16: İade talebi katkı payları ve öğrenim ücretlerinin tespiti hakkında verilen Cumhurbaşkanı Kararına uygun mu?
B17: 1.6 | C17: Ödeme Emri Belgesinde (Başvuru formu,harç durum raporu, dekont), iade talebine konu olan öğrenci veya kişi adına işlem yapılmışsa ilgili kişinin bilgileri açık ve anlaşılır bir şekilde yazılı mı?
B18: 2 | C18: Yapılacak İade SKS - Yemek Bedeli iadesi ödemesi mi?
B19: 2.1 | C19: Öğrenci ve Personel Para İadesi Talep Formu mevcut mu?
B20: 2.2 | C20: Ödeme Emri Belgesinde (Öğrenci ve Personel Para İadesi Talep Formu) iade talebine konu olan öğrenci veya kişi adına işlem yapılmışsa ilgili kişinin bilgileri açık ve anlaşılır bir şekilde yazılı mı?
B21: 3 | C21: Yapılacak İade Lojman Kira İadesi ödemesi mi?
B22: 3.1 | C22: İdari Mali İşler Daire Başkanlığından gelen kira kesintisine dair yazı mevcut mu?
B23: 3.2 | C23: Kamu Konutları Geri Alma Tutanağı mevcut mu?
B24: 3.3 | C24: Ödeme Emri Belgesinde (İdari Mali İşlerden Gelen Yaz-Lojman Teslim Tutanağı) iade talebine konu olan kişi adına işlem yapılmışsa ilgili kişinin bilgileri açık ve anlaşılır bir şekilde yazılı mı?
... B28: 5.2 | C28: Yetki devri yapıldığına dair evrak eklendi mi? (Yıllık İzin Formu vb.)
B29: Kamu Ön Mali Kontrol Yönetmeliği'nin 6. maddesi gereğince hazırlanan bu kontrol listesinde yer alan bilgiler tarafımca kontrol edilmiş olup uygunluğu tasdik olunur. | J29: Gerçekleştirme Görevlisi Adı Soyadı Ünvanı İmza

Sheet EK-47
A1: HARCAMA BİRİMLERİ ÖMK LİSTELERİ'!A1
D2: YÖK Lisans Destek Bursu Ödemelerine İlişkin Ön Mali Kontrol Listesi | M2: Ana Sayfa
B7: EK-47
B8: Bütçe Yılı:
B9: Harcama Birimi:
B10: İşin Adı:
B11: Sıra No | C11: Kontrol Edilecek Bilgi ve Belgeler | J11: Evet | K11: Hayır | L11: Açıklamalar
B12: 1 | C12: Harcama Talimatı Onay Belgesi mevcut mu?
B13: 1.1 | C13: Harcama Talimatının hukuki dayanağı ve gerekçesi mahiyetine uygun mu?
B14: 1.2 | C14: Gerçekleştirme Usulü mahiyetine uygun mu?
B15: 1.3 | C15: Ödeneğin Bütçe Tertibi olarak “Yurt İçi Burslar ve Harçlıklar” kodu mu seçilmiş?
B16: 1.4 | C16: Harcamaya ilişkin diğer açıklamalara yer verilmiş mi?
B17: 2 | C17: Ödeme yapılacak öğrencilerin başarı durum belgesi (transkript) var mı?
B18: 2.1 | C18: Ödeme yapılacak öğrencilerin transkript kontrol edilerek yetkili tarafından mühür ve imza yapıldı mı? (Başarı durumu hesaplanırken öğrencinin bitirdiği eğitim öğretim yılını takip eden Eylül ayında belirlenen ağırlıklı genel not ortalaması genel not ortalamasının yıllık olarak 2,50 veya 65 üzeri olmalıdır. Bu şartlar sağlanmadı takdirde bursu kesilir.)
B19: 2.2 | C19: Yükseköğretim Kurumları tarafından burs ödemeleri gerçekleştirilmeden önce bursiyerlerin burs şartlarını kaybetmesi halinde, burs miktarları bu durumun ortaya çıktığı günü takip eden en geç 1 ay içerisinde YÖK muhasebe birimi hesaplarına aktarılır ve buna ilişkin bilgi Yükseköğretim Proje Geliştirme ve Destekleme Dairesi Başkanlığına YÖK Bursları Takip Sistemi üzerinden ve ayrıca resmi yazı ile iletilir. Belirlenen sürede aktarılmayan tutarlar ilgili üniversite adına kişi borçları hesabına alınarak faiziyle birlikte tahsil edilir hükmü gereğince iade işlemi için gerekli mevzuata uyuldu mu?
B20: 3 | C20: YÖK Lisans Destek Bursu Giderler Bordrosu var mı?
B21: 3.1 | C21: YÖK Lisans Destek Bursu Giderler Bordrosunda ödeme yapılacak öğrencilerin adı soyadı-T.C. Kimlik Numaraları- Ödenecek Burs Miktarına İlişkin İcmal Tablosu yetkili tarafından kontrol edildi mı?
B22: 3.2 | C22: YÖK Lisans Destek Bursu Giderler Bordrosu sorumlu kişiler tarafından imzalandı mı?
B23: 4 | C23: YÖK Lisans Destek Bursu Banka Listesi eklendi mi?
B24: 4.1 | C24: YÖK Lisans Destek Bursu Banka Listesinde ödeme yapılan öğrencilerin ad soyadı- T.C. Kimlik Numaraları Doğru Mu?
... B33: 7.2 | C33: Yetki devri yapıldığına dair evrak eklendi mi? (Yıllık İzin Formu vb.)
B34: Kamu Ön Mali Kontrol Yönetmeliği'nin 6. maddesi gereğince hazırlanan bu kontrol listesinde yer alan bilgiler tarafımca kontrol edilmiş olup uygunluğu tasdik olunur. | J34: Gerçekleştirme Görevlisi Adı Soyadı Ünvanı İmza

Sheet EK-46
A1: E
D2: YÖK Doktora Destek Bursu Ödemelerine İlişkin Ön Mali Kontrol Listesi | M2: Ana Sayfa
B7: EK-46
B8: Bütçe Yılı:
B9: Harcama Birimi:
B10: İşin Adı:
B11: Sıra No | C11: Kontrol Edilecek Bilgi ve Belgeler | J11: Evet | K11: Hayır | L11: Açıklamalar
B12: 1 | C12: Harcama Talimatı Onay Belgesi mevcut mu?
B13: 1.1 | C13: Harcama Talimatının hukuki dayanağı ve gerekçesi mahiyetine uygun mu?
B14: 1.2 | C14: Gerçekleştirme Usulü mahiyetine uygun mu?
B15: 1.3 | C15: Ödeneğin Bütçe Tertibi olarak “Yurt İçi Burslar ve Harçlıklar” kodu mu seçilmiş?
B16: 1.4 | C16: Harcamaya ilişkin diğer açıklamalara yer verilmiş mi?
B17: 2 | C17: Ödeme yapılacak öğrencilerin güncel öğrenci belgesi, transkript ve disiplin cezası almadığına dair belgeleri var mı?
B18: 2.1 | C18: Ödeme yapılacak öğrencilerin transkript kontrol edilerek yetkili tarafından mühür ve imza yapıldı mı? (Başarı durumu hesaplanırken öğrencinin bitirdiği eğitim öğretim yılını takip eden Eylül ayında belirlenen ağırlıklı genel not ortalaması genel not ortalamasının yıllık olarak 2,50 veya 65 üzeri olmalıdır. Bu şartlar sağlanmadı takdirde bursu kesilir.)
B19: 2.2 | C19: Yükseköğretim Kurumları tarafından burs ödemeleri gerçekleştirilmeden önce bursiyerlerin burs şartlarını kaybetmesi halinde, burs miktarları bu durumun ortaya çıktığı günü takip eden en geç 1 ay içerisinde YÖK muhasebe birimi hesaplarına aktarılır ve buna ilişkin bilgi Yükseköğretim Proje Geliştirme ve Destekleme Dairesi Başkanlığına YÖK Bursları Takip Sistemi üzerinden ve ayrıca resmi yazı ile iletilir. Belirlenen sürede aktarılmayan tutarlar ilgili üniversite adına kişi borçları hesabına alınarak faiziyle birlikte tahsil edilir hükmü gereğince iade işlemi için gerekli mevzuata uyuldu mu?
B20: 3 | C20: YÖK Doktora Destek Bursu Giderler Bordrosu var mı?
B21: 3.1 | C21: YÖK Doktora Destek Bursu Giderler Bordrosunda ödeme yapılacak öğrencilerin adı soyadı-T.C. Kimlik Numaraları- Ödenecek Burs Miktarına İlişkin İcmal Tablosu yetkili tarafından kontrol edildi mı?
B22: 3.2 | C22: YÖK doktora destek bursu giderler bordrosunda sorumlu kişiler tarafından imzalandı mı?
B23: 4 | C23: YÖK Doktora Destek Bursu Banka Listesi eklendi mi?
B24: 4.1 | C24: YÖK Doktora Destek Bursu Banka Listesinde ödeme yapılan öğrencilerin ad soyadı- T.C. Kimlik Numaraları Doğru Mu?
B25: 4.1.1 | C25: Ödeme yapılacak öğrencilere ait IBAN Bilgileri ödemenin yapılacağı öğrenci ile aynı kişi mi?
B26: 4.2 | C26: Ödenecek aylık burs miktarı YÖK tarafından belirlenen aylık tutar ile uyumlu mu?
B27: 4.3 | C27: YÖK Doktora Destek Bursu Banka Listesi sorumlu kişilerce imzalandı mı?
B28: 5 | C28: Stratejik Plan-Performans Programı-Bütçe-Harcama İlişkilendirme Tablosu mevcut mu? (01.01.2027 tarihi itibarıyla eklenecektir.)
B29: 6 | C29: Ödeme Emri Belgesinde yer alan IBAN Bilgileri ile YÖK Doktora Destek Bursu Banka Listesinde yer alan IBAN bilgileri uyumlu mu?
B30: 6.1 | C30: Ödeme Emri Belgesinde yer alan Bütçe Tertibi ile Onay Belgesi Üzerinde yer alan Bütçe Tertibi uyumlu mu?
B31: 7 | C31: Ödeme Emri Belgesi'ndeki imzalar dönem başı bildirilen yetkili çizelgesine uygun mu?
B32: 7.1 | C32: Ödeme Emri Belgesi, yetki çizelgesinde belirtilmeyen personel tarafından imzalandı ise yetki devri yapılmış mı?
B33: 7.2 | C33: Yetki devri yapıldığına dair evrak eklendi mi? (Yıllık İzin Formu vb.)
B34: Kamu Ön Mali Kontrol Yönetmeliği'nin 6. maddesi gereğince hazırlanan bu kontrol listesinde yer alan bilgiler tarafımca kontrol edilmiş olup uygunluğu tasdik olunur. | J34: Gerçekleştirme Görevlisi Adı Soyadı Ünvanı İmza

Sheet EK-45
D2: Jüri Üyeliği Ödemelerine İlişkin Ön Mali Kontrol Listesi | M2: Ana Sayfa
B7: EK-45
B8: Bütçe Yılı:
B9: Harcama Birimi:
B10: İşin Adı:
B11: Sıra No | C11: Kontrol Edilecek Bilgi ve Belgeler | J11: Evet | K11: Hayır | L11: Açıklamalar
B12: 1 | C12: Jüri üyesi olarak seçilen kişinin Görevlendirme Yazısı ve Yönetim Kurulu Kararı mevcut mu?
B13: 2 | C13: İlgili kişiye ait Jüri Üyeliği Ücret Beyan Formları mevcut mu?
B14: 2.1 | C14: Beyanda ilgili kişiye ait imza mevcut mu?
B15: 2.2 | C15: Formda IBAN bilgisi mevcut mu?
B16: 2.3 | C16: Jüri Üyeliği Ücret Beyan Formundaki vergi matrahı güncel mi?
B17: 2.4 | C17: Bir yıl içindeki görevlendirme adeti 6 veya 6'dan az mı?
B18: 3 | C18: Çeşitli Ödemeler Bordrosu mevcut mu?
B19: 3.1 | C19: Jürilerde görev alan öğretim üyelerine her bir jüri üyeliği için 3000 gösterge rakamının memur aylık katsayısı ile çarpımı sonucu bulunacak tutardan mı hesaplanmış?
B20: 3.2 | C20: Çeşitli Ödemeler Bordrosu ilgililerce imzalanmış mı?
B21: 3.3 | C21: Gelir Vergisi matrahına göre Gelir Vergisi oranı doğru seçilmiş mi? (Kurum içi personel için güncel vergi matrahı kurum dışı personel için %15 üzerinden kesinti yapıldı mı?)
B22: 3.4 | C22: Ücret ve Ücret Sayılanlardan Kesilen Damga Vergisi Doğru hesaplanmış mı?
B23: 4 | C23: Stratejik Plan-Performans Programı-Bütçe-Harcama İlişkilendirme Tablosu mevcut mu? (01.01.2027 tarihi itibarıyla eklenecektir.)
B24: 5 | C24: Ödeme Emri Belgesinde yer alan IBAN bilgileri ile Ücret Beyan Formunda yer alan bilgiler uyumlu mu?
B25: 5.1 | C25: Stratejik Plan-Performans Programı-Bütçe-Harcama İlişkilendirme Tablosu mevcut mu? (01.01.2027 tarihi itibarıyla eklenecektir.)
... B30: 7.2 | C30: Yetki devri yapıldığına dair evrak eklendi mi? (Yıllık İzin Formu vb.)
B31: Kamu Ön Mali Kontrol Yönetmeliği'nin 6. maddesi gereğince hazırlanan bu kontrol listesinde yer alan bilgiler tarafımca kontrol edilmiş olup uygunluğu tasdik olunur. | J31: Gerçekleştirme Görevlisi Adı Soyadı Ünvanı İmza

Sheet EK44
D2: Döner Sermayeden Aktarılan BAP Paylarına İlişkin Ön Mali Kontrol Listesi | M2: Ana Sayfa
B7: EK-44
B8: Bütçe Yılı:
B9: Harcama Birimi:
B10: İşin Adı:
B11: Sıra No | C11: Kontrol Edilecek Bilgi ve Belgeler | J11: Evet | K11: Hayır | L11: Açıklamalar
B12: 1 | C12: Harcama Talimatı Onay Belgesi mevcut mu?
B13: 1.1 | C13: Harcama talimatının hukuki dayanağı ve gerekçesi mahiyetine uygun mu?
B14: 1.2 | C14: Gerçekleştirme Usulü mahiyetine uygun mu?
B15: 1.3 | C15: Seçilen Bütçe Tertibi harcamanın türüne uygun mu?
B16: 2 | C16: Taban Ödeme Cetveli mevcut mu?
B17: 2.1 | C17: Taban Ödeme Cetvelinde ilgili aya ait ödenecek tutar ile Ödeme Emrinde yer alan tutar aynı mı?
B18: 3 | C18: Ödenek Durum Belgesi Eklendi Mi ?
B19: 4 | C19: Ödeme Emri Belgesinde Yer Alan Bütçe Tertibi Doğru Mu?
B20: 5 | C20: Stratejik Plan-Performans Programı-Bütçe-Harcama İlişkilendirme Tablosu mevcut mu? (01.01.2027 tarihi itibarıyla eklenecektir.)
B21: 6 | C21: Ödeme Emri Belgesi'ndeki imzalar dönem başı bildirilen yetkili çizelgesine uygun mu?
B22: 6.1 | C22: Ödeme Emri Belgesi, yetki çizelgesinde belirtilmeyen personel tarafından imzalandı ise yetki devri yapılmış mı?
B23: 6.2 | C23: Yetki devri yapıldığına dair evrak eklendi mi? (Yıllık İzin Formu vb.)
B24: 7 | C24: Hangi hesaba ne kadar tutarda aktarılacağını belirten üst yazı eklenmiş mi?
B25: Kamu Ön Mali Kontrol Yönetmeliği'nin 6. maddesi gereğince hazırlanan bu kontrol listesinde yer alan bilgiler tarafımca kontrol edilmiş olup uygunluğu tasdik olunur. | J25: Gerçekleştirme Görevlisi Adı Soyadı Ünvanı İmza

Sheet EK-43
D2: Temsil Ağırlama Giderlerine İlişkin Ön Mali Kontrol Listesi | M2: Ana Sayfa
B7: EK-43
B8: Bütçe Yılı:
B9: Harcama Birimi:
B10: İşin Adı:
B11: Sıra No | C11: Kontrol Edilecek Bilgi ve Belgeler | J11: Evet | K11: Hayır | L11: Açıklamalar
B12: 1 | C12: Harcama Talimatı Onay Belgesi mevcut mu?
B13: 1.1 | C13: Harcama talimatının hukuki dayanağı ve gerekçesi mahiyetine uygun mu?
B14: 1.2 | C14: Gerçekleştirme Usulü mahiyetine uygun mu?
B15: 1.3 | C15: Seçilen Bütçe Tertibi harcamanın türüne uygun mu?
B16: 1.4 | C16: Harcama Talimatı üzerinde yaklaşık maliyet belirlenmişse Yaklaşık Maliyet Hesap Cetveli mevcut mu?
B17: 2 | C17: Mihmandar Hesap Cetveli eklenmiş mi?
B18: 2.1 | C18: Mihmandar Hesap Cetvelinde, alınan mal veya hizmet ayrıntılı ve açıklayıcı bir şekilde yazılmış mı?
B19: 2.2 | C19: Mihamandar Hesap Cetveli Yetkililer tarafından imzalanmış mı?
B20: 3 | C20: Piyasa Fiyat Araştırma Tutanağı eklenmiş mi?
B21: 3.1 | C21: Piyasa Fiyat Araştırma Tutanağında yer alan malzemelerin adet ve birim fiyatlarının çarpımı doğru hesaplanmış mı?
B22: 3.3 | C22: Piyasa Fiyat Araştırma Tutanağının tarihi, Harcama Talimatı/Onay Belgesi tarihi ile aynı veya sonra mı?
B23: 3.4 | C23: Piyasa Fiyat Araştırma Tutanağı, piyasa fiyat araştırması görevlileri tarafında imzalanmış mı?
... B48: 9 | C48: Alınan mal veya hizmet Tasarruf Tedbirleri Genelgesi ile uyumlu mu?
B49: 10 | C49: Ödeme Emri Belgesi'ndeki imzalar dönem başı bildirilen yetkili çizelgesine uygun mu?
B50: 10.1 | C50: Ödeme Emri Belgesi, yetki çizelgesinde belirtilmeyen personel tarafından imzalandı ise yetki devri yapılmış mı?
B51: 10.2 | C51: Yetki devri yapıldığına dair evrak eklendi mi? (Yıllık İzin Formu vb.)
B52: Kamu Ön Mali Kontrol Yönetmeliği'nin 6. maddesi gereğince hazırlanan bu kontrol listesinde yer alan bilgiler tarafımca kontrol edilmiş olup uygunluğu tasdik olunur. | J52: Gerçekleştirme Görevlisi Adı Soyadı Ünvanı İmza

Sheet EK-42
D2: Avukat Vekalet Ücreti Ödemelerine İlişkin Ön Mali Kontrol Listesi | M2: Ana Sayfa
B7: EK-42
B8: Bütçe Yılı:
B9: Harcama Birimi:
B10: İşin Adı:
B11: Sıra No | C11: Kontrol Edilecek Bilgi ve Belgeler | J11: Evet | K11: Hayır | L11: Açıklamalar
B12: 1 | C12: Harcama Talimatı Onay Belgesi mevcut mu?
B13: 1.1 | C13: Harcama talimatının hukuki dayanağı ve gerekçesi mahiyetine uygun mu?
B14: 1.2 | C14: Gerçekleştirme Usulü mahiyetine uygun mu?
B15: 1.3 | C15: Seçilen Bütçe Tertibi harcamanın türüne uygun mu?
B16: 2 | C16: Mahkeme Kararı, ilgili ödemeye eklendi mi?
B17: 3 | C17: Vekalet ücretinin ödenmesi için ilgili avukat tarafından Talep Dilekçesi alındı mı?
B18: 3.1 | C18: Talep dilekçesinde ödemenin yapılacağı IBAN numarası mevcut mu?
B19: 3.2 | C19: Talep dilekçesine Vekaletname eklenmiş mi?
B20: 4 | C20: e-Serbest Meslek Makbuzu eklenmiş mi?
B21: 4.1 | C21: e-Serbest Meslek Makbuzunda gelir vergisi stopaj oranı doğru kesilmiş mi?
B22: 4.2 | C22: e-Serbest Meslek Makbuzunda tevkifat tutarı doğru hesaplanmış mı?
B23: 4.3 | C23: e-Serbest Meslek Makbuzu sorgulamayı yapan görevli tarafından kontrol edilerek kaşelenip imzalandı mı?
B24: 5 | C24: Gelir İdaresi Başkanlığından alınan Vergi Borcu Sorgusu mevcut mu?
... B28: 6 | C28: Stratejik Plan-Performans Programı-Bütçe-Harcama İlişkilendirme Tablosu mevcut mu?(01.01.2027 tarihi itibarıyla eklenecektir.)
B29: 7 | C29: Ödeme Emri Belgesinde yer alan IBAN Bilgileri ile e-Serbest Meslek Makbuzu/Avukat Talep Dilekçesi üzerinde yer alan bilgiler uyumlu mu?
B30: 7.1 | C30: Ödeme Emri Belgesinde yer alan Bütçe Tertibi doğru mu?
B31: 7.2 | C31: Fatura üzerinde yer alan KDV’siz toplam tutar üzerinden Diğer Ödemelere Ait Damga Vergisi kesildi mi?
B32: 7.3 | C32: Tevkifata tabi işlemlerde Ödeme Emri Belgesi Üzerinden tevkifat tutarı doğru kesilmiş mi?
B33: 8 | C33: Damga Vergisi Detay Kodu doğru seçilmiş mi?
B34: 8.1 | C34: Damga vergii kesintisi doğru hesaplanmıs mı?
B35: 9 | C35: Ödeme Emri Belgesi'ndeki imzalar dönem başı bildirilen yetkili çizelgesine uygun mu?
B36: 9.1 | C36: Ödeme Emri Belgesi, yetki çizelgesinde belirtilmeyen personel tarafından imzalandı ise yetki devri yapılmış mı?
B37: 9.2 | C37: Yetki devri yapıldığına dair evrak eklendi mi? (Yıllık İzin Formu vb.)
